BEGIN:VCALENDAR
VERSION:2.0
PRODID:-//YGAMETIME.com//YGT iCal Creator//EN
METHOD:PUBLISH
X-PUBLISHED-TTL:PT6H
REFRESH-INTERVAL;VALUE=DURATION:PT6H
CALSCALE:GREGORIAN
X-WR-CALNAME:YGAMETIME CALENDAR
BEGIN:VTIMEZONE
TZID:America/New_York
X-LIC-LOCATION:America/New_York
BEGIN:DAYLIGHT
TZOFFSETFROM:-0500
TZOFFSETTO:-0400
TZNAME:EDT
DTSTART:19700308T020000
RRULE:FREQ=YEARLY;BYMONTH=3;BYDAY=2SU
END:DAYLIGHT
BEGIN:STANDARD
TZOFFSETFROM:-0400
TZOFFSETTO:-0500
TZNAME:EST
DTSTART:19701101T020000
RRULE:FREQ=YEARLY;BYMONTH=11;BYDAY=1SU
END:STANDARD
END:VTIMEZONE
BEGIN:VEVENT
UID:indianland-591944@ygametime.com
DTSTAMP:20260314T163000Z
DTSTART;TZID=America/New_York:20260314T123000
DURATION:PT0H60M0S
SUMMARY:Chaos vs Mini United
DESCRIPTION:7-8 | Soccer\nIndian Land YMCA\n
URL;VALUE=URI:https://ygametime.com/branch/indianland/sports/2026-spring-soccer/25527/?utm_medium=calendar&utm_source=team_cal&utm_content=league_url#game-591944
LOCATION:Field 4
BEGIN:VALARM
TRIGGER:-P2H
ACTION:DISPLAY
DESCRIPTION:Chaos vs Mini United
END:VALARM
END:VEVENT
BEGIN:VEVENT
UID:indianland-591946@ygametime.com
DTSTAMP:20260321T143000Z
DTSTART;TZID=America/New_York:20260321T103000
DURATION:PT0H60M0S
SUMMARY:The Wolfpack vs Chaos
DESCRIPTION:7-8 | Soccer\nIndian Land YMCA\n
URL;VALUE=URI:https://ygametime.com/branch/indianland/sports/2026-spring-soccer/25527/?utm_medium=calendar&utm_source=team_cal&utm_content=league_url#game-591946
LOCATION:Field 4
BEGIN:VALARM
TRIGGER:-P2H
ACTION:DISPLAY
DESCRIPTION:The Wolfpack vs Chaos
END:VALARM
END:VEVENT
BEGIN:VEVENT
UID:indianland-591950@ygametime.com
DTSTAMP:20260328T143000Z
DTSTART;TZID=America/New_York:20260328T103000
DURATION:PT0H60M0S
SUMMARY:Chaos vs Madrid
DESCRIPTION:7-8 | Soccer\nIndian Land YMCA\n
URL;VALUE=URI:https://ygametime.com/branch/indianland/sports/2026-spring-soccer/25527/?utm_medium=calendar&utm_source=team_cal&utm_content=league_url#game-591950
LOCATION:Field 4
BEGIN:VALARM
TRIGGER:-P2H
ACTION:DISPLAY
DESCRIPTION:Chaos vs Madrid
END:VALARM
END:VEVENT
BEGIN:VEVENT
UID:indianland-591954@ygametime.com
DTSTAMP:20260404T143000Z
DTSTART;TZID=America/New_York:20260404T103000
DURATION:PT0H60M0S
SUMMARY:Liberty vs Chaos
DESCRIPTION:7-8 | Soccer\nIndian Land YMCA\n
URL;VALUE=URI:https://ygametime.com/branch/indianland/sports/2026-spring-soccer/25527/?utm_medium=calendar&utm_source=team_cal&utm_content=league_url#game-591954
LOCATION:Field 4
BEGIN:VALARM
TRIGGER:-P2H
ACTION:DISPLAY
DESCRIPTION:Liberty vs Chaos
END:VALARM
END:VEVENT
BEGIN:VEVENT
UID:indianland-591963@ygametime.com
DTSTAMP:20260418T153000Z
DTSTART;TZID=America/New_York:20260418T113000
DURATION:PT0H60M0S
SUMMARY:Panthers vs Chaos
DESCRIPTION:7-8 | Soccer\nIndian Land YMCA\n
URL;VALUE=URI:https://ygametime.com/branch/indianland/sports/2026-spring-soccer/25527/?utm_medium=calendar&utm_source=team_cal&utm_content=league_url#game-591963
LOCATION:Field 4
BEGIN:VALARM
TRIGGER:-P2H
ACTION:DISPLAY
DESCRIPTION:Panthers vs Chaos
END:VALARM
END:VEVENT
BEGIN:VEVENT
UID:indianland-591969@ygametime.com
DTSTAMP:20260425T173000Z
DTSTART;TZID=America/New_York:20260425T133000
DURATION:PT0H60M0S
SUMMARY:Chaos vs Raptors
DESCRIPTION:7-8 | Soccer\nIndian Land YMCA\n
URL;VALUE=URI:https://ygametime.com/branch/indianland/sports/2026-spring-soccer/25527/?utm_medium=calendar&utm_source=team_cal&utm_content=league_url#game-591969
LOCATION:Field 4
BEGIN:VALARM
TRIGGER:-P2H
ACTION:DISPLAY
DESCRIPTION:Chaos vs Raptors
END:VALARM
END:VEVENT
BEGIN:VEVENT
UID:indianland-591973@ygametime.com
DTSTAMP:20260502T173000Z
DTSTART;TZID=America/New_York:20260502T133000
DURATION:PT0H60M0S
SUMMARY:Chaos vs Tar Heels
DESCRIPTION:7-8 | Soccer\nIndian Land YMCA\n
URL;VALUE=URI:https://ygametime.com/branch/indianland/sports/2026-spring-soccer/25527/?utm_medium=calendar&utm_source=team_cal&utm_content=league_url#game-591973
LOCATION:Field 4
BEGIN:VALARM
TRIGGER:-P2H
ACTION:DISPLAY
DESCRIPTION:Chaos vs Tar Heels
END:VALARM
END:VEVENT
END:VCALENDAR

