BEGIN:VCALENDAR
VERSION:2.0
PRODID:-//YGAMETIME.com//YGT iCal Creator//EN
METHOD:PUBLISH
X-PUBLISHED-TTL:PT6H
REFRESH-INTERVAL;VALUE=DURATION:PT6H
CALSCALE:GREGORIAN
X-WR-CALNAME:YGAMETIME CALENDAR
BEGIN:VTIMEZONE
TZID:America/New_York
X-LIC-LOCATION:America/New_York
BEGIN:DAYLIGHT
TZOFFSETFROM:-0500
TZOFFSETTO:-0400
TZNAME:EDT
DTSTART:19700308T020000
RRULE:FREQ=YEARLY;BYMONTH=3;BYDAY=2SU
END:DAYLIGHT
BEGIN:STANDARD
TZOFFSETFROM:-0400
TZOFFSETTO:-0500
TZNAME:EST
DTSTART:19701101T020000
RRULE:FREQ=YEARLY;BYMONTH=11;BYDAY=1SU
END:STANDARD
END:VTIMEZONE
BEGIN:VEVENT
UID:indianland-591943@ygametime.com
DTSTAMP:20260314T153000Z
DTSTART;TZID=America/New_York:20260314T113000
DURATION:PT0H60M0S
SUMMARY:Tar Heels vs Liberty
DESCRIPTION:7-8 | Soccer\nIndian Land YMCA\n
URL;VALUE=URI:https://ygametime.com/branch/indianland/sports/2026-spring-soccer/25527/?utm_medium=calendar&utm_source=team_cal&utm_content=league_url#game-591943
LOCATION:Field 4
BEGIN:VALARM
TRIGGER:-P2H
ACTION:DISPLAY
DESCRIPTION:Tar Heels vs Liberty
END:VALARM
END:VEVENT
BEGIN:VEVENT
UID:indianland-591949@ygametime.com
DTSTAMP:20260321T173000Z
DTSTART;TZID=America/New_York:20260321T133000
DURATION:PT0H60M0S
SUMMARY:Mini United vs Tar Heels
DESCRIPTION:7-8 | Soccer\nIndian Land YMCA\n
URL;VALUE=URI:https://ygametime.com/branch/indianland/sports/2026-spring-soccer/25527/?utm_medium=calendar&utm_source=team_cal&utm_content=league_url#game-591949
LOCATION:Field 4
BEGIN:VALARM
TRIGGER:-P2H
ACTION:DISPLAY
DESCRIPTION:Mini United vs Tar Heels
END:VALARM
END:VEVENT
BEGIN:VEVENT
UID:indianland-591953@ygametime.com
DTSTAMP:20260328T173000Z
DTSTART;TZID=America/New_York:20260328T133000
DURATION:PT0H60M0S
SUMMARY:Panthers vs Tar Heels
DESCRIPTION:7-8 | Soccer\nIndian Land YMCA\n
URL;VALUE=URI:https://ygametime.com/branch/indianland/sports/2026-spring-soccer/25527/?utm_medium=calendar&utm_source=team_cal&utm_content=league_url#game-591953
LOCATION:Field 4
BEGIN:VALARM
TRIGGER:-P2H
ACTION:DISPLAY
DESCRIPTION:Panthers vs Tar Heels
END:VALARM
END:VEVENT
BEGIN:VEVENT
UID:indianland-591955@ygametime.com
DTSTAMP:20260404T153000Z
DTSTART;TZID=America/New_York:20260404T113000
DURATION:PT0H60M0S
SUMMARY:Tar Heels vs Raptors
DESCRIPTION:7-8 | Soccer\nIndian Land YMCA\n
URL;VALUE=URI:https://ygametime.com/branch/indianland/sports/2026-spring-soccer/25527/?utm_medium=calendar&utm_source=team_cal&utm_content=league_url#game-591955
LOCATION:Field 4
BEGIN:VALARM
TRIGGER:-P2H
ACTION:DISPLAY
DESCRIPTION:Tar Heels vs Raptors
END:VALARM
END:VEVENT
BEGIN:VEVENT
UID:indianland-591962@ygametime.com
DTSTAMP:20260418T143000Z
DTSTART;TZID=America/New_York:20260418T103000
DURATION:PT0H60M0S
SUMMARY:Tar Heels vs The Wolfpack
DESCRIPTION:7-8 | Soccer\nIndian Land YMCA\n
URL;VALUE=URI:https://ygametime.com/branch/indianland/sports/2026-spring-soccer/25527/?utm_medium=calendar&utm_source=team_cal&utm_content=league_url#game-591962
LOCATION:Field 4
BEGIN:VALARM
TRIGGER:-P2H
ACTION:DISPLAY
DESCRIPTION:Tar Heels vs The Wolfpack
END:VALARM
END:VEVENT
BEGIN:VEVENT
UID:indianland-591967@ygametime.com
DTSTAMP:20260425T153000Z
DTSTART;TZID=America/New_York:20260425T113000
DURATION:PT0H60M0S
SUMMARY:Madrid vs Tar Heels
DESCRIPTION:7-8 | Soccer\nIndian Land YMCA\n
URL;VALUE=URI:https://ygametime.com/branch/indianland/sports/2026-spring-soccer/25527/?utm_medium=calendar&utm_source=team_cal&utm_content=league_url#game-591967
LOCATION:Field 4
BEGIN:VALARM
TRIGGER:-P2H
ACTION:DISPLAY
DESCRIPTION:Madrid vs Tar Heels
END:VALARM
END:VEVENT
BEGIN:VEVENT
UID:indianland-591973@ygametime.com
DTSTAMP:20260502T173000Z
DTSTART;TZID=America/New_York:20260502T133000
DURATION:PT0H60M0S
SUMMARY:Chaos vs Tar Heels
DESCRIPTION:7-8 | Soccer\nIndian Land YMCA\n
URL;VALUE=URI:https://ygametime.com/branch/indianland/sports/2026-spring-soccer/25527/?utm_medium=calendar&utm_source=team_cal&utm_content=league_url#game-591973
LOCATION:Field 4
BEGIN:VALARM
TRIGGER:-P2H
ACTION:DISPLAY
DESCRIPTION:Chaos vs Tar Heels
END:VALARM
END:VEVENT
END:VCALENDAR

