BEGIN:VCALENDAR
VERSION:2.0
PRODID:-//YGAMETIME.com//YGT iCal Creator//EN
METHOD:PUBLISH
X-PUBLISHED-TTL:PT6H
REFRESH-INTERVAL;VALUE=DURATION:PT6H
CALSCALE:GREGORIAN
X-WR-CALNAME:YGAMETIME CALENDAR
BEGIN:VTIMEZONE
TZID:America/New_York
X-LIC-LOCATION:America/New_York
BEGIN:DAYLIGHT
TZOFFSETFROM:-0500
TZOFFSETTO:-0400
TZNAME:EDT
DTSTART:19700308T020000
RRULE:FREQ=YEARLY;BYMONTH=3;BYDAY=2SU
END:DAYLIGHT
BEGIN:STANDARD
TZOFFSETFROM:-0400
TZOFFSETTO:-0500
TZNAME:EST
DTSTART:19701101T020000
RRULE:FREQ=YEARLY;BYMONTH=11;BYDAY=1SU
END:STANDARD
END:VTIMEZONE
BEGIN:VEVENT
UID:indianland-591942@ygametime.com
DTSTAMP:20260314T143000Z
DTSTART;TZID=America/New_York:20260314T103000
DURATION:PT0H60M0S
SUMMARY:Raptors vs The Wolfpack
DESCRIPTION:7-8 | Soccer\nIndian Land YMCA\n
URL;VALUE=URI:https://ygametime.com/branch/indianland/sports/2026-spring-soccer/25527/?utm_medium=calendar&utm_source=team_cal&utm_content=league_url#game-591942
LOCATION:Field 4
BEGIN:VALARM
TRIGGER:-P2H
ACTION:DISPLAY
DESCRIPTION:Raptors vs The Wolfpack
END:VALARM
END:VEVENT
BEGIN:VEVENT
UID:indianland-591946@ygametime.com
DTSTAMP:20260321T143000Z
DTSTART;TZID=America/New_York:20260321T103000
DURATION:PT0H60M0S
SUMMARY:The Wolfpack vs Chaos
DESCRIPTION:7-8 | Soccer\nIndian Land YMCA\n
URL;VALUE=URI:https://ygametime.com/branch/indianland/sports/2026-spring-soccer/25527/?utm_medium=calendar&utm_source=team_cal&utm_content=league_url#game-591946
LOCATION:Field 4
BEGIN:VALARM
TRIGGER:-P2H
ACTION:DISPLAY
DESCRIPTION:The Wolfpack vs Chaos
END:VALARM
END:VEVENT
BEGIN:VEVENT
UID:indianland-591952@ygametime.com
DTSTAMP:20260328T163000Z
DTSTART;TZID=America/New_York:20260328T123000
DURATION:PT0H60M0S
SUMMARY:The Wolfpack vs Mini United
DESCRIPTION:7-8 | Soccer\nIndian Land YMCA\n
URL;VALUE=URI:https://ygametime.com/branch/indianland/sports/2026-spring-soccer/25527/?utm_medium=calendar&utm_source=team_cal&utm_content=league_url#game-591952
LOCATION:Field 4
BEGIN:VALARM
TRIGGER:-P2H
ACTION:DISPLAY
DESCRIPTION:The Wolfpack vs Mini United
END:VALARM
END:VEVENT
BEGIN:VEVENT
UID:indianland-591956@ygametime.com
DTSTAMP:20260404T163000Z
DTSTART;TZID=America/New_York:20260404T123000
DURATION:PT0H60M0S
SUMMARY:Madrid vs The Wolfpack
DESCRIPTION:7-8 | Soccer\nIndian Land YMCA\n
URL;VALUE=URI:https://ygametime.com/branch/indianland/sports/2026-spring-soccer/25527/?utm_medium=calendar&utm_source=team_cal&utm_content=league_url#game-591956
LOCATION:Field 4
BEGIN:VALARM
TRIGGER:-P2H
ACTION:DISPLAY
DESCRIPTION:Madrid vs The Wolfpack
END:VALARM
END:VEVENT
BEGIN:VEVENT
UID:indianland-591962@ygametime.com
DTSTAMP:20260418T143000Z
DTSTART;TZID=America/New_York:20260418T103000
DURATION:PT0H60M0S
SUMMARY:Tar Heels vs The Wolfpack
DESCRIPTION:7-8 | Soccer\nIndian Land YMCA\n
URL;VALUE=URI:https://ygametime.com/branch/indianland/sports/2026-spring-soccer/25527/?utm_medium=calendar&utm_source=team_cal&utm_content=league_url#game-591962
LOCATION:Field 4
BEGIN:VALARM
TRIGGER:-P2H
ACTION:DISPLAY
DESCRIPTION:Tar Heels vs The Wolfpack
END:VALARM
END:VEVENT
BEGIN:VEVENT
UID:indianland-591966@ygametime.com
DTSTAMP:20260425T143000Z
DTSTART;TZID=America/New_York:20260425T103000
DURATION:PT0H60M0S
SUMMARY:The Wolfpack vs Panthers
DESCRIPTION:7-8 | Soccer\nIndian Land YMCA\n
URL;VALUE=URI:https://ygametime.com/branch/indianland/sports/2026-spring-soccer/25527/?utm_medium=calendar&utm_source=team_cal&utm_content=league_url#game-591966
LOCATION:Field 4
BEGIN:VALARM
TRIGGER:-P2H
ACTION:DISPLAY
DESCRIPTION:The Wolfpack vs Panthers
END:VALARM
END:VEVENT
BEGIN:VEVENT
UID:indianland-591970@ygametime.com
DTSTAMP:20260502T143000Z
DTSTART;TZID=America/New_York:20260502T103000
DURATION:PT0H60M0S
SUMMARY:The Wolfpack vs Liberty
DESCRIPTION:7-8 | Soccer\nIndian Land YMCA\n
URL;VALUE=URI:https://ygametime.com/branch/indianland/sports/2026-spring-soccer/25527/?utm_medium=calendar&utm_source=team_cal&utm_content=league_url#game-591970
LOCATION:Field 4
BEGIN:VALARM
TRIGGER:-P2H
ACTION:DISPLAY
DESCRIPTION:The Wolfpack vs Liberty
END:VALARM
END:VEVENT
END:VCALENDAR

