BEGIN:VCALENDAR
VERSION:2.0
PRODID:-//YGAMETIME.com//YGT iCal Creator//EN
METHOD:PUBLISH
X-PUBLISHED-TTL:PT6H
REFRESH-INTERVAL;VALUE=DURATION:PT6H
CALSCALE:GREGORIAN
X-WR-CALNAME:YGAMETIME CALENDAR
BEGIN:VTIMEZONE
TZID:America/New_York
X-LIC-LOCATION:America/New_York
BEGIN:DAYLIGHT
TZOFFSETFROM:-0500
TZOFFSETTO:-0400
TZNAME:EDT
DTSTART:19700308T020000
RRULE:FREQ=YEARLY;BYMONTH=3;BYDAY=2SU
END:DAYLIGHT
BEGIN:STANDARD
TZOFFSETFROM:-0400
TZOFFSETTO:-0500
TZNAME:EST
DTSTART:19701101T020000
RRULE:FREQ=YEARLY;BYMONTH=11;BYDAY=1SU
END:STANDARD
END:VTIMEZONE
BEGIN:VEVENT
UID:indianland-591945@ygametime.com
DTSTAMP:20260314T173000Z
DTSTART;TZID=America/New_York:20260314T133000
DURATION:PT0H60M0S
SUMMARY:Panthers vs Madrid
DESCRIPTION:7-8 | Soccer\nIndian Land YMCA\n
URL;VALUE=URI:https://ygametime.com/branch/indianland/sports/2026-spring-soccer/25527/?utm_medium=calendar&utm_source=team_cal&utm_content=league_url#game-591945
LOCATION:Field 4
BEGIN:VALARM
TRIGGER:-P2H
ACTION:DISPLAY
DESCRIPTION:Panthers vs Madrid
END:VALARM
END:VEVENT
BEGIN:VEVENT
UID:indianland-591947@ygametime.com
DTSTAMP:20260321T153000Z
DTSTART;TZID=America/New_York:20260321T113000
DURATION:PT0H60M0S
SUMMARY:Liberty vs Panthers
DESCRIPTION:7-8 | Soccer\nIndian Land YMCA\n
URL;VALUE=URI:https://ygametime.com/branch/indianland/sports/2026-spring-soccer/25527/?utm_medium=calendar&utm_source=team_cal&utm_content=league_url#game-591947
LOCATION:Field 4
BEGIN:VALARM
TRIGGER:-P2H
ACTION:DISPLAY
DESCRIPTION:Liberty vs Panthers
END:VALARM
END:VEVENT
BEGIN:VEVENT
UID:indianland-591953@ygametime.com
DTSTAMP:20260328T173000Z
DTSTART;TZID=America/New_York:20260328T133000
DURATION:PT0H60M0S
SUMMARY:Panthers vs Tar Heels
DESCRIPTION:7-8 | Soccer\nIndian Land YMCA\n
URL;VALUE=URI:https://ygametime.com/branch/indianland/sports/2026-spring-soccer/25527/?utm_medium=calendar&utm_source=team_cal&utm_content=league_url#game-591953
LOCATION:Field 4
BEGIN:VALARM
TRIGGER:-P2H
ACTION:DISPLAY
DESCRIPTION:Panthers vs Tar Heels
END:VALARM
END:VEVENT
BEGIN:VEVENT
UID:indianland-591957@ygametime.com
DTSTAMP:20260404T173000Z
DTSTART;TZID=America/New_York:20260404T133000
DURATION:PT0H60M0S
SUMMARY:Mini United vs Panthers
DESCRIPTION:7-8 | Soccer\nIndian Land YMCA\n
URL;VALUE=URI:https://ygametime.com/branch/indianland/sports/2026-spring-soccer/25527/?utm_medium=calendar&utm_source=team_cal&utm_content=league_url#game-591957
LOCATION:Field 4
BEGIN:VALARM
TRIGGER:-P2H
ACTION:DISPLAY
DESCRIPTION:Mini United vs Panthers
END:VALARM
END:VEVENT
BEGIN:VEVENT
UID:indianland-591963@ygametime.com
DTSTAMP:20260418T153000Z
DTSTART;TZID=America/New_York:20260418T113000
DURATION:PT0H60M0S
SUMMARY:Panthers vs Chaos
DESCRIPTION:7-8 | Soccer\nIndian Land YMCA\n
URL;VALUE=URI:https://ygametime.com/branch/indianland/sports/2026-spring-soccer/25527/?utm_medium=calendar&utm_source=team_cal&utm_content=league_url#game-591963
LOCATION:Field 4
BEGIN:VALARM
TRIGGER:-P2H
ACTION:DISPLAY
DESCRIPTION:Panthers vs Chaos
END:VALARM
END:VEVENT
BEGIN:VEVENT
UID:indianland-591966@ygametime.com
DTSTAMP:20260425T143000Z
DTSTART;TZID=America/New_York:20260425T103000
DURATION:PT0H60M0S
SUMMARY:The Wolfpack vs Panthers
DESCRIPTION:7-8 | Soccer\nIndian Land YMCA\n
URL;VALUE=URI:https://ygametime.com/branch/indianland/sports/2026-spring-soccer/25527/?utm_medium=calendar&utm_source=team_cal&utm_content=league_url#game-591966
LOCATION:Field 4
BEGIN:VALARM
TRIGGER:-P2H
ACTION:DISPLAY
DESCRIPTION:The Wolfpack vs Panthers
END:VALARM
END:VEVENT
BEGIN:VEVENT
UID:indianland-591971@ygametime.com
DTSTAMP:20260502T153000Z
DTSTART;TZID=America/New_York:20260502T113000
DURATION:PT0H60M0S
SUMMARY:Raptors vs Panthers
DESCRIPTION:7-8 | Soccer\nIndian Land YMCA\n
URL;VALUE=URI:https://ygametime.com/branch/indianland/sports/2026-spring-soccer/25527/?utm_medium=calendar&utm_source=team_cal&utm_content=league_url#game-591971
LOCATION:Field 4
BEGIN:VALARM
TRIGGER:-P2H
ACTION:DISPLAY
DESCRIPTION:Raptors vs Panthers
END:VALARM
END:VEVENT
END:VCALENDAR

