BEGIN:VCALENDAR
VERSION:2.0
PRODID:-//YGAMETIME.com//YGT iCal Creator//EN
METHOD:PUBLISH
X-PUBLISHED-TTL:PT6H
REFRESH-INTERVAL;VALUE=DURATION:PT6H
CALSCALE:GREGORIAN
X-WR-CALNAME:YGAMETIME CALENDAR
BEGIN:VTIMEZONE
TZID:America/New_York
X-LIC-LOCATION:America/New_York
BEGIN:DAYLIGHT
TZOFFSETFROM:-0500
TZOFFSETTO:-0400
TZNAME:EDT
DTSTART:19700308T020000
RRULE:FREQ=YEARLY;BYMONTH=3;BYDAY=2SU
END:DAYLIGHT
BEGIN:STANDARD
TZOFFSETFROM:-0400
TZOFFSETTO:-0500
TZNAME:EST
DTSTART:19701101T020000
RRULE:FREQ=YEARLY;BYMONTH=11;BYDAY=1SU
END:STANDARD
END:VTIMEZONE
BEGIN:VEVENT
UID:indianland-603342@ygametime.com
DTSTAMP:20260516T130000Z
DTSTART;TZID=America/New_York:20260516T090000
DURATION:PT0H60M0S
SUMMARY:3 vs 1
DESCRIPTION:5-6 | Flag Football\nIndian Land YMCA\n
URL;VALUE=URI:https://ygametime.com/branch/indianland/sports/2026-summer-flag-football/26010/?utm_medium=calendar&utm_source=team_cal&utm_content=league_url#game-603342
LOCATION:Field 2
BEGIN:VALARM
TRIGGER:-P2H
ACTION:DISPLAY
DESCRIPTION:3 vs 1
END:VALARM
END:VEVENT
BEGIN:VEVENT
UID:indianland-603345@ygametime.com
DTSTAMP:20260523T140000Z
DTSTART;TZID=America/New_York:20260523T100000
DURATION:PT0H60M0S
SUMMARY:2 vs 3
DESCRIPTION:5-6 | Flag Football\nIndian Land YMCA\n
URL;VALUE=URI:https://ygametime.com/branch/indianland/sports/2026-summer-flag-football/26010/?utm_medium=calendar&utm_source=team_cal&utm_content=league_url#game-603345
LOCATION:Field 2
BEGIN:VALARM
TRIGGER:-P2H
ACTION:DISPLAY
DESCRIPTION:2 vs 3
END:VALARM
END:VEVENT
BEGIN:VEVENT
UID:indianland-603346@ygametime.com
DTSTAMP:20260530T130000Z
DTSTART;TZID=America/New_York:20260530T090000
DURATION:PT0H60M0S
SUMMARY:3 vs 4
DESCRIPTION:5-6 | Flag Football\nIndian Land YMCA\n
URL;VALUE=URI:https://ygametime.com/branch/indianland/sports/2026-summer-flag-football/26010/?utm_medium=calendar&utm_source=team_cal&utm_content=league_url#game-603346
LOCATION:Field 2
BEGIN:VALARM
TRIGGER:-P2H
ACTION:DISPLAY
DESCRIPTION:3 vs 4
END:VALARM
END:VEVENT
BEGIN:VEVENT
UID:indianland-603349@ygametime.com
DTSTAMP:20260606T140000Z
DTSTART;TZID=America/New_York:20260606T100000
DURATION:PT0H60M0S
SUMMARY:3 vs 1
DESCRIPTION:5-6 | Flag Football\nIndian Land YMCA\n
URL;VALUE=URI:https://ygametime.com/branch/indianland/sports/2026-summer-flag-football/26010/?utm_medium=calendar&utm_source=team_cal&utm_content=league_url#game-603349
LOCATION:Field 2
BEGIN:VALARM
TRIGGER:-P2H
ACTION:DISPLAY
DESCRIPTION:3 vs 1
END:VALARM
END:VEVENT
BEGIN:VEVENT
UID:indianland-603351@ygametime.com
DTSTAMP:20260613T140000Z
DTSTART;TZID=America/New_York:20260613T100000
DURATION:PT0H60M0S
SUMMARY:2 vs 3
DESCRIPTION:5-6 | Flag Football\nIndian Land YMCA\n
URL;VALUE=URI:https://ygametime.com/branch/indianland/sports/2026-summer-flag-football/26010/?utm_medium=calendar&utm_source=team_cal&utm_content=league_url#game-603351
LOCATION:Field 2
BEGIN:VALARM
TRIGGER:-P2H
ACTION:DISPLAY
DESCRIPTION:2 vs 3
END:VALARM
END:VEVENT
BEGIN:VEVENT
UID:indianland-603352@ygametime.com
DTSTAMP:20260620T130000Z
DTSTART;TZID=America/New_York:20260620T090000
DURATION:PT0H60M0S
SUMMARY:3 vs 4
DESCRIPTION:5-6 | Flag Football\nIndian Land YMCA\n
URL;VALUE=URI:https://ygametime.com/branch/indianland/sports/2026-summer-flag-football/26010/?utm_medium=calendar&utm_source=team_cal&utm_content=league_url#game-603352
LOCATION:Field 2
BEGIN:VALARM
TRIGGER:-P2H
ACTION:DISPLAY
DESCRIPTION:3 vs 4
END:VALARM
END:VEVENT
BEGIN:VEVENT
UID:indianland-603354@ygametime.com
DTSTAMP:20260627T130000Z
DTSTART;TZID=America/New_York:20260627T090000
DURATION:PT0H60M0S
SUMMARY:3 vs 1
DESCRIPTION:5-6 | Flag Football\nIndian Land YMCA\n
URL;VALUE=URI:https://ygametime.com/branch/indianland/sports/2026-summer-flag-football/26010/?utm_medium=calendar&utm_source=team_cal&utm_content=league_url#game-603354
LOCATION:Field 2
BEGIN:VALARM
TRIGGER:-P2H
ACTION:DISPLAY
DESCRIPTION:3 vs 1
END:VALARM
END:VEVENT
END:VCALENDAR

