BEGIN:VCALENDAR
VERSION:2.0
PRODID:-//YGAMETIME.com//YGT iCal Creator//EN
METHOD:PUBLISH
X-PUBLISHED-TTL:PT6H
REFRESH-INTERVAL;VALUE=DURATION:PT6H
CALSCALE:GREGORIAN
X-WR-CALNAME:YGAMETIME CALENDAR
BEGIN:VTIMEZONE
TZID:America/New_York
X-LIC-LOCATION:America/New_York
BEGIN:DAYLIGHT
TZOFFSETFROM:-0500
TZOFFSETTO:-0400
TZNAME:EDT
DTSTART:19700308T020000
RRULE:FREQ=YEARLY;BYMONTH=3;BYDAY=2SU
END:DAYLIGHT
BEGIN:STANDARD
TZOFFSETFROM:-0400
TZOFFSETTO:-0500
TZNAME:EST
DTSTART:19701101T020000
RRULE:FREQ=YEARLY;BYMONTH=11;BYDAY=1SU
END:STANDARD
END:VTIMEZONE
BEGIN:VEVENT
UID:indianland-603454@ygametime.com
DTSTAMP:20260516T153000Z
DTSTART;TZID=America/New_York:20260516T113000
DURATION:PT0H60M0S
SUMMARY:4 vs 2
DESCRIPTION:9-10 | Flag Football\nIndian Land YMCA\n
URL;VALUE=URI:https://ygametime.com/branch/indianland/sports/2026-summer-flag-football/26017/?utm_medium=calendar&utm_source=team_cal&utm_content=league_url#game-603454
LOCATION:Field 1
BEGIN:VALARM
TRIGGER:-P2H
ACTION:DISPLAY
DESCRIPTION:4 vs 2
END:VALARM
END:VEVENT
BEGIN:VEVENT
UID:indianland-603456@ygametime.com
DTSTAMP:20260523T153000Z
DTSTART;TZID=America/New_York:20260523T113000
DURATION:PT0H60M0S
SUMMARY:1 vs 4
DESCRIPTION:9-10 | Flag Football\nIndian Land YMCA\n
URL;VALUE=URI:https://ygametime.com/branch/indianland/sports/2026-summer-flag-football/26017/?utm_medium=calendar&utm_source=team_cal&utm_content=league_url#game-603456
LOCATION:Field 1
BEGIN:VALARM
TRIGGER:-P2H
ACTION:DISPLAY
DESCRIPTION:1 vs 4
END:VALARM
END:VEVENT
BEGIN:VEVENT
UID:indianland-603458@ygametime.com
DTSTAMP:20260530T153000Z
DTSTART;TZID=America/New_York:20260530T113000
DURATION:PT0H60M0S
SUMMARY:3 vs 4
DESCRIPTION:9-10 | Flag Football\nIndian Land YMCA\n
URL;VALUE=URI:https://ygametime.com/branch/indianland/sports/2026-summer-flag-football/26017/?utm_medium=calendar&utm_source=team_cal&utm_content=league_url#game-603458
LOCATION:Field 1
BEGIN:VALARM
TRIGGER:-P2H
ACTION:DISPLAY
DESCRIPTION:3 vs 4
END:VALARM
END:VEVENT
BEGIN:VEVENT
UID:indianland-603459@ygametime.com
DTSTAMP:20260606T143000Z
DTSTART;TZID=America/New_York:20260606T103000
DURATION:PT0H60M0S
SUMMARY:4 vs 2
DESCRIPTION:9-10 | Flag Football\nIndian Land YMCA\n
URL;VALUE=URI:https://ygametime.com/branch/indianland/sports/2026-summer-flag-football/26017/?utm_medium=calendar&utm_source=team_cal&utm_content=league_url#game-603459
LOCATION:Field 1
BEGIN:VALARM
TRIGGER:-P2H
ACTION:DISPLAY
DESCRIPTION:4 vs 2
END:VALARM
END:VEVENT
BEGIN:VEVENT
UID:indianland-603461@ygametime.com
DTSTAMP:20260613T143000Z
DTSTART;TZID=America/New_York:20260613T103000
DURATION:PT0H60M0S
SUMMARY:1 vs 4
DESCRIPTION:9-10 | Flag Football\nIndian Land YMCA\n
URL;VALUE=URI:https://ygametime.com/branch/indianland/sports/2026-summer-flag-football/26017/?utm_medium=calendar&utm_source=team_cal&utm_content=league_url#game-603461
LOCATION:Field 1
BEGIN:VALARM
TRIGGER:-P2H
ACTION:DISPLAY
DESCRIPTION:1 vs 4
END:VALARM
END:VEVENT
BEGIN:VEVENT
UID:indianland-603463@ygametime.com
DTSTAMP:20260620T143000Z
DTSTART;TZID=America/New_York:20260620T103000
DURATION:PT0H60M0S
SUMMARY:3 vs 4
DESCRIPTION:9-10 | Flag Football\nIndian Land YMCA\n
URL;VALUE=URI:https://ygametime.com/branch/indianland/sports/2026-summer-flag-football/26017/?utm_medium=calendar&utm_source=team_cal&utm_content=league_url#game-603463
LOCATION:Field 1
BEGIN:VALARM
TRIGGER:-P2H
ACTION:DISPLAY
DESCRIPTION:3 vs 4
END:VALARM
END:VEVENT
BEGIN:VEVENT
UID:indianland-603466@ygametime.com
DTSTAMP:20260627T153000Z
DTSTART;TZID=America/New_York:20260627T113000
DURATION:PT0H60M0S
SUMMARY:4 vs 2
DESCRIPTION:9-10 | Flag Football\nIndian Land YMCA\n
URL;VALUE=URI:https://ygametime.com/branch/indianland/sports/2026-summer-flag-football/26017/?utm_medium=calendar&utm_source=team_cal&utm_content=league_url#game-603466
LOCATION:Field 1
BEGIN:VALARM
TRIGGER:-P2H
ACTION:DISPLAY
DESCRIPTION:4 vs 2
END:VALARM
END:VEVENT
END:VCALENDAR

