BEGIN:VCALENDAR
VERSION:2.0
PRODID:-//YGAMETIME.com//YGT iCal Creator//EN
METHOD:PUBLISH
X-PUBLISHED-TTL:PT6H
REFRESH-INTERVAL;VALUE=DURATION:PT6H
CALSCALE:GREGORIAN
X-WR-CALNAME:YGAMETIME CALENDAR
BEGIN:VTIMEZONE
TZID:America/New_York
X-LIC-LOCATION:America/New_York
BEGIN:DAYLIGHT
TZOFFSETFROM:-0500
TZOFFSETTO:-0400
TZNAME:EDT
DTSTART:19700308T020000
RRULE:FREQ=YEARLY;BYMONTH=3;BYDAY=2SU
END:DAYLIGHT
BEGIN:STANDARD
TZOFFSETFROM:-0400
TZOFFSETTO:-0500
TZNAME:EST
DTSTART:19701101T020000
RRULE:FREQ=YEARLY;BYMONTH=11;BYDAY=1SU
END:STANDARD
END:VTIMEZONE
BEGIN:VEVENT
UID:indianland-603467@ygametime.com
DTSTAMP:20260516T123000Z
DTSTART;TZID=America/New_York:20260516T083000
DURATION:PT0H60M0S
SUMMARY:3 vs 1
DESCRIPTION:11-12 | Flag Football\nIndian Land YMCA\n
URL;VALUE=URI:https://ygametime.com/branch/indianland/sports/2026-summer-flag-football/26018/?utm_medium=calendar&utm_source=team_cal&utm_content=league_url#game-603467
LOCATION:Field 1
BEGIN:VALARM
TRIGGER:-P2H
ACTION:DISPLAY
DESCRIPTION:3 vs 1
END:VALARM
END:VEVENT
BEGIN:VEVENT
UID:indianland-603469@ygametime.com
DTSTAMP:20260523T123000Z
DTSTART;TZID=America/New_York:20260523T083000
DURATION:PT0H60M0S
SUMMARY:2 vs 3
DESCRIPTION:11-12 | Flag Football\nIndian Land YMCA\n
URL;VALUE=URI:https://ygametime.com/branch/indianland/sports/2026-summer-flag-football/26018/?utm_medium=calendar&utm_source=team_cal&utm_content=league_url#game-603469
LOCATION:Field 1
BEGIN:VALARM
TRIGGER:-P2H
ACTION:DISPLAY
DESCRIPTION:2 vs 3
END:VALARM
END:VEVENT
BEGIN:VEVENT
UID:indianland-603472@ygametime.com
DTSTAMP:20260530T133000Z
DTSTART;TZID=America/New_York:20260530T093000
DURATION:PT0H60M0S
SUMMARY:3 vs 4
DESCRIPTION:11-12 | Flag Football\nIndian Land YMCA\n
URL;VALUE=URI:https://ygametime.com/branch/indianland/sports/2026-summer-flag-football/26018/?utm_medium=calendar&utm_source=team_cal&utm_content=league_url#game-603472
LOCATION:Field 1
BEGIN:VALARM
TRIGGER:-P2H
ACTION:DISPLAY
DESCRIPTION:3 vs 4
END:VALARM
END:VEVENT
BEGIN:VEVENT
UID:indianland-603474@ygametime.com
DTSTAMP:20260606T133000Z
DTSTART;TZID=America/New_York:20260606T093000
DURATION:PT0H60M0S
SUMMARY:3 vs 1
DESCRIPTION:11-12 | Flag Football\nIndian Land YMCA\n
URL;VALUE=URI:https://ygametime.com/branch/indianland/sports/2026-summer-flag-football/26018/?utm_medium=calendar&utm_source=team_cal&utm_content=league_url#game-603474
LOCATION:Field 1
BEGIN:VALARM
TRIGGER:-P2H
ACTION:DISPLAY
DESCRIPTION:3 vs 1
END:VALARM
END:VEVENT
BEGIN:VEVENT
UID:indianland-603476@ygametime.com
DTSTAMP:20260613T133000Z
DTSTART;TZID=America/New_York:20260613T093000
DURATION:PT0H60M0S
SUMMARY:2 vs 3
DESCRIPTION:11-12 | Flag Football\nIndian Land YMCA\n
URL;VALUE=URI:https://ygametime.com/branch/indianland/sports/2026-summer-flag-football/26018/?utm_medium=calendar&utm_source=team_cal&utm_content=league_url#game-603476
LOCATION:Field 1
BEGIN:VALARM
TRIGGER:-P2H
ACTION:DISPLAY
DESCRIPTION:2 vs 3
END:VALARM
END:VEVENT
BEGIN:VEVENT
UID:indianland-603477@ygametime.com
DTSTAMP:20260620T123000Z
DTSTART;TZID=America/New_York:20260620T083000
DURATION:PT0H60M0S
SUMMARY:3 vs 4
DESCRIPTION:11-12 | Flag Football\nIndian Land YMCA\n
URL;VALUE=URI:https://ygametime.com/branch/indianland/sports/2026-summer-flag-football/26018/?utm_medium=calendar&utm_source=team_cal&utm_content=league_url#game-603477
LOCATION:Field 1
BEGIN:VALARM
TRIGGER:-P2H
ACTION:DISPLAY
DESCRIPTION:3 vs 4
END:VALARM
END:VEVENT
BEGIN:VEVENT
UID:indianland-603479@ygametime.com
DTSTAMP:20260627T123000Z
DTSTART;TZID=America/New_York:20260627T083000
DURATION:PT0H60M0S
SUMMARY:3 vs 1
DESCRIPTION:11-12 | Flag Football\nIndian Land YMCA\n
URL;VALUE=URI:https://ygametime.com/branch/indianland/sports/2026-summer-flag-football/26018/?utm_medium=calendar&utm_source=team_cal&utm_content=league_url#game-603479
LOCATION:Field 1
BEGIN:VALARM
TRIGGER:-P2H
ACTION:DISPLAY
DESCRIPTION:3 vs 1
END:VALARM
END:VEVENT
END:VCALENDAR

