BEGIN:VCALENDAR
VERSION:2.0
PRODID:-//YGAMETIME.com//YGT iCal Creator//EN
METHOD:PUBLISH
X-PUBLISHED-TTL:PT6H
REFRESH-INTERVAL;VALUE=DURATION:PT6H
CALSCALE:GREGORIAN
X-WR-CALNAME:YGAMETIME CALENDAR
BEGIN:VTIMEZONE
TZID:America/New_York
X-LIC-LOCATION:America/New_York
BEGIN:DAYLIGHT
TZOFFSETFROM:-0500
TZOFFSETTO:-0400
TZNAME:EDT
DTSTART:19700308T020000
RRULE:FREQ=YEARLY;BYMONTH=3;BYDAY=2SU
END:DAYLIGHT
BEGIN:STANDARD
TZOFFSETFROM:-0400
TZOFFSETTO:-0500
TZNAME:EST
DTSTART:19701101T020000
RRULE:FREQ=YEARLY;BYMONTH=11;BYDAY=1SU
END:STANDARD
END:VTIMEZONE
BEGIN:VEVENT
UID:irsay-500289@ygametime.com
DTSTAMP:20241102T130000Z
DTSTART;TZID=America/New_York:20241102T090000
DURATION:PT0H60M0S
SUMMARY:Irsay Ballers Green  vs Irsay Ballers Grey
DESCRIPTION:4-5 | Fall/Winter Rec Basketball\nIrsay Family YMCA\n
URL;VALUE=URI:https://ygametime.com/branch/irsay/sports/2024-fall-fall-winter-rec-basketball/21556/?utm_medium=calendar&utm_source=team_cal&utm_content=league_url#game-500289
LOCATION:Irsay Family YMCA Main Branch
BEGIN:VALARM
TRIGGER:-P2H
ACTION:DISPLAY
DESCRIPTION:Irsay Ballers Green  vs Irsay Ballers Grey
END:VALARM
END:VEVENT
BEGIN:VEVENT
UID:irsay-500290@ygametime.com
DTSTAMP:20241109T140000Z
DTSTART;TZID=America/New_York:20241109T090000
DURATION:PT0H60M0S
SUMMARY:Irsay Ballers Green  vs Irsay Ballers Grey
DESCRIPTION:4-5 | Fall/Winter Rec Basketball\nIrsay Family YMCA\n
URL;VALUE=URI:https://ygametime.com/branch/irsay/sports/2024-fall-fall-winter-rec-basketball/21556/?utm_medium=calendar&utm_source=team_cal&utm_content=league_url#game-500290
LOCATION:Irsay Family YMCA Main Branch
BEGIN:VALARM
TRIGGER:-P2H
ACTION:DISPLAY
DESCRIPTION:Irsay Ballers Green  vs Irsay Ballers Grey
END:VALARM
END:VEVENT
BEGIN:VEVENT
UID:irsay-500291@ygametime.com
DTSTAMP:20241116T140000Z
DTSTART;TZID=America/New_York:20241116T090000
DURATION:PT0H60M0S
SUMMARY:Irsay Ballers Green  vs Irsay Ballers Grey
DESCRIPTION:4-5 | Fall/Winter Rec Basketball\nIrsay Family YMCA\n
URL;VALUE=URI:https://ygametime.com/branch/irsay/sports/2024-fall-fall-winter-rec-basketball/21556/?utm_medium=calendar&utm_source=team_cal&utm_content=league_url#game-500291
LOCATION:Irsay Family YMCA Main Branch
BEGIN:VALARM
TRIGGER:-P2H
ACTION:DISPLAY
DESCRIPTION:Irsay Ballers Green  vs Irsay Ballers Grey
END:VALARM
END:VEVENT
BEGIN:VEVENT
UID:irsay-500292@ygametime.com
DTSTAMP:20241123T140000Z
DTSTART;TZID=America/New_York:20241123T090000
DURATION:PT0H60M0S
SUMMARY:Irsay Ballers Green  vs Irsay Ballers Grey
DESCRIPTION:4-5 | Fall/Winter Rec Basketball\nIrsay Family YMCA\n
URL;VALUE=URI:https://ygametime.com/branch/irsay/sports/2024-fall-fall-winter-rec-basketball/21556/?utm_medium=calendar&utm_source=team_cal&utm_content=league_url#game-500292
LOCATION:Irsay Family YMCA Main Branch
BEGIN:VALARM
TRIGGER:-P2H
ACTION:DISPLAY
DESCRIPTION:Irsay Ballers Green  vs Irsay Ballers Grey
END:VALARM
END:VEVENT
BEGIN:VEVENT
UID:irsay-500296@ygametime.com
DTSTAMP:20241207T140000Z
DTSTART;TZID=America/New_York:20241207T090000
DURATION:PT0H60M0S
SUMMARY:Irsay Ballers Green  vs Irsay Ballers Grey
DESCRIPTION:4-5 | Fall/Winter Rec Basketball\nIrsay Family YMCA\n
URL;VALUE=URI:https://ygametime.com/branch/irsay/sports/2024-fall-fall-winter-rec-basketball/21556/?utm_medium=calendar&utm_source=team_cal&utm_content=league_url#game-500296
LOCATION:Irsay Family YMCA Main Branch
BEGIN:VALARM
TRIGGER:-P2H
ACTION:DISPLAY
DESCRIPTION:Irsay Ballers Green  vs Irsay Ballers Grey
END:VALARM
END:VEVENT
BEGIN:VEVENT
UID:irsay-500295@ygametime.com
DTSTAMP:20241214T140000Z
DTSTART;TZID=America/New_York:20241214T090000
DURATION:PT0H60M0S
SUMMARY:Irsay Ballers Green  vs Irsay Ballers Grey
DESCRIPTION:4-5 | Fall/Winter Rec Basketball\nIrsay Family YMCA\n
URL;VALUE=URI:https://ygametime.com/branch/irsay/sports/2024-fall-fall-winter-rec-basketball/21556/?utm_medium=calendar&utm_source=team_cal&utm_content=league_url#game-500295
LOCATION:Irsay Family YMCA Main Branch
BEGIN:VALARM
TRIGGER:-P2H
ACTION:DISPLAY
DESCRIPTION:Irsay Ballers Green  vs Irsay Ballers Grey
END:VALARM
END:VEVENT
END:VCALENDAR

