BEGIN:VCALENDAR
VERSION:2.0
PRODID:-//YGAMETIME.com//YGT iCal Creator//EN
METHOD:PUBLISH
X-PUBLISHED-TTL:PT6H
REFRESH-INTERVAL;VALUE=DURATION:PT6H
CALSCALE:GREGORIAN
X-WR-CALNAME:YGAMETIME CALENDAR
BEGIN:VTIMEZONE
TZID:America/New_York
X-LIC-LOCATION:America/New_York
BEGIN:DAYLIGHT
TZOFFSETFROM:-0500
TZOFFSETTO:-0400
TZNAME:EDT
DTSTART:19700308T020000
RRULE:FREQ=YEARLY;BYMONTH=3;BYDAY=2SU
END:DAYLIGHT
BEGIN:STANDARD
TZOFFSETFROM:-0400
TZOFFSETTO:-0500
TZNAME:EST
DTSTART:19701101T020000
RRULE:FREQ=YEARLY;BYMONTH=11;BYDAY=1SU
END:STANDARD
END:VTIMEZONE
BEGIN:VEVENT
UID:irsay-500304@ygametime.com
DTSTAMP:20241102T150000Z
DTSTART;TZID=America/New_York:20241102T110000
DURATION:PT0H60M0S
SUMMARY:Irsay Ballers Grey vs Irsay Ballers Green
DESCRIPTION:8-9 | Fall/Winter Rec Basketball\nIrsay Family YMCA\n
URL;VALUE=URI:https://ygametime.com/branch/irsay/sports/2024-fall-fall-winter-rec-basketball/21558/?utm_medium=calendar&utm_source=team_cal&utm_content=league_url#game-500304
LOCATION:Irsay Family YMCA Main Branch
BEGIN:VALARM
TRIGGER:-P2H
ACTION:DISPLAY
DESCRIPTION:Irsay Ballers Grey vs Irsay Ballers Green
END:VALARM
END:VEVENT
BEGIN:VEVENT
UID:irsay-500305@ygametime.com
DTSTAMP:20241109T160000Z
DTSTART;TZID=America/New_York:20241109T110000
DURATION:PT0H60M0S
SUMMARY:Irsay Ballers Grey vs Irsay Ballers Green
DESCRIPTION:8-9 | Fall/Winter Rec Basketball\nIrsay Family YMCA\n
URL;VALUE=URI:https://ygametime.com/branch/irsay/sports/2024-fall-fall-winter-rec-basketball/21558/?utm_medium=calendar&utm_source=team_cal&utm_content=league_url#game-500305
LOCATION:Irsay Family YMCA Main Branch
BEGIN:VALARM
TRIGGER:-P2H
ACTION:DISPLAY
DESCRIPTION:Irsay Ballers Grey vs Irsay Ballers Green
END:VALARM
END:VEVENT
BEGIN:VEVENT
UID:irsay-500306@ygametime.com
DTSTAMP:20241116T160000Z
DTSTART;TZID=America/New_York:20241116T110000
DURATION:PT0H60M0S
SUMMARY:Irsay Ballers Grey vs Irsay Ballers Green
DESCRIPTION:8-9 | Fall/Winter Rec Basketball\nIrsay Family YMCA\n
URL;VALUE=URI:https://ygametime.com/branch/irsay/sports/2024-fall-fall-winter-rec-basketball/21558/?utm_medium=calendar&utm_source=team_cal&utm_content=league_url#game-500306
LOCATION:Irsay Family YMCA Main Branch
BEGIN:VALARM
TRIGGER:-P2H
ACTION:DISPLAY
DESCRIPTION:Irsay Ballers Grey vs Irsay Ballers Green
END:VALARM
END:VEVENT
BEGIN:VEVENT
UID:irsay-500307@ygametime.com
DTSTAMP:20241123T160000Z
DTSTART;TZID=America/New_York:20241123T110000
DURATION:PT0H60M0S
SUMMARY:Irsay Ballers Grey vs Irsay Ballers Green
DESCRIPTION:8-9 | Fall/Winter Rec Basketball\nIrsay Family YMCA\n
URL;VALUE=URI:https://ygametime.com/branch/irsay/sports/2024-fall-fall-winter-rec-basketball/21558/?utm_medium=calendar&utm_source=team_cal&utm_content=league_url#game-500307
LOCATION:Irsay Family YMCA Main Branch
BEGIN:VALARM
TRIGGER:-P2H
ACTION:DISPLAY
DESCRIPTION:Irsay Ballers Grey vs Irsay Ballers Green
END:VALARM
END:VEVENT
BEGIN:VEVENT
UID:irsay-500309@ygametime.com
DTSTAMP:20241207T160000Z
DTSTART;TZID=America/New_York:20241207T110000
DURATION:PT0H60M0S
SUMMARY:Irsay Ballers Grey vs Irsay Ballers Green
DESCRIPTION:8-9 | Fall/Winter Rec Basketball\nIrsay Family YMCA\n
URL;VALUE=URI:https://ygametime.com/branch/irsay/sports/2024-fall-fall-winter-rec-basketball/21558/?utm_medium=calendar&utm_source=team_cal&utm_content=league_url#game-500309
LOCATION:Irsay Family YMCA Main Branch
BEGIN:VALARM
TRIGGER:-P2H
ACTION:DISPLAY
DESCRIPTION:Irsay Ballers Grey vs Irsay Ballers Green
END:VALARM
END:VEVENT
BEGIN:VEVENT
UID:irsay-500310@ygametime.com
DTSTAMP:20241214T160000Z
DTSTART;TZID=America/New_York:20241214T110000
DURATION:PT0H60M0S
SUMMARY:Irsay Ballers Green vs Irsay Ballers Grey
DESCRIPTION:8-9 | Fall/Winter Rec Basketball\nIrsay Family YMCA\n
URL;VALUE=URI:https://ygametime.com/branch/irsay/sports/2024-fall-fall-winter-rec-basketball/21558/?utm_medium=calendar&utm_source=team_cal&utm_content=league_url#game-500310
LOCATION:Irsay Family YMCA Main Branch
BEGIN:VALARM
TRIGGER:-P2H
ACTION:DISPLAY
DESCRIPTION:Irsay Ballers Green vs Irsay Ballers Grey
END:VALARM
END:VEVENT
END:VCALENDAR

