BEGIN:VCALENDAR
VERSION:2.0
PRODID:-//YGAMETIME.com//YGT iCal Creator//EN
METHOD:PUBLISH
X-PUBLISHED-TTL:PT6H
REFRESH-INTERVAL;VALUE=DURATION:PT6H
CALSCALE:GREGORIAN
X-WR-CALNAME:YGAMETIME CALENDAR
BEGIN:VTIMEZONE
TZID:America/New_York
X-LIC-LOCATION:America/New_York
BEGIN:DAYLIGHT
TZOFFSETFROM:-0500
TZOFFSETTO:-0400
TZNAME:EDT
DTSTART:19700308T020000
RRULE:FREQ=YEARLY;BYMONTH=3;BYDAY=2SU
END:DAYLIGHT
BEGIN:STANDARD
TZOFFSETFROM:-0400
TZOFFSETTO:-0500
TZNAME:EST
DTSTART:19701101T020000
RRULE:FREQ=YEARLY;BYMONTH=11;BYDAY=1SU
END:STANDARD
END:VTIMEZONE
BEGIN:VEVENT
UID:irsay-420989@ygametime.com
DTSTAMP:20231111T144500Z
DTSTART;TZID=America/New_York:20231111T094500
DURATION:PT0H60M0S
SUMMARY:Team 4 vs Team 2
DESCRIPTION:4-5yr olds | Rec Basketball\nIrsay Family YMCA\n
URL;VALUE=URI:https://ygametime.com/branch/irsay/sports/2025-fall-rec-basketball/18220/?utm_medium=calendar&utm_source=team_cal&utm_content=league_url#game-420989
LOCATION:Irsay (Court 3B)
BEGIN:VALARM
TRIGGER:-P2H
ACTION:DISPLAY
DESCRIPTION:Team 4 vs Team 2
END:VALARM
END:VEVENT
BEGIN:VEVENT
UID:irsay-420990@ygametime.com
DTSTAMP:20231118T134500Z
DTSTART;TZID=America/New_York:20231118T084500
DURATION:PT0H60M0S
SUMMARY:Team 2 vs Team 3
DESCRIPTION:4-5yr olds | Rec Basketball\nIrsay Family YMCA\n
URL;VALUE=URI:https://ygametime.com/branch/irsay/sports/2025-fall-rec-basketball/18220/?utm_medium=calendar&utm_source=team_cal&utm_content=league_url#game-420990
LOCATION:Irsay (Court 3A)
BEGIN:VALARM
TRIGGER:-P2H
ACTION:DISPLAY
DESCRIPTION:Team 2 vs Team 3
END:VALARM
END:VEVENT
BEGIN:VEVENT
UID:irsay-420994@ygametime.com
DTSTAMP:20231202T134500Z
DTSTART;TZID=America/New_York:20231202T084500
DURATION:PT0H60M0S
SUMMARY:Team 4 vs Team 2
DESCRIPTION:4-5yr olds | Rec Basketball\nIrsay Family YMCA\n
URL;VALUE=URI:https://ygametime.com/branch/irsay/sports/2025-fall-rec-basketball/18220/?utm_medium=calendar&utm_source=team_cal&utm_content=league_url#game-420994
LOCATION:Irsay (Court 3A)
BEGIN:VALARM
TRIGGER:-P2H
ACTION:DISPLAY
DESCRIPTION:Team 4 vs Team 2
END:VALARM
END:VEVENT
BEGIN:VEVENT
UID:irsay-420997@ygametime.com
DTSTAMP:20231209T134500Z
DTSTART;TZID=America/New_York:20231209T084500
DURATION:PT0H60M0S
SUMMARY:Team 2 vs Team 3
DESCRIPTION:4-5yr olds | Rec Basketball\nIrsay Family YMCA\n
URL;VALUE=URI:https://ygametime.com/branch/irsay/sports/2025-fall-rec-basketball/18220/?utm_medium=calendar&utm_source=team_cal&utm_content=league_url#game-420997
LOCATION:Irsay (Court 3B)
BEGIN:VALARM
TRIGGER:-P2H
ACTION:DISPLAY
DESCRIPTION:Team 2 vs Team 3
END:VALARM
END:VEVENT
BEGIN:VEVENT
UID:irsay-420999@ygametime.com
DTSTAMP:20231216T134500Z
DTSTART;TZID=America/New_York:20231216T084500
DURATION:PT0H60M0S
SUMMARY:Team 2 vs Team 1
DESCRIPTION:4-5yr olds | Rec Basketball\nIrsay Family YMCA\n
URL;VALUE=URI:https://ygametime.com/branch/irsay/sports/2025-fall-rec-basketball/18220/?utm_medium=calendar&utm_source=team_cal&utm_content=league_url#game-420999
LOCATION:Irsay (Court 3B)
BEGIN:VALARM
TRIGGER:-P2H
ACTION:DISPLAY
DESCRIPTION:Team 2 vs Team 1
END:VALARM
END:VEVENT
END:VCALENDAR

