BEGIN:VCALENDAR
VERSION:2.0
PRODID:-//YGAMETIME.com//YGT iCal Creator//EN
METHOD:PUBLISH
X-PUBLISHED-TTL:PT6H
REFRESH-INTERVAL;VALUE=DURATION:PT6H
CALSCALE:GREGORIAN
X-WR-CALNAME:YGAMETIME CALENDAR
BEGIN:VTIMEZONE
TZID:America/New_York
X-LIC-LOCATION:America/New_York
BEGIN:DAYLIGHT
TZOFFSETFROM:-0500
TZOFFSETTO:-0400
TZNAME:EDT
DTSTART:19700308T020000
RRULE:FREQ=YEARLY;BYMONTH=3;BYDAY=2SU
END:DAYLIGHT
BEGIN:STANDARD
TZOFFSETFROM:-0400
TZOFFSETTO:-0500
TZNAME:EST
DTSTART:19701101T020000
RRULE:FREQ=YEARLY;BYMONTH=11;BYDAY=1SU
END:STANDARD
END:VTIMEZONE
BEGIN:VEVENT
UID:lax-181068@ygametime.com
DTSTAMP:20190420T140000Z
DTSTART;TZID=America/New_York:20190420T100000
DURATION:PT0H60M0S
SUMMARY:5 Houser Thursday 5:30pm Team 2 Sky Blue Team vs 6 Eagle Bluff Thursday 4:30pm Pink Team
DESCRIPTION:1st & 2nd Grade Girls | 1st-4th Grade Spring Soccer\nLa Crosse Area Family YMCA\n
URL;VALUE=URI:https://ygametime.com/branch/lax/sports/2019-spring-1st-4th-grade-spring-soccer/7128/?utm_medium=calendar&utm_source=team_cal&utm_content=league_url#game-181068
LOCATION:Hintgen Elem Field 1 - La Crosse
BEGIN:VALARM
TRIGGER:-P2H
ACTION:DISPLAY
DESCRIPTION:5 Houser Thursday 5:30pm Team 2 Sky Blue Team vs 6 Eagle Bluff Thursday 4:30pm Pink Team
END:VALARM
END:VEVENT
BEGIN:VEVENT
UID:lax-181102@ygametime.com
DTSTAMP:20190427T140000Z
DTSTART;TZID=America/New_York:20190427T100000
DURATION:PT0H60M0S
SUMMARY:6 Eagle Bluff Thursday 4:30pm Pink Team vs 9 Coulee Christian Gray Team
DESCRIPTION:1st & 2nd Grade Girls | 1st-4th Grade Spring Soccer\nLa Crosse Area Family YMCA\n
URL;VALUE=URI:https://ygametime.com/branch/lax/sports/2019-spring-1st-4th-grade-spring-soccer/7128/?utm_medium=calendar&utm_source=team_cal&utm_content=league_url#game-181102
LOCATION:R.W. Houser YMCA Field 3
BEGIN:VALARM
TRIGGER:-P2H
ACTION:DISPLAY
DESCRIPTION:6 Eagle Bluff Thursday 4:30pm Pink Team vs 9 Coulee Christian Gray Team
END:VALARM
END:VEVENT
BEGIN:VEVENT
UID:lax-181081@ygametime.com
DTSTAMP:20190504T130000Z
DTSTART;TZID=America/New_York:20190504T090000
DURATION:PT0H60M0S
SUMMARY:1 Houser Monday 5:30pm Jade Team vs 6 Eagle Bluff Thursday 4:30pm Pink Team
DESCRIPTION:1st & 2nd Grade Girls | 1st-4th Grade Spring Soccer\nLa Crosse Area Family YMCA\n
URL;VALUE=URI:https://ygametime.com/branch/lax/sports/2019-spring-1st-4th-grade-spring-soccer/7128/?utm_medium=calendar&utm_source=team_cal&utm_content=league_url#game-181081
LOCATION:Longfellow Middle School - La Crosse
BEGIN:VALARM
TRIGGER:-P2H
ACTION:DISPLAY
DESCRIPTION:1 Houser Monday 5:30pm Jade Team vs 6 Eagle Bluff Thursday 4:30pm Pink Team
END:VALARM
END:VEVENT
BEGIN:VEVENT
UID:lax-181085@ygametime.com
DTSTAMP:20190511T140000Z
DTSTART;TZID=America/New_York:20190511T100000
DURATION:PT0H60M0S
SUMMARY:2 Houser Tuesday 5:30pm Yellow Team vs 6 Eagle Bluff Thursday 4:30pm Pink Team
DESCRIPTION:1st & 2nd Grade Girls | 1st-4th Grade Spring Soccer\nLa Crosse Area Family YMCA\n
URL;VALUE=URI:https://ygametime.com/branch/lax/sports/2019-spring-1st-4th-grade-spring-soccer/7128/?utm_medium=calendar&utm_source=team_cal&utm_content=league_url#game-181085
LOCATION:R.W. Houser YMCA Field 2
BEGIN:VALARM
TRIGGER:-P2H
ACTION:DISPLAY
DESCRIPTION:2 Houser Tuesday 5:30pm Yellow Team vs 6 Eagle Bluff Thursday 4:30pm Pink Team
END:VALARM
END:VEVENT
BEGIN:VEVENT
UID:lax-181090@ygametime.com
DTSTAMP:20190518T140000Z
DTSTART;TZID=America/New_York:20190518T100000
DURATION:PT0H60M0S
SUMMARY:6 Eagle Bluff Thursday 4:30pm Pink Team vs 7 Longfellow Monday 5:30pm Black Team
DESCRIPTION:1st & 2nd Grade Girls | 1st-4th Grade Spring Soccer\nLa Crosse Area Family YMCA\n
URL;VALUE=URI:https://ygametime.com/branch/lax/sports/2019-spring-1st-4th-grade-spring-soccer/7128/?utm_medium=calendar&utm_source=team_cal&utm_content=league_url#game-181090
LOCATION:Hintgen Elem Field 2 - La Crosse
BEGIN:VALARM
TRIGGER:-P2H
ACTION:DISPLAY
DESCRIPTION:6 Eagle Bluff Thursday 4:30pm Pink Team vs 7 Longfellow Monday 5:30pm Black Team
END:VALARM
END:VEVENT
BEGIN:VEVENT
UID:lax-181097@ygametime.com
DTSTAMP:20190523T203000Z
DTSTART;TZID=America/New_York:20190523T163000
DURATION:PT0H60M0S
SUMMARY:6 Eagle Bluff Thursday 4:30pm Pink Team vs 8 Hintgen Thursday 5:30pm Red Team
DESCRIPTION:1st & 2nd Grade Girls | 1st-4th Grade Spring Soccer\nLa Crosse Area Family YMCA\n
URL;VALUE=URI:https://ygametime.com/branch/lax/sports/2019-spring-1st-4th-grade-spring-soccer/7128/?utm_medium=calendar&utm_source=team_cal&utm_content=league_url#game-181097
LOCATION:R.W. Houser YMCA Field 1
BEGIN:VALARM
TRIGGER:-P2H
ACTION:DISPLAY
DESCRIPTION:6 Eagle Bluff Thursday 4:30pm Pink Team vs 8 Hintgen Thursday 5:30pm Red Team
END:VALARM
END:VEVENT
END:VCALENDAR

