BEGIN:VCALENDAR
VERSION:2.0
PRODID:-//YGAMETIME.com//YGT iCal Creator//EN
METHOD:PUBLISH
X-PUBLISHED-TTL:PT6H
REFRESH-INTERVAL;VALUE=DURATION:PT6H
CALSCALE:GREGORIAN
X-WR-CALNAME:YGAMETIME CALENDAR
BEGIN:VTIMEZONE
TZID:America/New_York
X-LIC-LOCATION:America/New_York
BEGIN:DAYLIGHT
TZOFFSETFROM:-0500
TZOFFSETTO:-0400
TZNAME:EDT
DTSTART:19700308T020000
RRULE:FREQ=YEARLY;BYMONTH=3;BYDAY=2SU
END:DAYLIGHT
BEGIN:STANDARD
TZOFFSETFROM:-0400
TZOFFSETTO:-0500
TZNAME:EST
DTSTART:19701101T020000
RRULE:FREQ=YEARLY;BYMONTH=11;BYDAY=1SU
END:STANDARD
END:VTIMEZONE
BEGIN:VEVENT
UID:lax-181069@ygametime.com
DTSTAMP:20190420T150000Z
DTSTART;TZID=America/New_York:20190420T110000
DURATION:PT0H60M0S
SUMMARY:4 Houser Thursday 5:30pm Team 1 Purple Team vs 3 Houser Wednesday 4:30pm Blue Team
DESCRIPTION:1st & 2nd Grade Girls | 1st-4th Grade Spring Soccer\nLa Crosse Area Family YMCA\n
URL;VALUE=URI:https://ygametime.com/branch/lax/sports/2019-spring-1st-4th-grade-spring-soccer/7128/?utm_medium=calendar&utm_source=team_cal&utm_content=league_url#game-181069
LOCATION:Hintgen Elem Field 1 - La Crosse
BEGIN:VALARM
TRIGGER:-P2H
ACTION:DISPLAY
DESCRIPTION:4 Houser Thursday 5:30pm Team 1 Purple Team vs 3 Houser Wednesday 4:30pm Blue Team
END:VALARM
END:VEVENT
BEGIN:VEVENT
UID:lax-181098@ygametime.com
DTSTAMP:20190427T140000Z
DTSTART;TZID=America/New_York:20190427T100000
DURATION:PT0H60M0S
SUMMARY:1 Houser Monday 5:30pm Jade Team vs 4 Houser Thursday 5:30pm Team 1 Purple Team
DESCRIPTION:1st & 2nd Grade Girls | 1st-4th Grade Spring Soccer\nLa Crosse Area Family YMCA\n
URL;VALUE=URI:https://ygametime.com/branch/lax/sports/2019-spring-1st-4th-grade-spring-soccer/7128/?utm_medium=calendar&utm_source=team_cal&utm_content=league_url#game-181098
LOCATION:R.W. Houser YMCA Field 2
BEGIN:VALARM
TRIGGER:-P2H
ACTION:DISPLAY
DESCRIPTION:1 Houser Monday 5:30pm Jade Team vs 4 Houser Thursday 5:30pm Team 1 Purple Team
END:VALARM
END:VEVENT
BEGIN:VEVENT
UID:lax-181079@ygametime.com
DTSTAMP:20190504T130000Z
DTSTART;TZID=America/New_York:20190504T090000
DURATION:PT0H60M0S
SUMMARY:4 Houser Thursday 5:30pm Team 1 Purple Team vs 9 Coulee Christian Gray Team
DESCRIPTION:1st & 2nd Grade Girls | 1st-4th Grade Spring Soccer\nLa Crosse Area Family YMCA\n
URL;VALUE=URI:https://ygametime.com/branch/lax/sports/2019-spring-1st-4th-grade-spring-soccer/7128/?utm_medium=calendar&utm_source=team_cal&utm_content=league_url#game-181079
LOCATION:Hintgen Elem Field 1 - La Crosse
BEGIN:VALARM
TRIGGER:-P2H
ACTION:DISPLAY
DESCRIPTION:4 Houser Thursday 5:30pm Team 1 Purple Team vs 9 Coulee Christian Gray Team
END:VALARM
END:VEVENT
BEGIN:VEVENT
UID:lax-181087@ygametime.com
DTSTAMP:20190511T140000Z
DTSTART;TZID=America/New_York:20190511T100000
DURATION:PT0H60M0S
SUMMARY:4 Houser Thursday 5:30pm Team 1 Purple Team vs 8 Hintgen Thursday 5:30pm Red Team
DESCRIPTION:1st & 2nd Grade Girls | 1st-4th Grade Spring Soccer\nLa Crosse Area Family YMCA\n
URL;VALUE=URI:https://ygametime.com/branch/lax/sports/2019-spring-1st-4th-grade-spring-soccer/7128/?utm_medium=calendar&utm_source=team_cal&utm_content=league_url#game-181087
LOCATION:R.W. Houser YMCA Field 3
BEGIN:VALARM
TRIGGER:-P2H
ACTION:DISPLAY
DESCRIPTION:4 Houser Thursday 5:30pm Team 1 Purple Team vs 8 Hintgen Thursday 5:30pm Red Team
END:VALARM
END:VEVENT
BEGIN:VEVENT
UID:lax-181089@ygametime.com
DTSTAMP:20190518T130000Z
DTSTART;TZID=America/New_York:20190518T090000
DURATION:PT0H60M0S
SUMMARY:2 Houser Tuesday 5:30pm Yellow Team vs 4 Houser Thursday 5:30pm Team 1 Purple Team
DESCRIPTION:1st & 2nd Grade Girls | 1st-4th Grade Spring Soccer\nLa Crosse Area Family YMCA\n
URL;VALUE=URI:https://ygametime.com/branch/lax/sports/2019-spring-1st-4th-grade-spring-soccer/7128/?utm_medium=calendar&utm_source=team_cal&utm_content=league_url#game-181089
LOCATION:Hintgen Elem Field 2 - La Crosse
BEGIN:VALARM
TRIGGER:-P2H
ACTION:DISPLAY
DESCRIPTION:2 Houser Tuesday 5:30pm Yellow Team vs 4 Houser Thursday 5:30pm Team 1 Purple Team
END:VALARM
END:VEVENT
BEGIN:VEVENT
UID:lax-181096@ygametime.com
DTSTAMP:20190523T213000Z
DTSTART;TZID=America/New_York:20190523T173000
DURATION:PT0H60M0S
SUMMARY:4 Houser Thursday 5:30pm Team 1 Purple Team vs 5 Houser Thursday 5:30pm Team 2 Sky Blue Team
DESCRIPTION:1st & 2nd Grade Girls | 1st-4th Grade Spring Soccer\nLa Crosse Area Family YMCA\n
URL;VALUE=URI:https://ygametime.com/branch/lax/sports/2019-spring-1st-4th-grade-spring-soccer/7128/?utm_medium=calendar&utm_source=team_cal&utm_content=league_url#game-181096
LOCATION:R.W. Houser YMCA Field 2
BEGIN:VALARM
TRIGGER:-P2H
ACTION:DISPLAY
DESCRIPTION:4 Houser Thursday 5:30pm Team 1 Purple Team vs 5 Houser Thursday 5:30pm Team 2 Sky Blue Team
END:VALARM
END:VEVENT
END:VCALENDAR

