BEGIN:VCALENDAR
VERSION:2.0
PRODID:-//YGAMETIME.com//YGT iCal Creator//EN
METHOD:PUBLISH
X-PUBLISHED-TTL:PT6H
REFRESH-INTERVAL;VALUE=DURATION:PT6H
CALSCALE:GREGORIAN
X-WR-CALNAME:YGAMETIME CALENDAR
BEGIN:VEVENT
UID:marin-10215@ygametime.com
DTSTAMP:20150505T001500Z
DTSTART;TZID=America/Los_Angeles:20150504T171500
DURATION:PT0H45M0S
SUMMARY:Orange vs Blue
DESCRIPTION:Kindergarten | TEST - Jr Warriors\nMarin YMCA\n
URL;VALUE=URI:https://ygametime.com/branch/marin/sports/2015-fall-test-jr-warriors/441/?utm_medium=calendar&utm_source=team_cal&utm_content=league_url#game-10215
LOCATION:Marin Y Main Branch
BEGIN:VALARM
TRIGGER:-P2H
ACTION:DISPLAY
DESCRIPTION:Orange vs Blue
END:VALARM
END:VEVENT
BEGIN:VEVENT
UID:marin-10217@ygametime.com
DTSTAMP:20150507T001500Z
DTSTART;TZID=America/Los_Angeles:20150506T171500
DURATION:PT0H45M0S
SUMMARY:Green vs Orange
DESCRIPTION:Kindergarten | TEST - Jr Warriors\nMarin YMCA\n
URL;VALUE=URI:https://ygametime.com/branch/marin/sports/2015-fall-test-jr-warriors/441/?utm_medium=calendar&utm_source=team_cal&utm_content=league_url#game-10217
LOCATION:Marin Y Main Branch
BEGIN:VALARM
TRIGGER:-P2H
ACTION:DISPLAY
DESCRIPTION:Green vs Orange
END:VALARM
END:VEVENT
BEGIN:VEVENT
UID:marin-10220@ygametime.com
DTSTAMP:20150513T001500Z
DTSTART;TZID=America/Los_Angeles:20150512T171500
DURATION:PT0H45M0S
SUMMARY:Orange vs Yellow
DESCRIPTION:Kindergarten | TEST - Jr Warriors\nMarin YMCA\n
URL;VALUE=URI:https://ygametime.com/branch/marin/sports/2015-fall-test-jr-warriors/441/?utm_medium=calendar&utm_source=team_cal&utm_content=league_url#game-10220
LOCATION:Marin Y Main Branch
BEGIN:VALARM
TRIGGER:-P2H
ACTION:DISPLAY
DESCRIPTION:Orange vs Yellow
END:VALARM
END:VEVENT
BEGIN:VEVENT
UID:marin-10222@ygametime.com
DTSTAMP:20150515T001500Z
DTSTART;TZID=America/Los_Angeles:20150514T171500
DURATION:PT0H45M0S
SUMMARY:Orange vs Blue
DESCRIPTION:Kindergarten | TEST - Jr Warriors\nMarin YMCA\n
URL;VALUE=URI:https://ygametime.com/branch/marin/sports/2015-fall-test-jr-warriors/441/?utm_medium=calendar&utm_source=team_cal&utm_content=league_url#game-10222
LOCATION:Marin Y Main Branch
BEGIN:VALARM
TRIGGER:-P2H
ACTION:DISPLAY
DESCRIPTION:Orange vs Blue
END:VALARM
END:VEVENT
BEGIN:VEVENT
UID:marin-10224@ygametime.com
DTSTAMP:20150520T001500Z
DTSTART;TZID=America/Los_Angeles:20150519T171500
DURATION:PT0H45M0S
SUMMARY:Green vs Orange
DESCRIPTION:Kindergarten | TEST - Jr Warriors\nMarin YMCA\n
URL;VALUE=URI:https://ygametime.com/branch/marin/sports/2015-fall-test-jr-warriors/441/?utm_medium=calendar&utm_source=team_cal&utm_content=league_url#game-10224
LOCATION:Marin Y Main Branch
BEGIN:VALARM
TRIGGER:-P2H
ACTION:DISPLAY
DESCRIPTION:Green vs Orange
END:VALARM
END:VEVENT
BEGIN:VEVENT
UID:marin-10225@ygametime.com
DTSTAMP:20150521T001500Z
DTSTART;TZID=America/Los_Angeles:20150520T171500
DURATION:PT0H45M0S
SUMMARY:Orange vs Yellow
DESCRIPTION:Kindergarten | TEST - Jr Warriors\nMarin YMCA\n
URL;VALUE=URI:https://ygametime.com/branch/marin/sports/2015-fall-test-jr-warriors/441/?utm_medium=calendar&utm_source=team_cal&utm_content=league_url#game-10225
LOCATION:Marin Y Main Branch
BEGIN:VALARM
TRIGGER:-P2H
ACTION:DISPLAY
DESCRIPTION:Orange vs Yellow
END:VALARM
END:VEVENT
BEGIN:VEVENT
UID:marin-10227@ygametime.com
DTSTAMP:20150526T001500Z
DTSTART;TZID=America/Los_Angeles:20150525T171500
DURATION:PT0H45M0S
SUMMARY:Orange vs Blue
DESCRIPTION:Kindergarten | TEST - Jr Warriors\nMarin YMCA\n
URL;VALUE=URI:https://ygametime.com/branch/marin/sports/2015-fall-test-jr-warriors/441/?utm_medium=calendar&utm_source=team_cal&utm_content=league_url#game-10227
LOCATION:Marin Y Main Branch
BEGIN:VALARM
TRIGGER:-P2H
ACTION:DISPLAY
DESCRIPTION:Orange vs Blue
END:VALARM
END:VEVENT
BEGIN:VEVENT
UID:marin-10229@ygametime.com
DTSTAMP:20150528T001500Z
DTSTART;TZID=America/Los_Angeles:20150527T171500
DURATION:PT0H45M0S
SUMMARY:Green vs Orange
DESCRIPTION:Kindergarten | TEST - Jr Warriors\nMarin YMCA\n
URL;VALUE=URI:https://ygametime.com/branch/marin/sports/2015-fall-test-jr-warriors/441/?utm_medium=calendar&utm_source=team_cal&utm_content=league_url#game-10229
LOCATION:Marin Y Main Branch
BEGIN:VALARM
TRIGGER:-P2H
ACTION:DISPLAY
DESCRIPTION:Green vs Orange
END:VALARM
END:VEVENT
END:VCALENDAR

