BEGIN:VCALENDAR
VERSION:2.0
PRODID:-//YGAMETIME.com//YGT iCal Creator//EN
METHOD:PUBLISH
X-PUBLISHED-TTL:PT6H
REFRESH-INTERVAL;VALUE=DURATION:PT6H
CALSCALE:GREGORIAN
X-WR-CALNAME:YGAMETIME CALENDAR
BEGIN:VEVENT
UID:marin-10216@ygametime.com
DTSTAMP:20150506T001500Z
DTSTART;TZID=America/Los_Angeles:20150505T171500
DURATION:PT0H45M0S
SUMMARY:Yellow vs Green
DESCRIPTION:Kindergarten | TEST - Jr Warriors\nMarin YMCA\n
URL;VALUE=URI:https://ygametime.com/branch/marin/sports/2015-fall-test-jr-warriors/441/?utm_medium=calendar&utm_source=team_cal&utm_content=league_url#game-10216
LOCATION:Marin Y Main Branch
BEGIN:VALARM
TRIGGER:-P2H
ACTION:DISPLAY
DESCRIPTION:Yellow vs Green
END:VALARM
END:VEVENT
BEGIN:VEVENT
UID:marin-10217@ygametime.com
DTSTAMP:20150507T001500Z
DTSTART;TZID=America/Los_Angeles:20150506T171500
DURATION:PT0H45M0S
SUMMARY:Green vs Orange
DESCRIPTION:Kindergarten | TEST - Jr Warriors\nMarin YMCA\n
URL;VALUE=URI:https://ygametime.com/branch/marin/sports/2015-fall-test-jr-warriors/441/?utm_medium=calendar&utm_source=team_cal&utm_content=league_url#game-10217
LOCATION:Marin Y Main Branch
BEGIN:VALARM
TRIGGER:-P2H
ACTION:DISPLAY
DESCRIPTION:Green vs Orange
END:VALARM
END:VEVENT
BEGIN:VEVENT
UID:marin-10219@ygametime.com
DTSTAMP:20150512T001500Z
DTSTART;TZID=America/Los_Angeles:20150511T171500
DURATION:PT0H45M0S
SUMMARY:Green vs Blue
DESCRIPTION:Kindergarten | TEST - Jr Warriors\nMarin YMCA\n
URL;VALUE=URI:https://ygametime.com/branch/marin/sports/2015-fall-test-jr-warriors/441/?utm_medium=calendar&utm_source=team_cal&utm_content=league_url#game-10219
LOCATION:Marin Y Main Branch
BEGIN:VALARM
TRIGGER:-P2H
ACTION:DISPLAY
DESCRIPTION:Green vs Blue
END:VALARM
END:VEVENT
BEGIN:VEVENT
UID:marin-10221@ygametime.com
DTSTAMP:20150514T001500Z
DTSTART;TZID=America/Los_Angeles:20150513T171500
DURATION:PT0H45M0S
SUMMARY:Yellow vs Green
DESCRIPTION:Kindergarten | TEST - Jr Warriors\nMarin YMCA\n
URL;VALUE=URI:https://ygametime.com/branch/marin/sports/2015-fall-test-jr-warriors/441/?utm_medium=calendar&utm_source=team_cal&utm_content=league_url#game-10221
LOCATION:Marin Y Main Branch
BEGIN:VALARM
TRIGGER:-P2H
ACTION:DISPLAY
DESCRIPTION:Yellow vs Green
END:VALARM
END:VEVENT
BEGIN:VEVENT
UID:marin-10224@ygametime.com
DTSTAMP:20150520T001500Z
DTSTART;TZID=America/Los_Angeles:20150519T171500
DURATION:PT0H45M0S
SUMMARY:Green vs Orange
DESCRIPTION:Kindergarten | TEST - Jr Warriors\nMarin YMCA\n
URL;VALUE=URI:https://ygametime.com/branch/marin/sports/2015-fall-test-jr-warriors/441/?utm_medium=calendar&utm_source=team_cal&utm_content=league_url#game-10224
LOCATION:Marin Y Main Branch
BEGIN:VALARM
TRIGGER:-P2H
ACTION:DISPLAY
DESCRIPTION:Green vs Orange
END:VALARM
END:VEVENT
BEGIN:VEVENT
UID:marin-10226@ygametime.com
DTSTAMP:20150522T001500Z
DTSTART;TZID=America/Los_Angeles:20150521T171500
DURATION:PT0H45M0S
SUMMARY:Green vs Blue
DESCRIPTION:Kindergarten | TEST - Jr Warriors\nMarin YMCA\n
URL;VALUE=URI:https://ygametime.com/branch/marin/sports/2015-fall-test-jr-warriors/441/?utm_medium=calendar&utm_source=team_cal&utm_content=league_url#game-10226
LOCATION:Marin Y Main Branch
BEGIN:VALARM
TRIGGER:-P2H
ACTION:DISPLAY
DESCRIPTION:Green vs Blue
END:VALARM
END:VEVENT
BEGIN:VEVENT
UID:marin-10228@ygametime.com
DTSTAMP:20150527T001500Z
DTSTART;TZID=America/Los_Angeles:20150526T171500
DURATION:PT0H45M0S
SUMMARY:Yellow vs Green
DESCRIPTION:Kindergarten | TEST - Jr Warriors\nMarin YMCA\n
URL;VALUE=URI:https://ygametime.com/branch/marin/sports/2015-fall-test-jr-warriors/441/?utm_medium=calendar&utm_source=team_cal&utm_content=league_url#game-10228
LOCATION:Marin Y Main Branch
BEGIN:VALARM
TRIGGER:-P2H
ACTION:DISPLAY
DESCRIPTION:Yellow vs Green
END:VALARM
END:VEVENT
BEGIN:VEVENT
UID:marin-10229@ygametime.com
DTSTAMP:20150528T001500Z
DTSTART;TZID=America/Los_Angeles:20150527T171500
DURATION:PT0H45M0S
SUMMARY:Green vs Orange
DESCRIPTION:Kindergarten | TEST - Jr Warriors\nMarin YMCA\n
URL;VALUE=URI:https://ygametime.com/branch/marin/sports/2015-fall-test-jr-warriors/441/?utm_medium=calendar&utm_source=team_cal&utm_content=league_url#game-10229
LOCATION:Marin Y Main Branch
BEGIN:VALARM
TRIGGER:-P2H
ACTION:DISPLAY
DESCRIPTION:Green vs Orange
END:VALARM
END:VEVENT
END:VCALENDAR

