BEGIN:VCALENDAR
VERSION:2.0
PRODID:-//YGAMETIME.com//YGT iCal Creator//EN
METHOD:PUBLISH
X-PUBLISHED-TTL:PT6H
REFRESH-INTERVAL;VALUE=DURATION:PT6H
CALSCALE:GREGORIAN
X-WR-CALNAME:YGAMETIME CALENDAR
BEGIN:VTIMEZONE
TZID:America/Chicago
X-LIC-LOCATION:America/Chicago
BEGIN:DAYLIGHT
TZOFFSETFROM:-0600
TZOFFSETTO:-0500
TZNAME:CDT
DTSTART:19700308T020000
RRULE:FREQ=YEARLY;BYMONTH=3;BYDAY=2SU
END:DAYLIGHT
BEGIN:STANDARD
TZOFFSETFROM:-0500
TZOFFSETTO:-0600
TZNAME:CST
DTSTART:19701101T020000
RRULE:FREQ=YEARLY;BYMONTH=11;BYDAY=1SU
END:STANDARD
END:VTIMEZONE
BEGIN:VEVENT
UID:moody-262873@ygametime.com
DTSTAMP:20211204T151500Z
DTSTART;TZID=America/Chicago:20211204T091500
DURATION:PT0H75M0S
SUMMARY:KB Arm-Longo vs KB Brad-Harris
DESCRIPTION:Kindergarten Boys | Basketball\nMoody Family YMCA\n
URL;VALUE=URI:https://ygametime.com/branch/moody/sports/2021-winter-basketball/11317/?utm_medium=calendar&utm_source=team_cal&utm_content=league_url#game-262873
LOCATION:Armstrong Big Gym
BEGIN:VALARM
TRIGGER:-P2H
ACTION:DISPLAY
DESCRIPTION:KB Arm-Longo vs KB Brad-Harris
END:VALARM
END:VEVENT
BEGIN:VEVENT
UID:moody-262881@ygametime.com
DTSTAMP:20211211T151500Z
DTSTART;TZID=America/Chicago:20211211T091500
DURATION:PT0H75M0S
SUMMARY:KB Brad-Harris vs KB Brad-Patterson 
DESCRIPTION:Kindergarten Boys | Basketball\nMoody Family YMCA\n
URL;VALUE=URI:https://ygametime.com/branch/moody/sports/2021-winter-basketball/11317/?utm_medium=calendar&utm_source=team_cal&utm_content=league_url#game-262881
LOCATION:Armstrong Big Gym
BEGIN:VALARM
TRIGGER:-P2H
ACTION:DISPLAY
DESCRIPTION:KB Brad-Harris vs KB Brad-Patterson 
END:VALARM
END:VEVENT
BEGIN:VEVENT
UID:moody-262889@ygametime.com
DTSTAMP:20220108T151500Z
DTSTART;TZID=America/Chicago:20220108T091500
DURATION:PT0H75M0S
SUMMARY:KB UP-Phillips vs KB Brad-Harris
DESCRIPTION:Kindergarten Boys | Basketball\nMoody Family YMCA\n
URL;VALUE=URI:https://ygametime.com/branch/moody/sports/2021-winter-basketball/11317/?utm_medium=calendar&utm_source=team_cal&utm_content=league_url#game-262889
LOCATION:Armstrong Big Gym
BEGIN:VALARM
TRIGGER:-P2H
ACTION:DISPLAY
DESCRIPTION:KB UP-Phillips vs KB Brad-Harris
END:VALARM
END:VEVENT
BEGIN:VEVENT
UID:moody-262897@ygametime.com
DTSTAMP:20220115T151500Z
DTSTART;TZID=America/Chicago:20220115T091500
DURATION:PT0H75M0S
SUMMARY:KB Brad-Harris vs KB Cardinals-Stark
DESCRIPTION:Kindergarten Boys | Basketball\nMoody Family YMCA\n
URL;VALUE=URI:https://ygametime.com/branch/moody/sports/2021-winter-basketball/11317/?utm_medium=calendar&utm_source=team_cal&utm_content=league_url#game-262897
LOCATION:Armstrong Big Gym
BEGIN:VALARM
TRIGGER:-P2H
ACTION:DISPLAY
DESCRIPTION:KB Brad-Harris vs KB Cardinals-Stark
END:VALARM
END:VEVENT
BEGIN:VEVENT
UID:moody-262905@ygametime.com
DTSTAMP:20220122T151500Z
DTSTART;TZID=America/Chicago:20220122T091500
DURATION:PT0H75M0S
SUMMARY:KB UP-Cole vs KB Brad-Harris
DESCRIPTION:Kindergarten Boys | Basketball\nMoody Family YMCA\n
URL;VALUE=URI:https://ygametime.com/branch/moody/sports/2021-winter-basketball/11317/?utm_medium=calendar&utm_source=team_cal&utm_content=league_url#game-262905
LOCATION:Armstrong Big Gym
BEGIN:VALARM
TRIGGER:-P2H
ACTION:DISPLAY
DESCRIPTION:KB UP-Cole vs KB Brad-Harris
END:VALARM
END:VEVENT
BEGIN:VEVENT
UID:moody-272974@ygametime.com
DTSTAMP:20220127T000000Z
DTSTART;TZID=America/Chicago:20220126T180000
DURATION:PT0H75M0S
SUMMARY:KB Arm-Smith vs KB Brad-Harris
DESCRIPTION:Kindergarten Boys | Basketball\nMoody Family YMCA\n
URL;VALUE=URI:https://ygametime.com/branch/moody/sports/2021-winter-basketball/11317/?utm_medium=calendar&utm_source=team_cal&utm_content=league_url#game-272974
LOCATION:Moody North Gym
BEGIN:VALARM
TRIGGER:-P2H
ACTION:DISPLAY
DESCRIPTION:KB Arm-Smith vs KB Brad-Harris
END:VALARM
END:VEVENT
BEGIN:VEVENT
UID:moody-262921@ygametime.com
DTSTAMP:20220212T151500Z
DTSTART;TZID=America/Chicago:20220212T091500
DURATION:PT0H75M0S
SUMMARY:KB Boone-Quigley vs KB Brad-Harris
DESCRIPTION:Kindergarten Boys | Basketball\nMoody Family YMCA\n
URL;VALUE=URI:https://ygametime.com/branch/moody/sports/2021-winter-basketball/11317/?utm_medium=calendar&utm_source=team_cal&utm_content=league_url#game-262921
LOCATION:Armstrong Big Gym
BEGIN:VALARM
TRIGGER:-P2H
ACTION:DISPLAY
DESCRIPTION:KB Boone-Quigley vs KB Brad-Harris
END:VALARM
END:VEVENT
END:VCALENDAR

