BEGIN:VCALENDAR
VERSION:2.0
PRODID:-//YGAMETIME.com//YGT iCal Creator//EN
METHOD:PUBLISH
X-PUBLISHED-TTL:PT6H
REFRESH-INTERVAL;VALUE=DURATION:PT6H
CALSCALE:GREGORIAN
X-WR-CALNAME:YGAMETIME CALENDAR
BEGIN:VTIMEZONE
TZID:America/Chicago
X-LIC-LOCATION:America/Chicago
BEGIN:DAYLIGHT
TZOFFSETFROM:-0600
TZOFFSETTO:-0500
TZNAME:CDT
DTSTART:19700308T020000
RRULE:FREQ=YEARLY;BYMONTH=3;BYDAY=2SU
END:DAYLIGHT
BEGIN:STANDARD
TZOFFSETFROM:-0500
TZOFFSETTO:-0600
TZNAME:CST
DTSTART:19701101T020000
RRULE:FREQ=YEARLY;BYMONTH=11;BYDAY=1SU
END:STANDARD
END:VTIMEZONE
BEGIN:VEVENT
UID:moody-262875@ygametime.com
DTSTAMP:20211204T174500Z
DTSTART;TZID=America/Chicago:20211204T114500
DURATION:PT0H75M0S
SUMMARY:KB Brad-Patterson  vs KB CKS-Carrie Garcia
DESCRIPTION:Kindergarten Boys | Basketball\nMoody Family YMCA\n
URL;VALUE=URI:https://ygametime.com/branch/moody/sports/2021-winter-basketball/11317/?utm_medium=calendar&utm_source=team_cal&utm_content=league_url#game-262875
LOCATION:Armstrong Big Gym
BEGIN:VALARM
TRIGGER:-P2H
ACTION:DISPLAY
DESCRIPTION:KB Brad-Patterson  vs KB CKS-Carrie Garcia
END:VALARM
END:VEVENT
BEGIN:VEVENT
UID:moody-262883@ygametime.com
DTSTAMP:20211211T174500Z
DTSTART;TZID=America/Chicago:20211211T114500
DURATION:PT0H75M0S
SUMMARY:KB CKS-Carrie Garcia vs KB UP-Phillips
DESCRIPTION:Kindergarten Boys | Basketball\nMoody Family YMCA\n
URL;VALUE=URI:https://ygametime.com/branch/moody/sports/2021-winter-basketball/11317/?utm_medium=calendar&utm_source=team_cal&utm_content=league_url#game-262883
LOCATION:Armstrong Big Gym
BEGIN:VALARM
TRIGGER:-P2H
ACTION:DISPLAY
DESCRIPTION:KB CKS-Carrie Garcia vs KB UP-Phillips
END:VALARM
END:VEVENT
BEGIN:VEVENT
UID:moody-262891@ygametime.com
DTSTAMP:20220108T174500Z
DTSTART;TZID=America/Chicago:20220108T114500
DURATION:PT0H75M0S
SUMMARY:KB Cardinals-Stark vs KB CKS-Carrie Garcia
DESCRIPTION:Kindergarten Boys | Basketball\nMoody Family YMCA\n
URL;VALUE=URI:https://ygametime.com/branch/moody/sports/2021-winter-basketball/11317/?utm_medium=calendar&utm_source=team_cal&utm_content=league_url#game-262891
LOCATION:Armstrong Big Gym
BEGIN:VALARM
TRIGGER:-P2H
ACTION:DISPLAY
DESCRIPTION:KB Cardinals-Stark vs KB CKS-Carrie Garcia
END:VALARM
END:VEVENT
BEGIN:VEVENT
UID:moody-262899@ygametime.com
DTSTAMP:20220115T174500Z
DTSTART;TZID=America/Chicago:20220115T114500
DURATION:PT0H75M0S
SUMMARY:KB CKS-Carrie Garcia vs KB Dinos-Smith
DESCRIPTION:Kindergarten Boys | Basketball\nMoody Family YMCA\n
URL;VALUE=URI:https://ygametime.com/branch/moody/sports/2021-winter-basketball/11317/?utm_medium=calendar&utm_source=team_cal&utm_content=league_url#game-262899
LOCATION:Armstrong Big Gym
BEGIN:VALARM
TRIGGER:-P2H
ACTION:DISPLAY
DESCRIPTION:KB CKS-Carrie Garcia vs KB Dinos-Smith
END:VALARM
END:VEVENT
BEGIN:VEVENT
UID:moody-262907@ygametime.com
DTSTAMP:20220122T174500Z
DTSTART;TZID=America/Chicago:20220122T114500
DURATION:PT0H75M0S
SUMMARY:KB Providence-Duge vs KB CKS-Carrie Garcia
DESCRIPTION:Kindergarten Boys | Basketball\nMoody Family YMCA\n
URL;VALUE=URI:https://ygametime.com/branch/moody/sports/2021-winter-basketball/11317/?utm_medium=calendar&utm_source=team_cal&utm_content=league_url#game-262907
LOCATION:Armstrong Big Gym
BEGIN:VALARM
TRIGGER:-P2H
ACTION:DISPLAY
DESCRIPTION:KB Providence-Duge vs KB CKS-Carrie Garcia
END:VALARM
END:VEVENT
BEGIN:VEVENT
UID:moody-262914@ygametime.com
DTSTAMP:20220129T163000Z
DTSTART;TZID=America/Chicago:20220129T103000
DURATION:PT0H75M0S
SUMMARY:KB CKS-Carrie Garcia vs KB Boone-Quigley
DESCRIPTION:Kindergarten Boys | Basketball\nMoody Family YMCA\n
URL;VALUE=URI:https://ygametime.com/branch/moody/sports/2021-winter-basketball/11317/?utm_medium=calendar&utm_source=team_cal&utm_content=league_url#game-262914
LOCATION:Armstrong Big Gym
BEGIN:VALARM
TRIGGER:-P2H
ACTION:DISPLAY
DESCRIPTION:KB CKS-Carrie Garcia vs KB Boone-Quigley
END:VALARM
END:VEVENT
BEGIN:VEVENT
UID:moody-262920@ygametime.com
DTSTAMP:20220212T140000Z
DTSTART;TZID=America/Chicago:20220212T080000
DURATION:PT0H75M0S
SUMMARY:KB Providence-Long vs KB CKS-Carrie Garcia
DESCRIPTION:Kindergarten Boys | Basketball\nMoody Family YMCA\n
URL;VALUE=URI:https://ygametime.com/branch/moody/sports/2021-winter-basketball/11317/?utm_medium=calendar&utm_source=team_cal&utm_content=league_url#game-262920
LOCATION:Armstrong Big Gym
BEGIN:VALARM
TRIGGER:-P2H
ACTION:DISPLAY
DESCRIPTION:KB Providence-Long vs KB CKS-Carrie Garcia
END:VALARM
END:VEVENT
END:VCALENDAR

