BEGIN:VCALENDAR
VERSION:2.0
PRODID:-//YGAMETIME.com//YGT iCal Creator//EN
METHOD:PUBLISH
X-PUBLISHED-TTL:PT6H
REFRESH-INTERVAL;VALUE=DURATION:PT6H
CALSCALE:GREGORIAN
X-WR-CALNAME:YGAMETIME CALENDAR
BEGIN:VTIMEZONE
TZID:America/Chicago
X-LIC-LOCATION:America/Chicago
BEGIN:DAYLIGHT
TZOFFSETFROM:-0600
TZOFFSETTO:-0500
TZNAME:CDT
DTSTART:19700308T020000
RRULE:FREQ=YEARLY;BYMONTH=3;BYDAY=2SU
END:DAYLIGHT
BEGIN:STANDARD
TZOFFSETFROM:-0500
TZOFFSETTO:-0600
TZNAME:CST
DTSTART:19701101T020000
RRULE:FREQ=YEARLY;BYMONTH=11;BYDAY=1SU
END:STANDARD
END:VTIMEZONE
BEGIN:VEVENT
UID:moody-262877@ygametime.com
DTSTAMP:20211204T174500Z
DTSTART;TZID=America/Chicago:20211204T114500
DURATION:PT0H75M0S
SUMMARY:KB UP-Phillips vs KB Hyer-Davis
DESCRIPTION:Kindergarten Boys | Basketball\nMoody Family YMCA\n
URL;VALUE=URI:https://ygametime.com/branch/moody/sports/2021-winter-basketball/11317/?utm_medium=calendar&utm_source=team_cal&utm_content=league_url#game-262877
LOCATION:Armstrong Small Gym
BEGIN:VALARM
TRIGGER:-P2H
ACTION:DISPLAY
DESCRIPTION:KB UP-Phillips vs KB Hyer-Davis
END:VALARM
END:VEVENT
BEGIN:VEVENT
UID:moody-262885@ygametime.com
DTSTAMP:20211211T190000Z
DTSTART;TZID=America/Chicago:20211211T130000
DURATION:PT0H75M0S
SUMMARY:KB Hyer-Davis vs KB Cardinals-Stark
DESCRIPTION:Kindergarten Boys | Basketball\nMoody Family YMCA\n
URL;VALUE=URI:https://ygametime.com/branch/moody/sports/2021-winter-basketball/11317/?utm_medium=calendar&utm_source=team_cal&utm_content=league_url#game-262885
LOCATION:Armstrong Small Gym
BEGIN:VALARM
TRIGGER:-P2H
ACTION:DISPLAY
DESCRIPTION:KB Hyer-Davis vs KB Cardinals-Stark
END:VALARM
END:VEVENT
BEGIN:VEVENT
UID:moody-262893@ygametime.com
DTSTAMP:20220108T174500Z
DTSTART;TZID=America/Chicago:20220108T114500
DURATION:PT0H75M0S
SUMMARY:KB UP-Cole vs KB Hyer-Davis
DESCRIPTION:Kindergarten Boys | Basketball\nMoody Family YMCA\n
URL;VALUE=URI:https://ygametime.com/branch/moody/sports/2021-winter-basketball/11317/?utm_medium=calendar&utm_source=team_cal&utm_content=league_url#game-262893
LOCATION:Armstrong Small Gym
BEGIN:VALARM
TRIGGER:-P2H
ACTION:DISPLAY
DESCRIPTION:KB UP-Cole vs KB Hyer-Davis
END:VALARM
END:VEVENT
BEGIN:VEVENT
UID:moody-262900@ygametime.com
DTSTAMP:20220115T190000Z
DTSTART;TZID=America/Chicago:20220115T130000
DURATION:PT0H75M0S
SUMMARY:KB Hyer-Davis vs KB Providence-Duge
DESCRIPTION:Kindergarten Boys | Basketball\nMoody Family YMCA\n
URL;VALUE=URI:https://ygametime.com/branch/moody/sports/2021-winter-basketball/11317/?utm_medium=calendar&utm_source=team_cal&utm_content=league_url#game-262900
LOCATION:Armstrong Big Gym
BEGIN:VALARM
TRIGGER:-P2H
ACTION:DISPLAY
DESCRIPTION:KB Hyer-Davis vs KB Providence-Duge
END:VALARM
END:VEVENT
BEGIN:VEVENT
UID:moody-262906@ygametime.com
DTSTAMP:20220122T163000Z
DTSTART;TZID=America/Chicago:20220122T103000
DURATION:PT0H75M0S
SUMMARY:KB Boone-Quigley vs KB Hyer-Davis
DESCRIPTION:Kindergarten Boys | Basketball\nMoody Family YMCA\n
URL;VALUE=URI:https://ygametime.com/branch/moody/sports/2021-winter-basketball/11317/?utm_medium=calendar&utm_source=team_cal&utm_content=league_url#game-262906
LOCATION:Armstrong Big Gym
BEGIN:VALARM
TRIGGER:-P2H
ACTION:DISPLAY
DESCRIPTION:KB Boone-Quigley vs KB Hyer-Davis
END:VALARM
END:VEVENT
BEGIN:VEVENT
UID:moody-262912@ygametime.com
DTSTAMP:20220129T140000Z
DTSTART;TZID=America/Chicago:20220129T080000
DURATION:PT0H75M0S
SUMMARY:KB Hyer-Davis vs KB Providence-Long
DESCRIPTION:Kindergarten Boys | Basketball\nMoody Family YMCA\n
URL;VALUE=URI:https://ygametime.com/branch/moody/sports/2021-winter-basketball/11317/?utm_medium=calendar&utm_source=team_cal&utm_content=league_url#game-262912
LOCATION:Armstrong Big Gym
BEGIN:VALARM
TRIGGER:-P2H
ACTION:DISPLAY
DESCRIPTION:KB Hyer-Davis vs KB Providence-Long
END:VALARM
END:VEVENT
BEGIN:VEVENT
UID:moody-262926@ygametime.com
DTSTAMP:20220212T163000Z
DTSTART;TZID=America/Chicago:20220212T103000
DURATION:PT0H75M0S
SUMMARY:KB Arm-Smith vs KB Hyer-Davis
DESCRIPTION:Kindergarten Boys | Basketball\nMoody Family YMCA\n
URL;VALUE=URI:https://ygametime.com/branch/moody/sports/2021-winter-basketball/11317/?utm_medium=calendar&utm_source=team_cal&utm_content=league_url#game-262926
LOCATION:Armstrong Small Gym
BEGIN:VALARM
TRIGGER:-P2H
ACTION:DISPLAY
DESCRIPTION:KB Arm-Smith vs KB Hyer-Davis
END:VALARM
END:VEVENT
END:VCALENDAR

