BEGIN:VCALENDAR
VERSION:2.0
PRODID:-//YGAMETIME.com//YGT iCal Creator//EN
METHOD:PUBLISH
X-PUBLISHED-TTL:PT6H
REFRESH-INTERVAL;VALUE=DURATION:PT6H
CALSCALE:GREGORIAN
X-WR-CALNAME:YGAMETIME CALENDAR
BEGIN:VTIMEZONE
TZID:America/Chicago
X-LIC-LOCATION:America/Chicago
BEGIN:DAYLIGHT
TZOFFSETFROM:-0600
TZOFFSETTO:-0500
TZNAME:CDT
DTSTART:19700308T020000
RRULE:FREQ=YEARLY;BYMONTH=3;BYDAY=2SU
END:DAYLIGHT
BEGIN:STANDARD
TZOFFSETFROM:-0500
TZOFFSETTO:-0600
TZNAME:CST
DTSTART:19701101T020000
RRULE:FREQ=YEARLY;BYMONTH=11;BYDAY=1SU
END:STANDARD
END:VTIMEZONE
BEGIN:VEVENT
UID:moody-266931@ygametime.com
DTSTAMP:20211204T140000Z
DTSTART;TZID=America/Chicago:20211204T080000
DURATION:PT0H60M0S
SUMMARY:1B Brad-Shuart vs 1B Arm-Scarff/Michelson
DESCRIPTION:1st Grade Boys | Basketball\nMoody Family YMCA\n
URL;VALUE=URI:https://ygametime.com/branch/moody/sports/2021-winter-basketball/11291/?utm_medium=calendar&utm_source=team_cal&utm_content=league_url#game-266931
LOCATION:Moody North Gym
BEGIN:VALARM
TRIGGER:-P2H
ACTION:DISPLAY
DESCRIPTION:1B Brad-Shuart vs 1B Arm-Scarff/Michelson
END:VALARM
END:VEVENT
BEGIN:VEVENT
UID:moody-266946@ygametime.com
DTSTAMP:20211211T210000Z
DTSTART;TZID=America/Chicago:20211211T150000
DURATION:PT0H60M0S
SUMMARY:1B Arm-Scarff/Michelson vs 1B Brad-Bolander
DESCRIPTION:1st Grade Boys | Basketball\nMoody Family YMCA\n
URL;VALUE=URI:https://ygametime.com/branch/moody/sports/2021-winter-basketball/11291/?utm_medium=calendar&utm_source=team_cal&utm_content=league_url#game-266946
LOCATION:Moody North Gym
BEGIN:VALARM
TRIGGER:-P2H
ACTION:DISPLAY
DESCRIPTION:1B Arm-Scarff/Michelson vs 1B Brad-Bolander
END:VALARM
END:VEVENT
BEGIN:VEVENT
UID:moody-266953@ygametime.com
DTSTAMP:20220108T200000Z
DTSTART;TZID=America/Chicago:20220108T140000
DURATION:PT0H60M0S
SUMMARY:1B Hyer-Armbrister vs 1B Arm-Scarff/Michelson
DESCRIPTION:1st Grade Boys | Basketball\nMoody Family YMCA\n
URL;VALUE=URI:https://ygametime.com/branch/moody/sports/2021-winter-basketball/11291/?utm_medium=calendar&utm_source=team_cal&utm_content=league_url#game-266953
LOCATION:Moody North Gym
BEGIN:VALARM
TRIGGER:-P2H
ACTION:DISPLAY
DESCRIPTION:1B Hyer-Armbrister vs 1B Arm-Scarff/Michelson
END:VALARM
END:VEVENT
BEGIN:VEVENT
UID:moody-266960@ygametime.com
DTSTAMP:20220115T190000Z
DTSTART;TZID=America/Chicago:20220115T130000
DURATION:PT0H60M0S
SUMMARY:1B Arm-Scarff/Michelson vs 1B Hyer-Brown/Sturdevant
DESCRIPTION:1st Grade Boys | Basketball\nMoody Family YMCA\n
URL;VALUE=URI:https://ygametime.com/branch/moody/sports/2021-winter-basketball/11291/?utm_medium=calendar&utm_source=team_cal&utm_content=league_url#game-266960
LOCATION:Moody North Gym
BEGIN:VALARM
TRIGGER:-P2H
ACTION:DISPLAY
DESCRIPTION:1B Arm-Scarff/Michelson vs 1B Hyer-Brown/Sturdevant
END:VALARM
END:VEVENT
BEGIN:VEVENT
UID:moody-266967@ygametime.com
DTSTAMP:20220122T180000Z
DTSTART;TZID=America/Chicago:20220122T120000
DURATION:PT0H60M0S
SUMMARY:1B UP-Strohbehn vs 1B Arm-Scarff/Michelson
DESCRIPTION:1st Grade Boys | Basketball\nMoody Family YMCA\n
URL;VALUE=URI:https://ygametime.com/branch/moody/sports/2021-winter-basketball/11291/?utm_medium=calendar&utm_source=team_cal&utm_content=league_url#game-266967
LOCATION:Moody North Gym
BEGIN:VALARM
TRIGGER:-P2H
ACTION:DISPLAY
DESCRIPTION:1B UP-Strohbehn vs 1B Arm-Scarff/Michelson
END:VALARM
END:VEVENT
BEGIN:VEVENT
UID:moody-266974@ygametime.com
DTSTAMP:20220129T170000Z
DTSTART;TZID=America/Chicago:20220129T110000
DURATION:PT0H60M0S
SUMMARY:1B Arm-Scarff/Michelson vs 1B UP-Weinand
DESCRIPTION:1st Grade Boys | Basketball\nMoody Family YMCA\n
URL;VALUE=URI:https://ygametime.com/branch/moody/sports/2021-winter-basketball/11291/?utm_medium=calendar&utm_source=team_cal&utm_content=league_url#game-266974
LOCATION:Moody North Gym
BEGIN:VALARM
TRIGGER:-P2H
ACTION:DISPLAY
DESCRIPTION:1B Arm-Scarff/Michelson vs 1B UP-Weinand
END:VALARM
END:VEVENT
BEGIN:VEVENT
UID:moody-266981@ygametime.com
DTSTAMP:20220212T160000Z
DTSTART;TZID=America/Chicago:20220212T100000
DURATION:PT0H60M0S
SUMMARY:1B Arm-McNutt/Corts vs 1B Arm-Scarff/Michelson
DESCRIPTION:1st Grade Boys | Basketball\nMoody Family YMCA\n
URL;VALUE=URI:https://ygametime.com/branch/moody/sports/2021-winter-basketball/11291/?utm_medium=calendar&utm_source=team_cal&utm_content=league_url#game-266981
LOCATION:Moody North Gym
BEGIN:VALARM
TRIGGER:-P2H
ACTION:DISPLAY
DESCRIPTION:1B Arm-McNutt/Corts vs 1B Arm-Scarff/Michelson
END:VALARM
END:VEVENT
END:VCALENDAR

