BEGIN:VCALENDAR
VERSION:2.0
PRODID:-//YGAMETIME.com//YGT iCal Creator//EN
METHOD:PUBLISH
X-PUBLISHED-TTL:PT6H
REFRESH-INTERVAL;VALUE=DURATION:PT6H
CALSCALE:GREGORIAN
X-WR-CALNAME:YGAMETIME CALENDAR
BEGIN:VTIMEZONE
TZID:America/Chicago
X-LIC-LOCATION:America/Chicago
BEGIN:DAYLIGHT
TZOFFSETFROM:-0600
TZOFFSETTO:-0500
TZNAME:CDT
DTSTART:19700308T020000
RRULE:FREQ=YEARLY;BYMONTH=3;BYDAY=2SU
END:DAYLIGHT
BEGIN:STANDARD
TZOFFSETFROM:-0500
TZOFFSETTO:-0600
TZNAME:CST
DTSTART:19701101T020000
RRULE:FREQ=YEARLY;BYMONTH=11;BYDAY=1SU
END:STANDARD
END:VTIMEZONE
BEGIN:VEVENT
UID:moody-266935@ygametime.com
DTSTAMP:20211204T180000Z
DTSTART;TZID=America/Chicago:20211204T120000
DURATION:PT0H60M0S
SUMMARY:1B Prove-Zugaro,Kingsbury/Viney,Bethea,Stone vs 1B UP-Strohbehn
DESCRIPTION:1st Grade Boys | Basketball\nMoody Family YMCA\n
URL;VALUE=URI:https://ygametime.com/branch/moody/sports/2021-winter-basketball/11291/?utm_medium=calendar&utm_source=team_cal&utm_content=league_url#game-266935
LOCATION:Moody North Gym
BEGIN:VALARM
TRIGGER:-P2H
ACTION:DISPLAY
DESCRIPTION:1B Prove-Zugaro,Kingsbury/Viney,Bethea,Stone vs 1B UP-Strohbehn
END:VALARM
END:VEVENT
BEGIN:VEVENT
UID:moody-266943@ygametime.com
DTSTAMP:20211211T180000Z
DTSTART;TZID=America/Chicago:20211211T120000
DURATION:PT0H60M0S
SUMMARY:1B Arm-McNutt/Corts vs 1B Prove-Zugaro,Kingsbury/Viney,Bethea,Stone
DESCRIPTION:1st Grade Boys | Basketball\nMoody Family YMCA\n
URL;VALUE=URI:https://ygametime.com/branch/moody/sports/2021-winter-basketball/11291/?utm_medium=calendar&utm_source=team_cal&utm_content=league_url#game-266943
LOCATION:Moody North Gym
BEGIN:VALARM
TRIGGER:-P2H
ACTION:DISPLAY
DESCRIPTION:1B Arm-McNutt/Corts vs 1B Prove-Zugaro,Kingsbury/Viney,Bethea,Stone
END:VALARM
END:VEVENT
BEGIN:VEVENT
UID:moody-266951@ygametime.com
DTSTAMP:20220108T180000Z
DTSTART;TZID=America/Chicago:20220108T120000
DURATION:PT0H60M0S
SUMMARY:1B Prove-Zugaro,Kingsbury/Viney,Bethea,Stone vs 1B Arm-Longo/Smetko/Walden
DESCRIPTION:1st Grade Boys | Basketball\nMoody Family YMCA\n
URL;VALUE=URI:https://ygametime.com/branch/moody/sports/2021-winter-basketball/11291/?utm_medium=calendar&utm_source=team_cal&utm_content=league_url#game-266951
LOCATION:Moody North Gym
BEGIN:VALARM
TRIGGER:-P2H
ACTION:DISPLAY
DESCRIPTION:1B Prove-Zugaro,Kingsbury/Viney,Bethea,Stone vs 1B Arm-Longo/Smetko/Walden
END:VALARM
END:VEVENT
BEGIN:VEVENT
UID:moody-266959@ygametime.com
DTSTAMP:20220115T180000Z
DTSTART;TZID=America/Chicago:20220115T120000
DURATION:PT0H60M0S
SUMMARY:1B CKS-Hill/Wood vs 1B Prove-Zugaro,Kingsbury/Viney,Bethea,Stone
DESCRIPTION:1st Grade Boys | Basketball\nMoody Family YMCA\n
URL;VALUE=URI:https://ygametime.com/branch/moody/sports/2021-winter-basketball/11291/?utm_medium=calendar&utm_source=team_cal&utm_content=league_url#game-266959
LOCATION:Moody North Gym
BEGIN:VALARM
TRIGGER:-P2H
ACTION:DISPLAY
DESCRIPTION:1B CKS-Hill/Wood vs 1B Prove-Zugaro,Kingsbury/Viney,Bethea,Stone
END:VALARM
END:VEVENT
BEGIN:VEVENT
UID:moody-266966@ygametime.com
DTSTAMP:20220122T170000Z
DTSTART;TZID=America/Chicago:20220122T110000
DURATION:PT0H60M0S
SUMMARY:1B Prove-Zugaro,Kingsbury/Viney,Bethea,Stone vs 1B Hyer-Abubakar
DESCRIPTION:1st Grade Boys | Basketball\nMoody Family YMCA\n
URL;VALUE=URI:https://ygametime.com/branch/moody/sports/2021-winter-basketball/11291/?utm_medium=calendar&utm_source=team_cal&utm_content=league_url#game-266966
LOCATION:Moody North Gym
BEGIN:VALARM
TRIGGER:-P2H
ACTION:DISPLAY
DESCRIPTION:1B Prove-Zugaro,Kingsbury/Viney,Bethea,Stone vs 1B Hyer-Abubakar
END:VALARM
END:VEVENT
BEGIN:VEVENT
UID:moody-266972@ygametime.com
DTSTAMP:20220129T150000Z
DTSTART;TZID=America/Chicago:20220129T090000
DURATION:PT0H60M0S
SUMMARY:1B Prov-Bethea/Viney vs 1B Prove-Zugaro,Kingsbury/Viney,Bethea,Stone
DESCRIPTION:1st Grade Boys | Basketball\nMoody Family YMCA\n
URL;VALUE=URI:https://ygametime.com/branch/moody/sports/2021-winter-basketball/11291/?utm_medium=calendar&utm_source=team_cal&utm_content=league_url#game-266972
LOCATION:Moody North Gym
BEGIN:VALARM
TRIGGER:-P2H
ACTION:DISPLAY
DESCRIPTION:1B Prov-Bethea/Viney vs 1B Prove-Zugaro,Kingsbury/Viney,Bethea,Stone
END:VALARM
END:VEVENT
BEGIN:VEVENT
UID:moody-266986@ygametime.com
DTSTAMP:20220212T210000Z
DTSTART;TZID=America/Chicago:20220212T150000
DURATION:PT0H60M0S
SUMMARY:1B Prove-Zugaro,Kingsbury/Viney,Bethea,Stone vs 1B Brad-Bolander
DESCRIPTION:1st Grade Boys | Basketball\nMoody Family YMCA\n
URL;VALUE=URI:https://ygametime.com/branch/moody/sports/2021-winter-basketball/11291/?utm_medium=calendar&utm_source=team_cal&utm_content=league_url#game-266986
LOCATION:Moody North Gym
BEGIN:VALARM
TRIGGER:-P2H
ACTION:DISPLAY
DESCRIPTION:1B Prove-Zugaro,Kingsbury/Viney,Bethea,Stone vs 1B Brad-Bolander
END:VALARM
END:VEVENT
END:VCALENDAR

