BEGIN:VCALENDAR
VERSION:2.0
PRODID:-//YGAMETIME.com//YGT iCal Creator//EN
METHOD:PUBLISH
X-PUBLISHED-TTL:PT6H
REFRESH-INTERVAL;VALUE=DURATION:PT6H
CALSCALE:GREGORIAN
X-WR-CALNAME:YGAMETIME CALENDAR
BEGIN:VTIMEZONE
TZID:America/Chicago
X-LIC-LOCATION:America/Chicago
BEGIN:DAYLIGHT
TZOFFSETFROM:-0600
TZOFFSETTO:-0500
TZNAME:CDT
DTSTART:19700308T020000
RRULE:FREQ=YEARLY;BYMONTH=3;BYDAY=2SU
END:DAYLIGHT
BEGIN:STANDARD
TZOFFSETFROM:-0500
TZOFFSETTO:-0600
TZNAME:CST
DTSTART:19701101T020000
RRULE:FREQ=YEARLY;BYMONTH=11;BYDAY=1SU
END:STANDARD
END:VTIMEZONE
BEGIN:VEVENT
UID:moody-266936@ygametime.com
DTSTAMP:20211204T190000Z
DTSTART;TZID=America/Chicago:20211204T130000
DURATION:PT0H60M0S
SUMMARY:1B UP-Weinand vs 1B CKS-Hill/Wood
DESCRIPTION:1st Grade Boys | Basketball\nMoody Family YMCA\n
URL;VALUE=URI:https://ygametime.com/branch/moody/sports/2021-winter-basketball/11291/?utm_medium=calendar&utm_source=team_cal&utm_content=league_url#game-266936
LOCATION:Moody North Gym
BEGIN:VALARM
TRIGGER:-P2H
ACTION:DISPLAY
DESCRIPTION:1B UP-Weinand vs 1B CKS-Hill/Wood
END:VALARM
END:VEVENT
BEGIN:VEVENT
UID:moody-266944@ygametime.com
DTSTAMP:20211211T190000Z
DTSTART;TZID=America/Chicago:20211211T130000
DURATION:PT0H60M0S
SUMMARY:1B CKS-Hill/Wood vs 1B Brad-Toce
DESCRIPTION:1st Grade Boys | Basketball\nMoody Family YMCA\n
URL;VALUE=URI:https://ygametime.com/branch/moody/sports/2021-winter-basketball/11291/?utm_medium=calendar&utm_source=team_cal&utm_content=league_url#game-266944
LOCATION:Moody North Gym
BEGIN:VALARM
TRIGGER:-P2H
ACTION:DISPLAY
DESCRIPTION:1B CKS-Hill/Wood vs 1B Brad-Toce
END:VALARM
END:VEVENT
BEGIN:VEVENT
UID:moody-266952@ygametime.com
DTSTAMP:20220108T190000Z
DTSTART;TZID=America/Chicago:20220108T130000
DURATION:PT0H60M0S
SUMMARY:1B UP-Coleman vs 1B CKS-Hill/Wood
DESCRIPTION:1st Grade Boys | Basketball\nMoody Family YMCA\n
URL;VALUE=URI:https://ygametime.com/branch/moody/sports/2021-winter-basketball/11291/?utm_medium=calendar&utm_source=team_cal&utm_content=league_url#game-266952
LOCATION:Moody North Gym
BEGIN:VALARM
TRIGGER:-P2H
ACTION:DISPLAY
DESCRIPTION:1B UP-Coleman vs 1B CKS-Hill/Wood
END:VALARM
END:VEVENT
BEGIN:VEVENT
UID:moody-266959@ygametime.com
DTSTAMP:20220115T180000Z
DTSTART;TZID=America/Chicago:20220115T120000
DURATION:PT0H60M0S
SUMMARY:1B CKS-Hill/Wood vs 1B Prove-Zugaro,Kingsbury/Viney,Bethea,Stone
DESCRIPTION:1st Grade Boys | Basketball\nMoody Family YMCA\n
URL;VALUE=URI:https://ygametime.com/branch/moody/sports/2021-winter-basketball/11291/?utm_medium=calendar&utm_source=team_cal&utm_content=league_url#game-266959
LOCATION:Moody North Gym
BEGIN:VALARM
TRIGGER:-P2H
ACTION:DISPLAY
DESCRIPTION:1B CKS-Hill/Wood vs 1B Prove-Zugaro,Kingsbury/Viney,Bethea,Stone
END:VALARM
END:VEVENT
BEGIN:VEVENT
UID:moody-266965@ygametime.com
DTSTAMP:20220122T160000Z
DTSTART;TZID=America/Chicago:20220122T100000
DURATION:PT0H60M0S
SUMMARY:1B Brad-Litchfield vs 1B CKS-Hill/Wood
DESCRIPTION:1st Grade Boys | Basketball\nMoody Family YMCA\n
URL;VALUE=URI:https://ygametime.com/branch/moody/sports/2021-winter-basketball/11291/?utm_medium=calendar&utm_source=team_cal&utm_content=league_url#game-266965
LOCATION:Moody North Gym
BEGIN:VALARM
TRIGGER:-P2H
ACTION:DISPLAY
DESCRIPTION:1B Brad-Litchfield vs 1B CKS-Hill/Wood
END:VALARM
END:VEVENT
BEGIN:VEVENT
UID:moody-266971@ygametime.com
DTSTAMP:20220129T140000Z
DTSTART;TZID=America/Chicago:20220129T080000
DURATION:PT0H60M0S
SUMMARY:1B CKS-Hill/Wood vs 1B Brad-Shuart
DESCRIPTION:1st Grade Boys | Basketball\nMoody Family YMCA\n
URL;VALUE=URI:https://ygametime.com/branch/moody/sports/2021-winter-basketball/11291/?utm_medium=calendar&utm_source=team_cal&utm_content=league_url#game-266971
LOCATION:Moody North Gym
BEGIN:VALARM
TRIGGER:-P2H
ACTION:DISPLAY
DESCRIPTION:1B CKS-Hill/Wood vs 1B Brad-Shuart
END:VALARM
END:VEVENT
BEGIN:VEVENT
UID:moody-266985@ygametime.com
DTSTAMP:20220212T180000Z
DTSTART;TZID=America/Chicago:20220212T120000
DURATION:PT0H60M0S
SUMMARY:1B Hyer-Armbrister vs 1B CKS-Hill/Wood
DESCRIPTION:1st Grade Boys | Basketball\nMoody Family YMCA\n
URL;VALUE=URI:https://ygametime.com/branch/moody/sports/2021-winter-basketball/11291/?utm_medium=calendar&utm_source=team_cal&utm_content=league_url#game-266985
LOCATION:Moody North Gym
BEGIN:VALARM
TRIGGER:-P2H
ACTION:DISPLAY
DESCRIPTION:1B Hyer-Armbrister vs 1B CKS-Hill/Wood
END:VALARM
END:VEVENT
END:VCALENDAR

