BEGIN:VCALENDAR
VERSION:2.0
PRODID:-//YGAMETIME.com//YGT iCal Creator//EN
METHOD:PUBLISH
X-PUBLISHED-TTL:PT6H
REFRESH-INTERVAL;VALUE=DURATION:PT6H
CALSCALE:GREGORIAN
X-WR-CALNAME:YGAMETIME CALENDAR
BEGIN:VTIMEZONE
TZID:America/Chicago
X-LIC-LOCATION:America/Chicago
BEGIN:DAYLIGHT
TZOFFSETFROM:-0600
TZOFFSETTO:-0500
TZNAME:CDT
DTSTART:19700308T020000
RRULE:FREQ=YEARLY;BYMONTH=3;BYDAY=2SU
END:DAYLIGHT
BEGIN:STANDARD
TZOFFSETFROM:-0500
TZOFFSETTO:-0600
TZNAME:CST
DTSTART:19701101T020000
RRULE:FREQ=YEARLY;BYMONTH=11;BYDAY=1SU
END:STANDARD
END:VTIMEZONE
BEGIN:VEVENT
UID:moody-266937@ygametime.com
DTSTAMP:20211204T200000Z
DTSTART;TZID=America/Chicago:20211204T140000
DURATION:PT0H60M0S
SUMMARY:1B UP-Coleman vs 1B Arm-McNutt/Corts
DESCRIPTION:1st Grade Boys | Basketball\nMoody Family YMCA\n
URL;VALUE=URI:https://ygametime.com/branch/moody/sports/2021-winter-basketball/11291/?utm_medium=calendar&utm_source=team_cal&utm_content=league_url#game-266937
LOCATION:Moody North Gym
BEGIN:VALARM
TRIGGER:-P2H
ACTION:DISPLAY
DESCRIPTION:1B UP-Coleman vs 1B Arm-McNutt/Corts
END:VALARM
END:VEVENT
BEGIN:VEVENT
UID:moody-266945@ygametime.com
DTSTAMP:20211211T200000Z
DTSTART;TZID=America/Chicago:20211211T140000
DURATION:PT0H60M0S
SUMMARY:1B Arm-Longo/Smetko/Walden vs 1B UP-Coleman
DESCRIPTION:1st Grade Boys | Basketball\nMoody Family YMCA\n
URL;VALUE=URI:https://ygametime.com/branch/moody/sports/2021-winter-basketball/11291/?utm_medium=calendar&utm_source=team_cal&utm_content=league_url#game-266945
LOCATION:Moody North Gym
BEGIN:VALARM
TRIGGER:-P2H
ACTION:DISPLAY
DESCRIPTION:1B Arm-Longo/Smetko/Walden vs 1B UP-Coleman
END:VALARM
END:VEVENT
BEGIN:VEVENT
UID:moody-266952@ygametime.com
DTSTAMP:20220108T190000Z
DTSTART;TZID=America/Chicago:20220108T130000
DURATION:PT0H60M0S
SUMMARY:1B UP-Coleman vs 1B CKS-Hill/Wood
DESCRIPTION:1st Grade Boys | Basketball\nMoody Family YMCA\n
URL;VALUE=URI:https://ygametime.com/branch/moody/sports/2021-winter-basketball/11291/?utm_medium=calendar&utm_source=team_cal&utm_content=league_url#game-266952
LOCATION:Moody North Gym
BEGIN:VALARM
TRIGGER:-P2H
ACTION:DISPLAY
DESCRIPTION:1B UP-Coleman vs 1B CKS-Hill/Wood
END:VALARM
END:VEVENT
BEGIN:VEVENT
UID:moody-266958@ygametime.com
DTSTAMP:20220115T170000Z
DTSTART;TZID=America/Chicago:20220115T110000
DURATION:PT0H60M0S
SUMMARY:1B Hyer-Abubakar vs 1B UP-Coleman
DESCRIPTION:1st Grade Boys | Basketball\nMoody Family YMCA\n
URL;VALUE=URI:https://ygametime.com/branch/moody/sports/2021-winter-basketball/11291/?utm_medium=calendar&utm_source=team_cal&utm_content=league_url#game-266958
LOCATION:Moody North Gym
BEGIN:VALARM
TRIGGER:-P2H
ACTION:DISPLAY
DESCRIPTION:1B Hyer-Abubakar vs 1B UP-Coleman
END:VALARM
END:VEVENT
BEGIN:VEVENT
UID:moody-266964@ygametime.com
DTSTAMP:20220122T150000Z
DTSTART;TZID=America/Chicago:20220122T090000
DURATION:PT0H60M0S
SUMMARY:1B UP-Coleman vs 1B Prov-Bethea/Viney
DESCRIPTION:1st Grade Boys | Basketball\nMoody Family YMCA\n
URL;VALUE=URI:https://ygametime.com/branch/moody/sports/2021-winter-basketball/11291/?utm_medium=calendar&utm_source=team_cal&utm_content=league_url#game-266964
LOCATION:Moody North Gym
BEGIN:VALARM
TRIGGER:-P2H
ACTION:DISPLAY
DESCRIPTION:1B UP-Coleman vs 1B Prov-Bethea/Viney
END:VALARM
END:VEVENT
BEGIN:VEVENT
UID:moody-266978@ygametime.com
DTSTAMP:20220129T210000Z
DTSTART;TZID=America/Chicago:20220129T150000
DURATION:PT0H60M0S
SUMMARY:1B Brad-Bolander vs 1B UP-Coleman
DESCRIPTION:1st Grade Boys | Basketball\nMoody Family YMCA\n
URL;VALUE=URI:https://ygametime.com/branch/moody/sports/2021-winter-basketball/11291/?utm_medium=calendar&utm_source=team_cal&utm_content=league_url#game-266978
LOCATION:Moody North Gym
BEGIN:VALARM
TRIGGER:-P2H
ACTION:DISPLAY
DESCRIPTION:1B Brad-Bolander vs 1B UP-Coleman
END:VALARM
END:VEVENT
BEGIN:VEVENT
UID:moody-266984@ygametime.com
DTSTAMP:20220212T190000Z
DTSTART;TZID=America/Chicago:20220212T130000
DURATION:PT0H60M0S
SUMMARY:1B UP-Coleman vs 1B Hyer-Brown/Sturdevant
DESCRIPTION:1st Grade Boys | Basketball\nMoody Family YMCA\n
URL;VALUE=URI:https://ygametime.com/branch/moody/sports/2021-winter-basketball/11291/?utm_medium=calendar&utm_source=team_cal&utm_content=league_url#game-266984
LOCATION:Moody North Gym
BEGIN:VALARM
TRIGGER:-P2H
ACTION:DISPLAY
DESCRIPTION:1B UP-Coleman vs 1B Hyer-Brown/Sturdevant
END:VALARM
END:VEVENT
END:VCALENDAR

