BEGIN:VCALENDAR
VERSION:2.0
PRODID:-//YGAMETIME.com//YGT iCal Creator//EN
METHOD:PUBLISH
X-PUBLISHED-TTL:PT6H
REFRESH-INTERVAL;VALUE=DURATION:PT6H
CALSCALE:GREGORIAN
X-WR-CALNAME:YGAMETIME CALENDAR
BEGIN:VTIMEZONE
TZID:America/Chicago
X-LIC-LOCATION:America/Chicago
BEGIN:DAYLIGHT
TZOFFSETFROM:-0600
TZOFFSETTO:-0500
TZNAME:CDT
DTSTART:19700308T020000
RRULE:FREQ=YEARLY;BYMONTH=3;BYDAY=2SU
END:DAYLIGHT
BEGIN:STANDARD
TZOFFSETFROM:-0500
TZOFFSETTO:-0600
TZNAME:CST
DTSTART:19701101T020000
RRULE:FREQ=YEARLY;BYMONTH=11;BYDAY=1SU
END:STANDARD
END:VTIMEZONE
BEGIN:VEVENT
UID:moody-262858@ygametime.com
DTSTAMP:20211204T151500Z
DTSTART;TZID=America/Chicago:20211204T091500
DURATION:PT0H75M0S
SUMMARY:KG Pink Panthers-Hargrave vs KG Armstrong-Amacker
DESCRIPTION:Kindergarten Girls | Basketball\nMoody Family YMCA\n
URL;VALUE=URI:https://ygametime.com/branch/moody/sports/2021-winter-basketball/11361/?utm_medium=calendar&utm_source=team_cal&utm_content=league_url#game-262858
LOCATION:Armstrong Small Gym
BEGIN:VALARM
TRIGGER:-P2H
ACTION:DISPLAY
DESCRIPTION:KG Pink Panthers-Hargrave vs KG Armstrong-Amacker
END:VALARM
END:VEVENT
BEGIN:VEVENT
UID:moody-262861@ygametime.com
DTSTAMP:20211211T151500Z
DTSTART;TZID=America/Chicago:20211211T091500
DURATION:PT0H75M0S
SUMMARY:KG Armstrong-Amacker vs KG UP-Finney
DESCRIPTION:Kindergarten Girls | Basketball\nMoody Family YMCA\n
URL;VALUE=URI:https://ygametime.com/branch/moody/sports/2021-winter-basketball/11361/?utm_medium=calendar&utm_source=team_cal&utm_content=league_url#game-262861
LOCATION:Armstrong Small Gym
BEGIN:VALARM
TRIGGER:-P2H
ACTION:DISPLAY
DESCRIPTION:KG Armstrong-Amacker vs KG UP-Finney
END:VALARM
END:VEVENT
BEGIN:VEVENT
UID:moody-262862@ygametime.com
DTSTAMP:20220108T140000Z
DTSTART;TZID=America/Chicago:20220108T080000
DURATION:PT0H75M0S
SUMMARY:KG Bradfield-Ajami/Dixon vs KG Armstrong-Amacker
DESCRIPTION:Kindergarten Girls | Basketball\nMoody Family YMCA\n
URL;VALUE=URI:https://ygametime.com/branch/moody/sports/2021-winter-basketball/11361/?utm_medium=calendar&utm_source=team_cal&utm_content=league_url#game-262862
LOCATION:Armstrong Small Gym
BEGIN:VALARM
TRIGGER:-P2H
ACTION:DISPLAY
DESCRIPTION:KG Bradfield-Ajami/Dixon vs KG Armstrong-Amacker
END:VALARM
END:VEVENT
BEGIN:VEVENT
UID:moody-262865@ygametime.com
DTSTAMP:20220115T151500Z
DTSTART;TZID=America/Chicago:20220115T091500
DURATION:PT0H75M0S
SUMMARY:KG Pink Panthers-Hargrave vs KG Armstrong-Amacker
DESCRIPTION:Kindergarten Girls | Basketball\nMoody Family YMCA\n
URL;VALUE=URI:https://ygametime.com/branch/moody/sports/2021-winter-basketball/11361/?utm_medium=calendar&utm_source=team_cal&utm_content=league_url#game-262865
LOCATION:Armstrong Small Gym
BEGIN:VALARM
TRIGGER:-P2H
ACTION:DISPLAY
DESCRIPTION:KG Pink Panthers-Hargrave vs KG Armstrong-Amacker
END:VALARM
END:VEVENT
BEGIN:VEVENT
UID:moody-262866@ygametime.com
DTSTAMP:20220122T151500Z
DTSTART;TZID=America/Chicago:20220122T091500
DURATION:PT0H75M0S
SUMMARY:KG Armstrong-Amacker vs KG UP-Finney
DESCRIPTION:Kindergarten Girls | Basketball\nMoody Family YMCA\n
URL;VALUE=URI:https://ygametime.com/branch/moody/sports/2021-winter-basketball/11361/?utm_medium=calendar&utm_source=team_cal&utm_content=league_url#game-262866
LOCATION:Armstrong Small Gym
BEGIN:VALARM
TRIGGER:-P2H
ACTION:DISPLAY
DESCRIPTION:KG Armstrong-Amacker vs KG UP-Finney
END:VALARM
END:VEVENT
BEGIN:VEVENT
UID:moody-262869@ygametime.com
DTSTAMP:20220129T151500Z
DTSTART;TZID=America/Chicago:20220129T091500
DURATION:PT0H75M0S
SUMMARY:KG Bradfield-Ajami/Dixon vs KG Armstrong-Amacker
DESCRIPTION:Kindergarten Girls | Basketball\nMoody Family YMCA\n
URL;VALUE=URI:https://ygametime.com/branch/moody/sports/2021-winter-basketball/11361/?utm_medium=calendar&utm_source=team_cal&utm_content=league_url#game-262869
LOCATION:Armstrong Small Gym
BEGIN:VALARM
TRIGGER:-P2H
ACTION:DISPLAY
DESCRIPTION:KG Bradfield-Ajami/Dixon vs KG Armstrong-Amacker
END:VALARM
END:VEVENT
BEGIN:VEVENT
UID:moody-262870@ygametime.com
DTSTAMP:20220212T151500Z
DTSTART;TZID=America/Chicago:20220212T091500
DURATION:PT0H75M0S
SUMMARY:KG Pink Panthers-Hargrave vs KG Armstrong-Amacker
DESCRIPTION:Kindergarten Girls | Basketball\nMoody Family YMCA\n
URL;VALUE=URI:https://ygametime.com/branch/moody/sports/2021-winter-basketball/11361/?utm_medium=calendar&utm_source=team_cal&utm_content=league_url#game-262870
LOCATION:Armstrong Small Gym
BEGIN:VALARM
TRIGGER:-P2H
ACTION:DISPLAY
DESCRIPTION:KG Pink Panthers-Hargrave vs KG Armstrong-Amacker
END:VALARM
END:VEVENT
END:VCALENDAR

