BEGIN:VCALENDAR
VERSION:2.0
PRODID:-//YGAMETIME.com//YGT iCal Creator//EN
METHOD:PUBLISH
X-PUBLISHED-TTL:PT6H
REFRESH-INTERVAL;VALUE=DURATION:PT6H
CALSCALE:GREGORIAN
X-WR-CALNAME:YGAMETIME CALENDAR
BEGIN:VTIMEZONE
TZID:America/Chicago
X-LIC-LOCATION:America/Chicago
BEGIN:DAYLIGHT
TZOFFSETFROM:-0600
TZOFFSETTO:-0500
TZNAME:CDT
DTSTART:19700308T020000
RRULE:FREQ=YEARLY;BYMONTH=3;BYDAY=2SU
END:DAYLIGHT
BEGIN:STANDARD
TZOFFSETFROM:-0500
TZOFFSETTO:-0600
TZNAME:CST
DTSTART:19701101T020000
RRULE:FREQ=YEARLY;BYMONTH=11;BYDAY=1SU
END:STANDARD
END:VTIMEZONE
BEGIN:VEVENT
UID:moody-262859@ygametime.com
DTSTAMP:20211204T140000Z
DTSTART;TZID=America/Chicago:20211204T080000
DURATION:PT0H75M0S
SUMMARY:KG UP-Finney vs KG Bradfield-Ajami/Dixon
DESCRIPTION:Kindergarten Girls | Basketball\nMoody Family YMCA\n
URL;VALUE=URI:https://ygametime.com/branch/moody/sports/2021-winter-basketball/11361/?utm_medium=calendar&utm_source=team_cal&utm_content=league_url#game-262859
LOCATION:Armstrong Small Gym
BEGIN:VALARM
TRIGGER:-P2H
ACTION:DISPLAY
DESCRIPTION:KG UP-Finney vs KG Bradfield-Ajami/Dixon
END:VALARM
END:VEVENT
BEGIN:VEVENT
UID:moody-262860@ygametime.com
DTSTAMP:20211211T140000Z
DTSTART;TZID=America/Chicago:20211211T080000
DURATION:PT0H75M0S
SUMMARY:KG Bradfield-Ajami/Dixon vs KG Pink Panthers-Hargrave
DESCRIPTION:Kindergarten Girls | Basketball\nMoody Family YMCA\n
URL;VALUE=URI:https://ygametime.com/branch/moody/sports/2021-winter-basketball/11361/?utm_medium=calendar&utm_source=team_cal&utm_content=league_url#game-262860
LOCATION:Armstrong Small Gym
BEGIN:VALARM
TRIGGER:-P2H
ACTION:DISPLAY
DESCRIPTION:KG Bradfield-Ajami/Dixon vs KG Pink Panthers-Hargrave
END:VALARM
END:VEVENT
BEGIN:VEVENT
UID:moody-262862@ygametime.com
DTSTAMP:20220108T140000Z
DTSTART;TZID=America/Chicago:20220108T080000
DURATION:PT0H75M0S
SUMMARY:KG Bradfield-Ajami/Dixon vs KG Armstrong-Amacker
DESCRIPTION:Kindergarten Girls | Basketball\nMoody Family YMCA\n
URL;VALUE=URI:https://ygametime.com/branch/moody/sports/2021-winter-basketball/11361/?utm_medium=calendar&utm_source=team_cal&utm_content=league_url#game-262862
LOCATION:Armstrong Small Gym
BEGIN:VALARM
TRIGGER:-P2H
ACTION:DISPLAY
DESCRIPTION:KG Bradfield-Ajami/Dixon vs KG Armstrong-Amacker
END:VALARM
END:VEVENT
BEGIN:VEVENT
UID:moody-262864@ygametime.com
DTSTAMP:20220115T140000Z
DTSTART;TZID=America/Chicago:20220115T080000
DURATION:PT0H75M0S
SUMMARY:KG UP-Finney vs KG Bradfield-Ajami/Dixon
DESCRIPTION:Kindergarten Girls | Basketball\nMoody Family YMCA\n
URL;VALUE=URI:https://ygametime.com/branch/moody/sports/2021-winter-basketball/11361/?utm_medium=calendar&utm_source=team_cal&utm_content=league_url#game-262864
LOCATION:Armstrong Small Gym
BEGIN:VALARM
TRIGGER:-P2H
ACTION:DISPLAY
DESCRIPTION:KG UP-Finney vs KG Bradfield-Ajami/Dixon
END:VALARM
END:VEVENT
BEGIN:VEVENT
UID:moody-262867@ygametime.com
DTSTAMP:20220122T140000Z
DTSTART;TZID=America/Chicago:20220122T080000
DURATION:PT0H75M0S
SUMMARY:KG Bradfield-Ajami/Dixon vs KG Pink Panthers-Hargrave
DESCRIPTION:Kindergarten Girls | Basketball\nMoody Family YMCA\n
URL;VALUE=URI:https://ygametime.com/branch/moody/sports/2021-winter-basketball/11361/?utm_medium=calendar&utm_source=team_cal&utm_content=league_url#game-262867
LOCATION:Armstrong Small Gym
BEGIN:VALARM
TRIGGER:-P2H
ACTION:DISPLAY
DESCRIPTION:KG Bradfield-Ajami/Dixon vs KG Pink Panthers-Hargrave
END:VALARM
END:VEVENT
BEGIN:VEVENT
UID:moody-262869@ygametime.com
DTSTAMP:20220129T151500Z
DTSTART;TZID=America/Chicago:20220129T091500
DURATION:PT0H75M0S
SUMMARY:KG Bradfield-Ajami/Dixon vs KG Armstrong-Amacker
DESCRIPTION:Kindergarten Girls | Basketball\nMoody Family YMCA\n
URL;VALUE=URI:https://ygametime.com/branch/moody/sports/2021-winter-basketball/11361/?utm_medium=calendar&utm_source=team_cal&utm_content=league_url#game-262869
LOCATION:Armstrong Small Gym
BEGIN:VALARM
TRIGGER:-P2H
ACTION:DISPLAY
DESCRIPTION:KG Bradfield-Ajami/Dixon vs KG Armstrong-Amacker
END:VALARM
END:VEVENT
BEGIN:VEVENT
UID:moody-262871@ygametime.com
DTSTAMP:20220212T140000Z
DTSTART;TZID=America/Chicago:20220212T080000
DURATION:PT0H75M0S
SUMMARY:KG UP-Finney vs KG Bradfield-Ajami/Dixon
DESCRIPTION:Kindergarten Girls | Basketball\nMoody Family YMCA\n
URL;VALUE=URI:https://ygametime.com/branch/moody/sports/2021-winter-basketball/11361/?utm_medium=calendar&utm_source=team_cal&utm_content=league_url#game-262871
LOCATION:Armstrong Small Gym
BEGIN:VALARM
TRIGGER:-P2H
ACTION:DISPLAY
DESCRIPTION:KG UP-Finney vs KG Bradfield-Ajami/Dixon
END:VALARM
END:VEVENT
END:VCALENDAR

