BEGIN:VCALENDAR
VERSION:2.0
PRODID:-//YGAMETIME.com//YGT iCal Creator//EN
METHOD:PUBLISH
X-PUBLISHED-TTL:PT6H
REFRESH-INTERVAL;VALUE=DURATION:PT6H
CALSCALE:GREGORIAN
X-WR-CALNAME:YGAMETIME CALENDAR
BEGIN:VTIMEZONE
TZID:America/Chicago
X-LIC-LOCATION:America/Chicago
BEGIN:DAYLIGHT
TZOFFSETFROM:-0600
TZOFFSETTO:-0500
TZNAME:CDT
DTSTART:19700308T020000
RRULE:FREQ=YEARLY;BYMONTH=3;BYDAY=2SU
END:DAYLIGHT
BEGIN:STANDARD
TZOFFSETFROM:-0500
TZOFFSETTO:-0600
TZNAME:CST
DTSTART:19701101T020000
RRULE:FREQ=YEARLY;BYMONTH=11;BYDAY=1SU
END:STANDARD
END:VTIMEZONE
BEGIN:VEVENT
UID:moody-265015@ygametime.com
DTSTAMP:20211204T150000Z
DTSTART;TZID=America/Chicago:20211204T090000
DURATION:PT0H60M0S
SUMMARY:1G UP-Comeaux vs 1G Bradfield-Jones
DESCRIPTION:1st Grade Girls | Basketball\nMoody Family YMCA\n
URL;VALUE=URI:https://ygametime.com/branch/moody/sports/2021-winter-basketball/11362/?utm_medium=calendar&utm_source=team_cal&utm_content=league_url#game-265015
LOCATION:Bradfield Elementary
BEGIN:VALARM
TRIGGER:-P2H
ACTION:DISPLAY
DESCRIPTION:1G UP-Comeaux vs 1G Bradfield-Jones
END:VALARM
END:VEVENT
BEGIN:VEVENT
UID:moody-265020@ygametime.com
DTSTAMP:20211211T150000Z
DTSTART;TZID=America/Chicago:20211211T090000
DURATION:PT0H60M0S
SUMMARY:1G Bradfield-Jones vs 1G Armstrong-Walden
DESCRIPTION:1st Grade Girls | Basketball\nMoody Family YMCA\n
URL;VALUE=URI:https://ygametime.com/branch/moody/sports/2021-winter-basketball/11362/?utm_medium=calendar&utm_source=team_cal&utm_content=league_url#game-265020
LOCATION:Bradfield Elementary
BEGIN:VALARM
TRIGGER:-P2H
ACTION:DISPLAY
DESCRIPTION:1G Bradfield-Jones vs 1G Armstrong-Walden
END:VALARM
END:VEVENT
BEGIN:VEVENT
UID:moody-265026@ygametime.com
DTSTAMP:20220108T160000Z
DTSTART;TZID=America/Chicago:20220108T100000
DURATION:PT0H60M0S
SUMMARY:1G Bradfield-Jones vs 1G Hyer-Weinstein
DESCRIPTION:1st Grade Girls | Basketball\nMoody Family YMCA\n
URL;VALUE=URI:https://ygametime.com/branch/moody/sports/2021-winter-basketball/11362/?utm_medium=calendar&utm_source=team_cal&utm_content=league_url#game-265026
LOCATION:Bradfield Elementary
BEGIN:VALARM
TRIGGER:-P2H
ACTION:DISPLAY
DESCRIPTION:1G Bradfield-Jones vs 1G Hyer-Weinstein
END:VALARM
END:VEVENT
BEGIN:VEVENT
UID:moody-265029@ygametime.com
DTSTAMP:20220115T140000Z
DTSTART;TZID=America/Chicago:20220115T080000
DURATION:PT0H60M0S
SUMMARY:1G Bradfield-Jones vs BYE WEEK
DESCRIPTION:1st Grade Girls | Basketball\nMoody Family YMCA\n
URL;VALUE=URI:https://ygametime.com/branch/moody/sports/2021-winter-basketball/11362/?utm_medium=calendar&utm_source=team_cal&utm_content=league_url#game-265029
LOCATION:Bradfield Elementary
BEGIN:VALARM
TRIGGER:-P2H
ACTION:DISPLAY
DESCRIPTION:1G Bradfield-Jones vs BYE WEEK
END:VALARM
END:VEVENT
BEGIN:VEVENT
UID:moody-265034@ygametime.com
DTSTAMP:20220122T140000Z
DTSTART;TZID=America/Chicago:20220122T080000
DURATION:PT0H60M0S
SUMMARY:1G CKS-Drabinski vs 1G Bradfield-Jones
DESCRIPTION:1st Grade Girls | Basketball\nMoody Family YMCA\n
URL;VALUE=URI:https://ygametime.com/branch/moody/sports/2021-winter-basketball/11362/?utm_medium=calendar&utm_source=team_cal&utm_content=league_url#game-265034
LOCATION:Bradfield Elementary
BEGIN:VALARM
TRIGGER:-P2H
ACTION:DISPLAY
DESCRIPTION:1G CKS-Drabinski vs 1G Bradfield-Jones
END:VALARM
END:VEVENT
BEGIN:VEVENT
UID:moody-265043@ygametime.com
DTSTAMP:20220129T180000Z
DTSTART;TZID=America/Chicago:20220129T120000
DURATION:PT0H60M0S
SUMMARY:1G Bradfield-Jones vs 1G UP-Hanna/Sorenson
DESCRIPTION:1st Grade Girls | Basketball\nMoody Family YMCA\n
URL;VALUE=URI:https://ygametime.com/branch/moody/sports/2021-winter-basketball/11362/?utm_medium=calendar&utm_source=team_cal&utm_content=league_url#game-265043
LOCATION:Bradfield Elementary
BEGIN:VALARM
TRIGGER:-P2H
ACTION:DISPLAY
DESCRIPTION:1G Bradfield-Jones vs 1G UP-Hanna/Sorenson
END:VALARM
END:VEVENT
BEGIN:VEVENT
UID:moody-265046@ygametime.com
DTSTAMP:20220212T160000Z
DTSTART;TZID=America/Chicago:20220212T100000
DURATION:PT0H60M0S
SUMMARY:1G Hyer-Gonzalez/Kershaw vs 1G Bradfield-Jones
DESCRIPTION:1st Grade Girls | Basketball\nMoody Family YMCA\n
URL;VALUE=URI:https://ygametime.com/branch/moody/sports/2021-winter-basketball/11362/?utm_medium=calendar&utm_source=team_cal&utm_content=league_url#game-265046
LOCATION:Bradfield Elementary
BEGIN:VALARM
TRIGGER:-P2H
ACTION:DISPLAY
DESCRIPTION:1G Hyer-Gonzalez/Kershaw vs 1G Bradfield-Jones
END:VALARM
END:VEVENT
END:VCALENDAR

