BEGIN:VCALENDAR
VERSION:2.0
PRODID:-//YGAMETIME.com//YGT iCal Creator//EN
METHOD:PUBLISH
X-PUBLISHED-TTL:PT6H
REFRESH-INTERVAL;VALUE=DURATION:PT6H
CALSCALE:GREGORIAN
X-WR-CALNAME:YGAMETIME CALENDAR
BEGIN:VTIMEZONE
TZID:America/Chicago
X-LIC-LOCATION:America/Chicago
BEGIN:DAYLIGHT
TZOFFSETFROM:-0600
TZOFFSETTO:-0500
TZNAME:CDT
DTSTART:19700308T020000
RRULE:FREQ=YEARLY;BYMONTH=3;BYDAY=2SU
END:DAYLIGHT
BEGIN:STANDARD
TZOFFSETFROM:-0500
TZOFFSETTO:-0600
TZNAME:CST
DTSTART:19701101T020000
RRULE:FREQ=YEARLY;BYMONTH=11;BYDAY=1SU
END:STANDARD
END:VTIMEZONE
BEGIN:VEVENT
UID:moody-265017@ygametime.com
DTSTAMP:20211204T170000Z
DTSTART;TZID=America/Chicago:20211204T110000
DURATION:PT0H60M0S
SUMMARY:1G Armstrong-Walden vs 1G Hyer-Weinstein
DESCRIPTION:1st Grade Girls | Basketball\nMoody Family YMCA\n
URL;VALUE=URI:https://ygametime.com/branch/moody/sports/2021-winter-basketball/11362/?utm_medium=calendar&utm_source=team_cal&utm_content=league_url#game-265017
LOCATION:Bradfield Elementary
BEGIN:VALARM
TRIGGER:-P2H
ACTION:DISPLAY
DESCRIPTION:1G Armstrong-Walden vs 1G Hyer-Weinstein
END:VALARM
END:VEVENT
BEGIN:VEVENT
UID:moody-265022@ygametime.com
DTSTAMP:20211211T170000Z
DTSTART;TZID=America/Chicago:20211211T110000
DURATION:PT0H60M0S
SUMMARY:1G Hyer-Weinstein vs 1G Providence-Heath/Lewis
DESCRIPTION:1st Grade Girls | Basketball\nMoody Family YMCA\n
URL;VALUE=URI:https://ygametime.com/branch/moody/sports/2021-winter-basketball/11362/?utm_medium=calendar&utm_source=team_cal&utm_content=league_url#game-265022
LOCATION:Bradfield Elementary
BEGIN:VALARM
TRIGGER:-P2H
ACTION:DISPLAY
DESCRIPTION:1G Hyer-Weinstein vs 1G Providence-Heath/Lewis
END:VALARM
END:VEVENT
BEGIN:VEVENT
UID:moody-265026@ygametime.com
DTSTAMP:20220108T160000Z
DTSTART;TZID=America/Chicago:20220108T100000
DURATION:PT0H60M0S
SUMMARY:1G Bradfield-Jones vs 1G Hyer-Weinstein
DESCRIPTION:1st Grade Girls | Basketball\nMoody Family YMCA\n
URL;VALUE=URI:https://ygametime.com/branch/moody/sports/2021-winter-basketball/11362/?utm_medium=calendar&utm_source=team_cal&utm_content=league_url#game-265026
LOCATION:Bradfield Elementary
BEGIN:VALARM
TRIGGER:-P2H
ACTION:DISPLAY
DESCRIPTION:1G Bradfield-Jones vs 1G Hyer-Weinstein
END:VALARM
END:VEVENT
BEGIN:VEVENT
UID:moody-265030@ygametime.com
DTSTAMP:20220115T150000Z
DTSTART;TZID=America/Chicago:20220115T090000
DURATION:PT0H60M0S
SUMMARY:1G Hyer-Weinstein vs 1G CKS-Drabinski
DESCRIPTION:1st Grade Girls | Basketball\nMoody Family YMCA\n
URL;VALUE=URI:https://ygametime.com/branch/moody/sports/2021-winter-basketball/11362/?utm_medium=calendar&utm_source=team_cal&utm_content=league_url#game-265030
LOCATION:Bradfield Elementary
BEGIN:VALARM
TRIGGER:-P2H
ACTION:DISPLAY
DESCRIPTION:1G Hyer-Weinstein vs 1G CKS-Drabinski
END:VALARM
END:VEVENT
BEGIN:VEVENT
UID:moody-265038@ygametime.com
DTSTAMP:20220122T180000Z
DTSTART;TZID=America/Chicago:20220122T120000
DURATION:PT0H60M0S
SUMMARY:1G UP-Hanna/Sorenson vs 1G Hyer-Weinstein
DESCRIPTION:1st Grade Girls | Basketball\nMoody Family YMCA\n
URL;VALUE=URI:https://ygametime.com/branch/moody/sports/2021-winter-basketball/11362/?utm_medium=calendar&utm_source=team_cal&utm_content=league_url#game-265038
LOCATION:Bradfield Elementary
BEGIN:VALARM
TRIGGER:-P2H
ACTION:DISPLAY
DESCRIPTION:1G UP-Hanna/Sorenson vs 1G Hyer-Weinstein
END:VALARM
END:VEVENT
BEGIN:VEVENT
UID:moody-265041@ygametime.com
DTSTAMP:20220129T160000Z
DTSTART;TZID=America/Chicago:20220129T100000
DURATION:PT0H60M0S
SUMMARY:1G Hyer-Weinstein vs 1G Hyer-Gonzalez/Kershaw
DESCRIPTION:1st Grade Girls | Basketball\nMoody Family YMCA\n
URL;VALUE=URI:https://ygametime.com/branch/moody/sports/2021-winter-basketball/11362/?utm_medium=calendar&utm_source=team_cal&utm_content=league_url#game-265041
LOCATION:Bradfield Elementary
BEGIN:VALARM
TRIGGER:-P2H
ACTION:DISPLAY
DESCRIPTION:1G Hyer-Weinstein vs 1G Hyer-Gonzalez/Kershaw
END:VALARM
END:VEVENT
BEGIN:VEVENT
UID:moody-265044@ygametime.com
DTSTAMP:20220212T140000Z
DTSTART;TZID=America/Chicago:20220212T080000
DURATION:PT0H60M0S
SUMMARY:1G Boone-Purcell vs 1G Hyer-Weinstein
DESCRIPTION:1st Grade Girls | Basketball\nMoody Family YMCA\n
URL;VALUE=URI:https://ygametime.com/branch/moody/sports/2021-winter-basketball/11362/?utm_medium=calendar&utm_source=team_cal&utm_content=league_url#game-265044
LOCATION:Bradfield Elementary
BEGIN:VALARM
TRIGGER:-P2H
ACTION:DISPLAY
DESCRIPTION:1G Boone-Purcell vs 1G Hyer-Weinstein
END:VALARM
END:VEVENT
END:VCALENDAR

