BEGIN:VCALENDAR
VERSION:2.0
PRODID:-//YGAMETIME.com//YGT iCal Creator//EN
METHOD:PUBLISH
X-PUBLISHED-TTL:PT6H
REFRESH-INTERVAL;VALUE=DURATION:PT6H
CALSCALE:GREGORIAN
X-WR-CALNAME:YGAMETIME CALENDAR
BEGIN:VTIMEZONE
TZID:America/Chicago
X-LIC-LOCATION:America/Chicago
BEGIN:DAYLIGHT
TZOFFSETFROM:-0600
TZOFFSETTO:-0500
TZNAME:CDT
DTSTART:19700308T020000
RRULE:FREQ=YEARLY;BYMONTH=3;BYDAY=2SU
END:DAYLIGHT
BEGIN:STANDARD
TZOFFSETFROM:-0500
TZOFFSETTO:-0600
TZNAME:CST
DTSTART:19701101T020000
RRULE:FREQ=YEARLY;BYMONTH=11;BYDAY=1SU
END:STANDARD
END:VTIMEZONE
BEGIN:VEVENT
UID:moody-266938@ygametime.com
DTSTAMP:20211204T210000Z
DTSTART;TZID=America/Chicago:20211204T150000
DURATION:PT0H60M0S
SUMMARY:1B Brad-Toce vs 1B Arm-Longo/Smetko/Walden
DESCRIPTION:1st Grade Boys | Basketball\nMoody Family YMCA\n
URL;VALUE=URI:https://ygametime.com/branch/moody/sports/2021-winter-basketball/11291/?utm_medium=calendar&utm_source=team_cal&utm_content=league_url#game-266938
LOCATION:Moody North Gym
BEGIN:VALARM
TRIGGER:-P2H
ACTION:DISPLAY
DESCRIPTION:1B Brad-Toce vs 1B Arm-Longo/Smetko/Walden
END:VALARM
END:VEVENT
BEGIN:VEVENT
UID:moody-266945@ygametime.com
DTSTAMP:20211211T200000Z
DTSTART;TZID=America/Chicago:20211211T140000
DURATION:PT0H60M0S
SUMMARY:1B Arm-Longo/Smetko/Walden vs 1B UP-Coleman
DESCRIPTION:1st Grade Boys | Basketball\nMoody Family YMCA\n
URL;VALUE=URI:https://ygametime.com/branch/moody/sports/2021-winter-basketball/11291/?utm_medium=calendar&utm_source=team_cal&utm_content=league_url#game-266945
LOCATION:Moody North Gym
BEGIN:VALARM
TRIGGER:-P2H
ACTION:DISPLAY
DESCRIPTION:1B Arm-Longo/Smetko/Walden vs 1B UP-Coleman
END:VALARM
END:VEVENT
BEGIN:VEVENT
UID:moody-266951@ygametime.com
DTSTAMP:20220108T180000Z
DTSTART;TZID=America/Chicago:20220108T120000
DURATION:PT0H60M0S
SUMMARY:1B Prove-Zugaro,Kingsbury/Viney,Bethea,Stone vs 1B Arm-Longo/Smetko/Walden
DESCRIPTION:1st Grade Boys | Basketball\nMoody Family YMCA\n
URL;VALUE=URI:https://ygametime.com/branch/moody/sports/2021-winter-basketball/11291/?utm_medium=calendar&utm_source=team_cal&utm_content=league_url#game-266951
LOCATION:Moody North Gym
BEGIN:VALARM
TRIGGER:-P2H
ACTION:DISPLAY
DESCRIPTION:1B Prove-Zugaro,Kingsbury/Viney,Bethea,Stone vs 1B Arm-Longo/Smetko/Walden
END:VALARM
END:VEVENT
BEGIN:VEVENT
UID:moody-266957@ygametime.com
DTSTAMP:20220115T160000Z
DTSTART;TZID=America/Chicago:20220115T100000
DURATION:PT0H60M0S
SUMMARY:1B Arm-Longo/Smetko/Walden vs 1B Brad-Litchfield
DESCRIPTION:1st Grade Boys | Basketball\nMoody Family YMCA\n
URL;VALUE=URI:https://ygametime.com/branch/moody/sports/2021-winter-basketball/11291/?utm_medium=calendar&utm_source=team_cal&utm_content=league_url#game-266957
LOCATION:Moody North Gym
BEGIN:VALARM
TRIGGER:-P2H
ACTION:DISPLAY
DESCRIPTION:1B Arm-Longo/Smetko/Walden vs 1B Brad-Litchfield
END:VALARM
END:VEVENT
BEGIN:VEVENT
UID:moody-266963@ygametime.com
DTSTAMP:20220122T140000Z
DTSTART;TZID=America/Chicago:20220122T080000
DURATION:PT0H60M0S
SUMMARY:1B Brad-Shuart vs 1B Arm-Longo/Smetko/Walden
DESCRIPTION:1st Grade Boys | Basketball\nMoody Family YMCA\n
URL;VALUE=URI:https://ygametime.com/branch/moody/sports/2021-winter-basketball/11291/?utm_medium=calendar&utm_source=team_cal&utm_content=league_url#game-266963
LOCATION:Moody North Gym
BEGIN:VALARM
TRIGGER:-P2H
ACTION:DISPLAY
DESCRIPTION:1B Brad-Shuart vs 1B Arm-Longo/Smetko/Walden
END:VALARM
END:VEVENT
BEGIN:VEVENT
UID:moody-266977@ygametime.com
DTSTAMP:20220129T200000Z
DTSTART;TZID=America/Chicago:20220129T140000
DURATION:PT0H60M0S
SUMMARY:1B Arm-Longo/Smetko/Walden vs 1B Hyer-Armbrister
DESCRIPTION:1st Grade Boys | Basketball\nMoody Family YMCA\n
URL;VALUE=URI:https://ygametime.com/branch/moody/sports/2021-winter-basketball/11291/?utm_medium=calendar&utm_source=team_cal&utm_content=league_url#game-266977
LOCATION:Moody North Gym
BEGIN:VALARM
TRIGGER:-P2H
ACTION:DISPLAY
DESCRIPTION:1B Arm-Longo/Smetko/Walden vs 1B Hyer-Armbrister
END:VALARM
END:VEVENT
BEGIN:VEVENT
UID:moody-266983@ygametime.com
DTSTAMP:20220212T200000Z
DTSTART;TZID=America/Chicago:20220212T140000
DURATION:PT0H60M0S
SUMMARY:1B UP-Strohbehn vs 1B Arm-Longo/Smetko/Walden
DESCRIPTION:1st Grade Boys | Basketball\nMoody Family YMCA\n
URL;VALUE=URI:https://ygametime.com/branch/moody/sports/2021-winter-basketball/11291/?utm_medium=calendar&utm_source=team_cal&utm_content=league_url#game-266983
LOCATION:Moody North Gym
BEGIN:VALARM
TRIGGER:-P2H
ACTION:DISPLAY
DESCRIPTION:1B UP-Strohbehn vs 1B Arm-Longo/Smetko/Walden
END:VALARM
END:VEVENT
END:VCALENDAR

