BEGIN:VCALENDAR
VERSION:2.0
PRODID:-//YGAMETIME.com//YGT iCal Creator//EN
METHOD:PUBLISH
X-PUBLISHED-TTL:PT6H
REFRESH-INTERVAL;VALUE=DURATION:PT6H
CALSCALE:GREGORIAN
X-WR-CALNAME:YGAMETIME CALENDAR
BEGIN:VTIMEZONE
TZID:America/Chicago
X-LIC-LOCATION:America/Chicago
BEGIN:DAYLIGHT
TZOFFSETFROM:-0600
TZOFFSETTO:-0500
TZNAME:CDT
DTSTART:19700308T020000
RRULE:FREQ=YEARLY;BYMONTH=3;BYDAY=2SU
END:DAYLIGHT
BEGIN:STANDARD
TZOFFSETFROM:-0500
TZOFFSETTO:-0600
TZNAME:CST
DTSTART:19701101T020000
RRULE:FREQ=YEARLY;BYMONTH=11;BYDAY=1SU
END:STANDARD
END:VTIMEZONE
BEGIN:VEVENT
UID:moody-265882@ygametime.com
DTSTAMP:20211211T021500Z
DTSTART;TZID=America/Chicago:20211210T201500
DURATION:PT0H60M0S
SUMMARY:5B Prov-Zugaro vs 5B MIS-Doyle/Brooks
DESCRIPTION:5th Grade Boys | Basketball\nMoody Family YMCA\n
URL;VALUE=URI:https://ygametime.com/branch/moody/sports/2021-winter-basketball/11377/?utm_medium=calendar&utm_source=team_cal&utm_content=league_url#game-265882
LOCATION:Bradfield Elementary
BEGIN:VALARM
TRIGGER:-P2H
ACTION:DISPLAY
DESCRIPTION:5B Prov-Zugaro vs 5B MIS-Doyle/Brooks
END:VALARM
END:VEVENT
BEGIN:VEVENT
UID:moody-265884@ygametime.com
DTSTAMP:20220108T011500Z
DTSTART;TZID=America/Chicago:20220107T191500
DURATION:PT0H60M0S
SUMMARY:5B ESD Fahr GOLD vs 5B Prov-Zugaro
DESCRIPTION:5th Grade Boys | Basketball\nMoody Family YMCA\n
URL;VALUE=URI:https://ygametime.com/branch/moody/sports/2021-winter-basketball/11377/?utm_medium=calendar&utm_source=team_cal&utm_content=league_url#game-265884
LOCATION:Bradfield Elementary
BEGIN:VALARM
TRIGGER:-P2H
ACTION:DISPLAY
DESCRIPTION:5B ESD Fahr GOLD vs 5B Prov-Zugaro
END:VALARM
END:VEVENT
BEGIN:VEVENT
UID:moody-265886@ygametime.com
DTSTAMP:20220115T001500Z
DTSTART;TZID=America/Chicago:20220114T181500
DURATION:PT0H60M0S
SUMMARY:5B Prov-Zugaro vs 5B MIS-Lockridge
DESCRIPTION:5th Grade Boys | Basketball\nMoody Family YMCA\n
URL;VALUE=URI:https://ygametime.com/branch/moody/sports/2021-winter-basketball/11377/?utm_medium=calendar&utm_source=team_cal&utm_content=league_url#game-265886
LOCATION:Bradfield Elementary
BEGIN:VALARM
TRIGGER:-P2H
ACTION:DISPLAY
DESCRIPTION:5B Prov-Zugaro vs 5B MIS-Lockridge
END:VALARM
END:VEVENT
BEGIN:VEVENT
UID:moody-265890@ygametime.com
DTSTAMP:20220122T001500Z
DTSTART;TZID=America/Chicago:20220121T181500
DURATION:PT0H60M0S
SUMMARY:5B MIS-Plohg/Singleton vs 5B Prov-Zugaro
DESCRIPTION:5th Grade Boys | Basketball\nMoody Family YMCA\n
URL;VALUE=URI:https://ygametime.com/branch/moody/sports/2021-winter-basketball/11377/?utm_medium=calendar&utm_source=team_cal&utm_content=league_url#game-265890
LOCATION:Boone Elementary
BEGIN:VALARM
TRIGGER:-P2H
ACTION:DISPLAY
DESCRIPTION:5B MIS-Plohg/Singleton vs 5B Prov-Zugaro
END:VALARM
END:VEVENT
BEGIN:VEVENT
UID:moody-272938@ygametime.com
DTSTAMP:20220129T011500Z
DTSTART;TZID=America/Chicago:20220128T191500
DURATION:PT0H60M0S
SUMMARY:5B MIS-Doyle/Brooks II vs 5B Prov-Zugaro
DESCRIPTION:5th Grade Boys | Basketball\nMoody Family YMCA\n
URL;VALUE=URI:https://ygametime.com/branch/moody/sports/2021-winter-basketball/11377/?utm_medium=calendar&utm_source=team_cal&utm_content=league_url#game-272938
LOCATION:Bradfield Elementary
BEGIN:VALARM
TRIGGER:-P2H
ACTION:DISPLAY
DESCRIPTION:5B MIS-Doyle/Brooks II vs 5B Prov-Zugaro
END:VALARM
END:VEVENT
BEGIN:VEVENT
UID:moody-265896@ygametime.com
DTSTAMP:20220205T011500Z
DTSTART;TZID=America/Chicago:20220204T191500
DURATION:PT0H60M0S
SUMMARY:5B ESD Red vs 5B Prov-Zugaro
DESCRIPTION:5th Grade Boys | Basketball\nMoody Family YMCA\n
URL;VALUE=URI:https://ygametime.com/branch/moody/sports/2021-winter-basketball/11377/?utm_medium=calendar&utm_source=team_cal&utm_content=league_url#game-265896
LOCATION:Boone Elementary
BEGIN:VALARM
TRIGGER:-P2H
ACTION:DISPLAY
DESCRIPTION:5B ESD Red vs 5B Prov-Zugaro
END:VALARM
END:VEVENT
BEGIN:VEVENT
UID:moody-284077@ygametime.com
DTSTAMP:20220209T011500Z
DTSTART;TZID=America/Chicago:20220208T191500
DURATION:PT0H60M0S
SUMMARY:5B Prov-Zugaro vs 5B MIS-Doyle/Brooks II
DESCRIPTION:5th Grade Boys | Basketball\nMoody Family YMCA\n
URL;VALUE=URI:https://ygametime.com/branch/moody/sports/2021-winter-basketball/11377/?utm_medium=calendar&utm_source=team_cal&utm_content=league_url#game-284077
LOCATION:UP Elementary
BEGIN:VALARM
TRIGGER:-P2H
ACTION:DISPLAY
DESCRIPTION:5B Prov-Zugaro vs 5B MIS-Doyle/Brooks II
END:VALARM
END:VEVENT
BEGIN:VEVENT
UID:moody-284080@ygametime.com
DTSTAMP:20220211T001500Z
DTSTART;TZID=America/Chicago:20220210T181500
DURATION:PT0H60M0S
SUMMARY:5B ESD Red vs 5B Prov-Zugaro
DESCRIPTION:5th Grade Boys | Basketball\nMoody Family YMCA\n
URL;VALUE=URI:https://ygametime.com/branch/moody/sports/2021-winter-basketball/11377/?utm_medium=calendar&utm_source=team_cal&utm_content=league_url#game-284080
LOCATION:Boone Elementary
BEGIN:VALARM
TRIGGER:-P2H
ACTION:DISPLAY
DESCRIPTION:5B ESD Red vs 5B Prov-Zugaro
END:VALARM
END:VEVENT
END:VCALENDAR

