BEGIN:VCALENDAR
VERSION:2.0
PRODID:-//YGAMETIME.com//YGT iCal Creator//EN
METHOD:PUBLISH
X-PUBLISHED-TTL:PT6H
REFRESH-INTERVAL;VALUE=DURATION:PT6H
CALSCALE:GREGORIAN
X-WR-CALNAME:YGAMETIME CALENDAR
BEGIN:VTIMEZONE
TZID:America/Chicago
X-LIC-LOCATION:America/Chicago
BEGIN:DAYLIGHT
TZOFFSETFROM:-0600
TZOFFSETTO:-0500
TZNAME:CDT
DTSTART:19700308T020000
RRULE:FREQ=YEARLY;BYMONTH=3;BYDAY=2SU
END:DAYLIGHT
BEGIN:STANDARD
TZOFFSETFROM:-0500
TZOFFSETTO:-0600
TZNAME:CST
DTSTART:19701101T020000
RRULE:FREQ=YEARLY;BYMONTH=11;BYDAY=1SU
END:STANDARD
END:VTIMEZONE
BEGIN:VEVENT
UID:moody-265183@ygametime.com
DTSTAMP:20211204T140000Z
DTSTART;TZID=America/Chicago:20211204T080000
DURATION:PT0H60M0S
SUMMARY:2G Providence-Godwin vs 2G Arm-Michelson/Shoemaker,Shelton
DESCRIPTION:2nd Grade Girls | Basketball\nMoody Family YMCA\n
URL;VALUE=URI:https://ygametime.com/branch/moody/sports/2021-winter-basketball/11381/?utm_medium=calendar&utm_source=team_cal&utm_content=league_url#game-265183
LOCATION:Moody South Gym
BEGIN:VALARM
TRIGGER:-P2H
ACTION:DISPLAY
DESCRIPTION:2G Providence-Godwin vs 2G Arm-Michelson/Shoemaker,Shelton
END:VALARM
END:VEVENT
BEGIN:VEVENT
UID:moody-265192@ygametime.com
DTSTAMP:20211211T180000Z
DTSTART;TZID=America/Chicago:20211211T120000
DURATION:PT0H60M0S
SUMMARY:2G Arm-Michelson/Shoemaker,Shelton vs 2G UP-Knobler
DESCRIPTION:2nd Grade Girls | Basketball\nMoody Family YMCA\n
URL;VALUE=URI:https://ygametime.com/branch/moody/sports/2021-winter-basketball/11381/?utm_medium=calendar&utm_source=team_cal&utm_content=league_url#game-265192
LOCATION:UP Elementary
BEGIN:VALARM
TRIGGER:-P2H
ACTION:DISPLAY
DESCRIPTION:2G Arm-Michelson/Shoemaker,Shelton vs 2G UP-Knobler
END:VALARM
END:VEVENT
BEGIN:VEVENT
UID:moody-265196@ygametime.com
DTSTAMP:20220108T170000Z
DTSTART;TZID=America/Chicago:20220108T110000
DURATION:PT0H60M0S
SUMMARY:2G UP-Nierling/Oneal vs 2G Arm-Michelson/Shoemaker,Shelton
DESCRIPTION:2nd Grade Girls | Basketball\nMoody Family YMCA\n
URL;VALUE=URI:https://ygametime.com/branch/moody/sports/2021-winter-basketball/11381/?utm_medium=calendar&utm_source=team_cal&utm_content=league_url#game-265196
LOCATION:UP Elementary
BEGIN:VALARM
TRIGGER:-P2H
ACTION:DISPLAY
DESCRIPTION:2G UP-Nierling/Oneal vs 2G Arm-Michelson/Shoemaker,Shelton
END:VALARM
END:VEVENT
BEGIN:VEVENT
UID:moody-265200@ygametime.com
DTSTAMP:20220115T160000Z
DTSTART;TZID=America/Chicago:20220115T100000
DURATION:PT0H60M0S
SUMMARY:2G Arm-Michelson/Shoemaker,Shelton vs 2G Hyer-Cardwell/Tremper
DESCRIPTION:2nd Grade Girls | Basketball\nMoody Family YMCA\n
URL;VALUE=URI:https://ygametime.com/branch/moody/sports/2021-winter-basketball/11381/?utm_medium=calendar&utm_source=team_cal&utm_content=league_url#game-265200
LOCATION:UP Elementary
BEGIN:VALARM
TRIGGER:-P2H
ACTION:DISPLAY
DESCRIPTION:2G Arm-Michelson/Shoemaker,Shelton vs 2G Hyer-Cardwell/Tremper
END:VALARM
END:VEVENT
BEGIN:VEVENT
UID:moody-265204@ygametime.com
DTSTAMP:20220122T150000Z
DTSTART;TZID=America/Chicago:20220122T090000
DURATION:PT0H60M0S
SUMMARY:2G Providence-Murphy vs 2G Arm-Michelson/Shoemaker,Shelton
DESCRIPTION:2nd Grade Girls | Basketball\nMoody Family YMCA\n
URL;VALUE=URI:https://ygametime.com/branch/moody/sports/2021-winter-basketball/11381/?utm_medium=calendar&utm_source=team_cal&utm_content=league_url#game-265204
LOCATION:UP Elementary
BEGIN:VALARM
TRIGGER:-P2H
ACTION:DISPLAY
DESCRIPTION:2G Providence-Murphy vs 2G Arm-Michelson/Shoemaker,Shelton
END:VALARM
END:VEVENT
BEGIN:VEVENT
UID:moody-265217@ygametime.com
DTSTAMP:20220212T180000Z
DTSTART;TZID=America/Chicago:20220212T120000
DURATION:PT0H60M0S
SUMMARY:2G Hyer-Hunt/Phillips,Shaufele vs 2G Arm-Michelson/Shoemaker,Shelton
DESCRIPTION:2nd Grade Girls | Basketball\nMoody Family YMCA\n
URL;VALUE=URI:https://ygametime.com/branch/moody/sports/2021-winter-basketball/11381/?utm_medium=calendar&utm_source=team_cal&utm_content=league_url#game-265217
LOCATION:UP Elementary
BEGIN:VALARM
TRIGGER:-P2H
ACTION:DISPLAY
DESCRIPTION:2G Hyer-Hunt/Phillips,Shaufele vs 2G Arm-Michelson/Shoemaker,Shelton
END:VALARM
END:VEVENT
END:VCALENDAR

