BEGIN:VCALENDAR
VERSION:2.0
PRODID:-//YGAMETIME.com//YGT iCal Creator//EN
METHOD:PUBLISH
X-PUBLISHED-TTL:PT6H
REFRESH-INTERVAL;VALUE=DURATION:PT6H
CALSCALE:GREGORIAN
X-WR-CALNAME:YGAMETIME CALENDAR
BEGIN:VTIMEZONE
TZID:America/Chicago
X-LIC-LOCATION:America/Chicago
BEGIN:DAYLIGHT
TZOFFSETFROM:-0600
TZOFFSETTO:-0500
TZNAME:CDT
DTSTART:19700308T020000
RRULE:FREQ=YEARLY;BYMONTH=3;BYDAY=2SU
END:DAYLIGHT
BEGIN:STANDARD
TZOFFSETFROM:-0500
TZOFFSETTO:-0600
TZNAME:CST
DTSTART:19701101T020000
RRULE:FREQ=YEARLY;BYMONTH=11;BYDAY=1SU
END:STANDARD
END:VTIMEZONE
BEGIN:VEVENT
UID:moody-265186@ygametime.com
DTSTAMP:20211204T170000Z
DTSTART;TZID=America/Chicago:20211204T110000
DURATION:PT0H60M0S
SUMMARY:2G Hyer-Cardwell/Tremper vs 2G Bradfield-Diehl
DESCRIPTION:2nd Grade Girls | Basketball\nMoody Family YMCA\n
URL;VALUE=URI:https://ygametime.com/branch/moody/sports/2021-winter-basketball/11381/?utm_medium=calendar&utm_source=team_cal&utm_content=league_url#game-265186
LOCATION:Moody South Gym
BEGIN:VALARM
TRIGGER:-P2H
ACTION:DISPLAY
DESCRIPTION:2G Hyer-Cardwell/Tremper vs 2G Bradfield-Diehl
END:VALARM
END:VEVENT
BEGIN:VEVENT
UID:moody-265195@ygametime.com
DTSTAMP:20220108T160000Z
DTSTART;TZID=America/Chicago:20220108T100000
DURATION:PT0H60M0S
SUMMARY:2G Bradfield-Harmon vs 2G Bradfield-Diehl
DESCRIPTION:2nd Grade Girls | Basketball\nMoody Family YMCA\n
URL;VALUE=URI:https://ygametime.com/branch/moody/sports/2021-winter-basketball/11381/?utm_medium=calendar&utm_source=team_cal&utm_content=league_url#game-265195
LOCATION:UP Elementary
BEGIN:VALARM
TRIGGER:-P2H
ACTION:DISPLAY
DESCRIPTION:2G Bradfield-Harmon vs 2G Bradfield-Diehl
END:VALARM
END:VEVENT
BEGIN:VEVENT
UID:moody-265199@ygametime.com
DTSTAMP:20220115T150000Z
DTSTART;TZID=America/Chicago:20220115T090000
DURATION:PT0H60M0S
SUMMARY:2G Bradfield-Diehl vs 2G Bradfield-Lobo
DESCRIPTION:2nd Grade Girls | Basketball\nMoody Family YMCA\n
URL;VALUE=URI:https://ygametime.com/branch/moody/sports/2021-winter-basketball/11381/?utm_medium=calendar&utm_source=team_cal&utm_content=league_url#game-265199
LOCATION:UP Elementary
BEGIN:VALARM
TRIGGER:-P2H
ACTION:DISPLAY
DESCRIPTION:2G Bradfield-Diehl vs 2G Bradfield-Lobo
END:VALARM
END:VEVENT
BEGIN:VEVENT
UID:moody-265207@ygametime.com
DTSTAMP:20220122T180000Z
DTSTART;TZID=America/Chicago:20220122T120000
DURATION:PT0H60M0S
SUMMARY:2G Providence-Godwin vs 2G Bradfield-Diehl
DESCRIPTION:2nd Grade Girls | Basketball\nMoody Family YMCA\n
URL;VALUE=URI:https://ygametime.com/branch/moody/sports/2021-winter-basketball/11381/?utm_medium=calendar&utm_source=team_cal&utm_content=league_url#game-265207
LOCATION:UP Elementary
BEGIN:VALARM
TRIGGER:-P2H
ACTION:DISPLAY
DESCRIPTION:2G Providence-Godwin vs 2G Bradfield-Diehl
END:VALARM
END:VEVENT
BEGIN:VEVENT
UID:moody-265210@ygametime.com
DTSTAMP:20220129T160000Z
DTSTART;TZID=America/Chicago:20220129T100000
DURATION:PT0H60M0S
SUMMARY:2G Bradfield-Diehl vs 2G UP-Nierling/Oneal
DESCRIPTION:2nd Grade Girls | Basketball\nMoody Family YMCA\n
URL;VALUE=URI:https://ygametime.com/branch/moody/sports/2021-winter-basketball/11381/?utm_medium=calendar&utm_source=team_cal&utm_content=league_url#game-265210
LOCATION:UP Elementary
BEGIN:VALARM
TRIGGER:-P2H
ACTION:DISPLAY
DESCRIPTION:2G Bradfield-Diehl vs 2G UP-Nierling/Oneal
END:VALARM
END:VEVENT
BEGIN:VEVENT
UID:moody-265213@ygametime.com
DTSTAMP:20220212T140000Z
DTSTART;TZID=America/Chicago:20220212T080000
DURATION:PT0H60M0S
SUMMARY:2G Providence-Murphy vs 2G Bradfield-Diehl
DESCRIPTION:2nd Grade Girls | Basketball\nMoody Family YMCA\n
URL;VALUE=URI:https://ygametime.com/branch/moody/sports/2021-winter-basketball/11381/?utm_medium=calendar&utm_source=team_cal&utm_content=league_url#game-265213
LOCATION:UP Elementary
BEGIN:VALARM
TRIGGER:-P2H
ACTION:DISPLAY
DESCRIPTION:2G Providence-Murphy vs 2G Bradfield-Diehl
END:VALARM
END:VEVENT
END:VCALENDAR

