BEGIN:VCALENDAR
VERSION:2.0
PRODID:-//YGAMETIME.com//YGT iCal Creator//EN
METHOD:PUBLISH
X-PUBLISHED-TTL:PT6H
REFRESH-INTERVAL;VALUE=DURATION:PT6H
CALSCALE:GREGORIAN
X-WR-CALNAME:YGAMETIME CALENDAR
BEGIN:VTIMEZONE
TZID:America/Chicago
X-LIC-LOCATION:America/Chicago
BEGIN:DAYLIGHT
TZOFFSETFROM:-0600
TZOFFSETTO:-0500
TZNAME:CDT
DTSTART:19700308T020000
RRULE:FREQ=YEARLY;BYMONTH=3;BYDAY=2SU
END:DAYLIGHT
BEGIN:STANDARD
TZOFFSETFROM:-0500
TZOFFSETTO:-0600
TZNAME:CST
DTSTART:19701101T020000
RRULE:FREQ=YEARLY;BYMONTH=11;BYDAY=1SU
END:STANDARD
END:VTIMEZONE
BEGIN:VEVENT
UID:moody-265191@ygametime.com
DTSTAMP:20211211T170000Z
DTSTART;TZID=America/Chicago:20211211T110000
DURATION:PT0H60M0S
SUMMARY:2G Bradfield-Harmon vs 2G Hyer-Hunt/Phillips,Shaufele
DESCRIPTION:2nd Grade Girls | Basketball\nMoody Family YMCA\n
URL;VALUE=URI:https://ygametime.com/branch/moody/sports/2021-winter-basketball/11381/?utm_medium=calendar&utm_source=team_cal&utm_content=league_url#game-265191
LOCATION:UP Elementary
BEGIN:VALARM
TRIGGER:-P2H
ACTION:DISPLAY
DESCRIPTION:2G Bradfield-Harmon vs 2G Hyer-Hunt/Phillips,Shaufele
END:VALARM
END:VEVENT
BEGIN:VEVENT
UID:moody-265194@ygametime.com
DTSTAMP:20220108T150000Z
DTSTART;TZID=America/Chicago:20220108T090000
DURATION:PT0H60M0S
SUMMARY:2G Bradfield-Lobo vs 2G Hyer-Hunt/Phillips,Shaufele
DESCRIPTION:2nd Grade Girls | Basketball\nMoody Family YMCA\n
URL;VALUE=URI:https://ygametime.com/branch/moody/sports/2021-winter-basketball/11381/?utm_medium=calendar&utm_source=team_cal&utm_content=league_url#game-265194
LOCATION:UP Elementary
BEGIN:VALARM
TRIGGER:-P2H
ACTION:DISPLAY
DESCRIPTION:2G Bradfield-Lobo vs 2G Hyer-Hunt/Phillips,Shaufele
END:VALARM
END:VEVENT
BEGIN:VEVENT
UID:moody-265202@ygametime.com
DTSTAMP:20220115T180000Z
DTSTART;TZID=America/Chicago:20220115T120000
DURATION:PT0H60M0S
SUMMARY:2G Hyer-Hunt/Phillips,Shaufele vs 2G Providence-Godwin
DESCRIPTION:2nd Grade Girls | Basketball\nMoody Family YMCA\n
URL;VALUE=URI:https://ygametime.com/branch/moody/sports/2021-winter-basketball/11381/?utm_medium=calendar&utm_source=team_cal&utm_content=league_url#game-265202
LOCATION:UP Elementary
BEGIN:VALARM
TRIGGER:-P2H
ACTION:DISPLAY
DESCRIPTION:2G Hyer-Hunt/Phillips,Shaufele vs 2G Providence-Godwin
END:VALARM
END:VEVENT
BEGIN:VEVENT
UID:moody-265205@ygametime.com
DTSTAMP:20220122T160000Z
DTSTART;TZID=America/Chicago:20220122T100000
DURATION:PT0H60M0S
SUMMARY:2G UP-Nierling/Oneal vs 2G Hyer-Hunt/Phillips,Shaufele
DESCRIPTION:2nd Grade Girls | Basketball\nMoody Family YMCA\n
URL;VALUE=URI:https://ygametime.com/branch/moody/sports/2021-winter-basketball/11381/?utm_medium=calendar&utm_source=team_cal&utm_content=league_url#game-265205
LOCATION:UP Elementary
BEGIN:VALARM
TRIGGER:-P2H
ACTION:DISPLAY
DESCRIPTION:2G UP-Nierling/Oneal vs 2G Hyer-Hunt/Phillips,Shaufele
END:VALARM
END:VEVENT
BEGIN:VEVENT
UID:moody-265208@ygametime.com
DTSTAMP:20220129T140000Z
DTSTART;TZID=America/Chicago:20220129T080000
DURATION:PT0H60M0S
SUMMARY:2G Hyer-Hunt/Phillips,Shaufele vs 2G Providence-Murphy
DESCRIPTION:2nd Grade Girls | Basketball\nMoody Family YMCA\n
URL;VALUE=URI:https://ygametime.com/branch/moody/sports/2021-winter-basketball/11381/?utm_medium=calendar&utm_source=team_cal&utm_content=league_url#game-265208
LOCATION:UP Elementary
BEGIN:VALARM
TRIGGER:-P2H
ACTION:DISPLAY
DESCRIPTION:2G Hyer-Hunt/Phillips,Shaufele vs 2G Providence-Murphy
END:VALARM
END:VEVENT
BEGIN:VEVENT
UID:moody-265217@ygametime.com
DTSTAMP:20220212T180000Z
DTSTART;TZID=America/Chicago:20220212T120000
DURATION:PT0H60M0S
SUMMARY:2G Hyer-Hunt/Phillips,Shaufele vs 2G Arm-Michelson/Shoemaker,Shelton
DESCRIPTION:2nd Grade Girls | Basketball\nMoody Family YMCA\n
URL;VALUE=URI:https://ygametime.com/branch/moody/sports/2021-winter-basketball/11381/?utm_medium=calendar&utm_source=team_cal&utm_content=league_url#game-265217
LOCATION:UP Elementary
BEGIN:VALARM
TRIGGER:-P2H
ACTION:DISPLAY
DESCRIPTION:2G Hyer-Hunt/Phillips,Shaufele vs 2G Arm-Michelson/Shoemaker,Shelton
END:VALARM
END:VEVENT
END:VCALENDAR

