BEGIN:VCALENDAR
VERSION:2.0
PRODID:-//YGAMETIME.com//YGT iCal Creator//EN
METHOD:PUBLISH
X-PUBLISHED-TTL:PT6H
REFRESH-INTERVAL;VALUE=DURATION:PT6H
CALSCALE:GREGORIAN
X-WR-CALNAME:YGAMETIME CALENDAR
BEGIN:VTIMEZONE
TZID:America/Chicago
X-LIC-LOCATION:America/Chicago
BEGIN:DAYLIGHT
TZOFFSETFROM:-0600
TZOFFSETTO:-0500
TZNAME:CDT
DTSTART:19700308T020000
RRULE:FREQ=YEARLY;BYMONTH=3;BYDAY=2SU
END:DAYLIGHT
BEGIN:STANDARD
TZOFFSETFROM:-0500
TZOFFSETTO:-0600
TZNAME:CST
DTSTART:19701101T020000
RRULE:FREQ=YEARLY;BYMONTH=11;BYDAY=1SU
END:STANDARD
END:VTIMEZONE
BEGIN:VEVENT
UID:moody-265183@ygametime.com
DTSTAMP:20211204T140000Z
DTSTART;TZID=America/Chicago:20211204T080000
DURATION:PT0H60M0S
SUMMARY:2G Providence-Godwin vs 2G Arm-Michelson/Shoemaker,Shelton
DESCRIPTION:2nd Grade Girls | Basketball\nMoody Family YMCA\n
URL;VALUE=URI:https://ygametime.com/branch/moody/sports/2021-winter-basketball/11381/?utm_medium=calendar&utm_source=team_cal&utm_content=league_url#game-265183
LOCATION:Moody South Gym
BEGIN:VALARM
TRIGGER:-P2H
ACTION:DISPLAY
DESCRIPTION:2G Providence-Godwin vs 2G Arm-Michelson/Shoemaker,Shelton
END:VALARM
END:VEVENT
BEGIN:VEVENT
UID:moody-265188@ygametime.com
DTSTAMP:20211211T140000Z
DTSTART;TZID=America/Chicago:20211211T080000
DURATION:PT0H60M0S
SUMMARY:2G UP-Nierling/Oneal vs 2G Providence-Godwin
DESCRIPTION:2nd Grade Girls | Basketball\nMoody Family YMCA\n
URL;VALUE=URI:https://ygametime.com/branch/moody/sports/2021-winter-basketball/11381/?utm_medium=calendar&utm_source=team_cal&utm_content=league_url#game-265188
LOCATION:UP Elementary
BEGIN:VALARM
TRIGGER:-P2H
ACTION:DISPLAY
DESCRIPTION:2G UP-Nierling/Oneal vs 2G Providence-Godwin
END:VALARM
END:VEVENT
BEGIN:VEVENT
UID:moody-265193@ygametime.com
DTSTAMP:20220108T140000Z
DTSTART;TZID=America/Chicago:20220108T080000
DURATION:PT0H60M0S
SUMMARY:2G Providence-Godwin vs 2G Providence-Murphy
DESCRIPTION:2nd Grade Girls | Basketball\nMoody Family YMCA\n
URL;VALUE=URI:https://ygametime.com/branch/moody/sports/2021-winter-basketball/11381/?utm_medium=calendar&utm_source=team_cal&utm_content=league_url#game-265193
LOCATION:UP Elementary
BEGIN:VALARM
TRIGGER:-P2H
ACTION:DISPLAY
DESCRIPTION:2G Providence-Godwin vs 2G Providence-Murphy
END:VALARM
END:VEVENT
BEGIN:VEVENT
UID:moody-265202@ygametime.com
DTSTAMP:20220115T180000Z
DTSTART;TZID=America/Chicago:20220115T120000
DURATION:PT0H60M0S
SUMMARY:2G Hyer-Hunt/Phillips,Shaufele vs 2G Providence-Godwin
DESCRIPTION:2nd Grade Girls | Basketball\nMoody Family YMCA\n
URL;VALUE=URI:https://ygametime.com/branch/moody/sports/2021-winter-basketball/11381/?utm_medium=calendar&utm_source=team_cal&utm_content=league_url#game-265202
LOCATION:UP Elementary
BEGIN:VALARM
TRIGGER:-P2H
ACTION:DISPLAY
DESCRIPTION:2G Hyer-Hunt/Phillips,Shaufele vs 2G Providence-Godwin
END:VALARM
END:VEVENT
BEGIN:VEVENT
UID:moody-265207@ygametime.com
DTSTAMP:20220122T180000Z
DTSTART;TZID=America/Chicago:20220122T120000
DURATION:PT0H60M0S
SUMMARY:2G Providence-Godwin vs 2G Bradfield-Diehl
DESCRIPTION:2nd Grade Girls | Basketball\nMoody Family YMCA\n
URL;VALUE=URI:https://ygametime.com/branch/moody/sports/2021-winter-basketball/11381/?utm_medium=calendar&utm_source=team_cal&utm_content=league_url#game-265207
LOCATION:UP Elementary
BEGIN:VALARM
TRIGGER:-P2H
ACTION:DISPLAY
DESCRIPTION:2G Providence-Godwin vs 2G Bradfield-Diehl
END:VALARM
END:VEVENT
BEGIN:VEVENT
UID:moody-265212@ygametime.com
DTSTAMP:20220129T180000Z
DTSTART;TZID=America/Chicago:20220129T120000
DURATION:PT0H60M0S
SUMMARY:2G Boone-Farley,Murff/Neblett vs 2G Providence-Godwin
DESCRIPTION:2nd Grade Girls | Basketball\nMoody Family YMCA\n
URL;VALUE=URI:https://ygametime.com/branch/moody/sports/2021-winter-basketball/11381/?utm_medium=calendar&utm_source=team_cal&utm_content=league_url#game-265212
LOCATION:UP Elementary
BEGIN:VALARM
TRIGGER:-P2H
ACTION:DISPLAY
DESCRIPTION:2G Boone-Farley,Murff/Neblett vs 2G Providence-Godwin
END:VALARM
END:VEVENT
BEGIN:VEVENT
UID:moody-265216@ygametime.com
DTSTAMP:20220212T170000Z
DTSTART;TZID=America/Chicago:20220212T110000
DURATION:PT0H60M0S
SUMMARY:2G Providence-Godwin vs 2G UP-Knobler
DESCRIPTION:2nd Grade Girls | Basketball\nMoody Family YMCA\n
URL;VALUE=URI:https://ygametime.com/branch/moody/sports/2021-winter-basketball/11381/?utm_medium=calendar&utm_source=team_cal&utm_content=league_url#game-265216
LOCATION:UP Elementary
BEGIN:VALARM
TRIGGER:-P2H
ACTION:DISPLAY
DESCRIPTION:2G Providence-Godwin vs 2G UP-Knobler
END:VALARM
END:VEVENT
END:VCALENDAR

