BEGIN:VCALENDAR
VERSION:2.0
PRODID:-//YGAMETIME.com//YGT iCal Creator//EN
METHOD:PUBLISH
X-PUBLISHED-TTL:PT6H
REFRESH-INTERVAL;VALUE=DURATION:PT6H
CALSCALE:GREGORIAN
X-WR-CALNAME:YGAMETIME CALENDAR
BEGIN:VTIMEZONE
TZID:America/Chicago
X-LIC-LOCATION:America/Chicago
BEGIN:DAYLIGHT
TZOFFSETFROM:-0600
TZOFFSETTO:-0500
TZNAME:CDT
DTSTART:19700308T020000
RRULE:FREQ=YEARLY;BYMONTH=3;BYDAY=2SU
END:DAYLIGHT
BEGIN:STANDARD
TZOFFSETFROM:-0500
TZOFFSETTO:-0600
TZNAME:CST
DTSTART:19701101T020000
RRULE:FREQ=YEARLY;BYMONTH=11;BYDAY=1SU
END:STANDARD
END:VTIMEZONE
BEGIN:VEVENT
UID:moody-265186@ygametime.com
DTSTAMP:20211204T170000Z
DTSTART;TZID=America/Chicago:20211204T110000
DURATION:PT0H60M0S
SUMMARY:2G Hyer-Cardwell/Tremper vs 2G Bradfield-Diehl
DESCRIPTION:2nd Grade Girls | Basketball\nMoody Family YMCA\n
URL;VALUE=URI:https://ygametime.com/branch/moody/sports/2021-winter-basketball/11381/?utm_medium=calendar&utm_source=team_cal&utm_content=league_url#game-265186
LOCATION:Moody South Gym
BEGIN:VALARM
TRIGGER:-P2H
ACTION:DISPLAY
DESCRIPTION:2G Hyer-Cardwell/Tremper vs 2G Bradfield-Diehl
END:VALARM
END:VEVENT
BEGIN:VEVENT
UID:moody-265189@ygametime.com
DTSTAMP:20211211T150000Z
DTSTART;TZID=America/Chicago:20211211T090000
DURATION:PT0H60M0S
SUMMARY:2G Boone-Farley,Murff/Neblett vs 2G Hyer-Cardwell/Tremper
DESCRIPTION:2nd Grade Girls | Basketball\nMoody Family YMCA\n
URL;VALUE=URI:https://ygametime.com/branch/moody/sports/2021-winter-basketball/11381/?utm_medium=calendar&utm_source=team_cal&utm_content=league_url#game-265189
LOCATION:UP Elementary
BEGIN:VALARM
TRIGGER:-P2H
ACTION:DISPLAY
DESCRIPTION:2G Boone-Farley,Murff/Neblett vs 2G Hyer-Cardwell/Tremper
END:VALARM
END:VEVENT
BEGIN:VEVENT
UID:moody-265197@ygametime.com
DTSTAMP:20220108T180000Z
DTSTART;TZID=America/Chicago:20220108T120000
DURATION:PT0H60M0S
SUMMARY:2G Hyer-Cardwell/Tremper vs 2G UP-Knobler
DESCRIPTION:2nd Grade Girls | Basketball\nMoody Family YMCA\n
URL;VALUE=URI:https://ygametime.com/branch/moody/sports/2021-winter-basketball/11381/?utm_medium=calendar&utm_source=team_cal&utm_content=league_url#game-265197
LOCATION:UP Elementary
BEGIN:VALARM
TRIGGER:-P2H
ACTION:DISPLAY
DESCRIPTION:2G Hyer-Cardwell/Tremper vs 2G UP-Knobler
END:VALARM
END:VEVENT
BEGIN:VEVENT
UID:moody-265200@ygametime.com
DTSTAMP:20220115T160000Z
DTSTART;TZID=America/Chicago:20220115T100000
DURATION:PT0H60M0S
SUMMARY:2G Arm-Michelson/Shoemaker,Shelton vs 2G Hyer-Cardwell/Tremper
DESCRIPTION:2nd Grade Girls | Basketball\nMoody Family YMCA\n
URL;VALUE=URI:https://ygametime.com/branch/moody/sports/2021-winter-basketball/11381/?utm_medium=calendar&utm_source=team_cal&utm_content=league_url#game-265200
LOCATION:UP Elementary
BEGIN:VALARM
TRIGGER:-P2H
ACTION:DISPLAY
DESCRIPTION:2G Arm-Michelson/Shoemaker,Shelton vs 2G Hyer-Cardwell/Tremper
END:VALARM
END:VEVENT
BEGIN:VEVENT
UID:moody-265209@ygametime.com
DTSTAMP:20220129T150000Z
DTSTART;TZID=America/Chicago:20220129T090000
DURATION:PT0H60M0S
SUMMARY:2G Hyer-Cardwell/Tremper vs 2G Bradfield-Harmon
DESCRIPTION:2nd Grade Girls | Basketball\nMoody Family YMCA\n
URL;VALUE=URI:https://ygametime.com/branch/moody/sports/2021-winter-basketball/11381/?utm_medium=calendar&utm_source=team_cal&utm_content=league_url#game-265209
LOCATION:UP Elementary
BEGIN:VALARM
TRIGGER:-P2H
ACTION:DISPLAY
DESCRIPTION:2G Hyer-Cardwell/Tremper vs 2G Bradfield-Harmon
END:VALARM
END:VEVENT
BEGIN:VEVENT
UID:moody-265214@ygametime.com
DTSTAMP:20220212T150000Z
DTSTART;TZID=America/Chicago:20220212T090000
DURATION:PT0H60M0S
SUMMARY:2G Bradfield-Lobo vs 2G Hyer-Cardwell/Tremper
DESCRIPTION:2nd Grade Girls | Basketball\nMoody Family YMCA\n
URL;VALUE=URI:https://ygametime.com/branch/moody/sports/2021-winter-basketball/11381/?utm_medium=calendar&utm_source=team_cal&utm_content=league_url#game-265214
LOCATION:UP Elementary
BEGIN:VALARM
TRIGGER:-P2H
ACTION:DISPLAY
DESCRIPTION:2G Bradfield-Lobo vs 2G Hyer-Cardwell/Tremper
END:VALARM
END:VEVENT
END:VCALENDAR

