BEGIN:VCALENDAR
VERSION:2.0
PRODID:-//YGAMETIME.com//YGT iCal Creator//EN
METHOD:PUBLISH
X-PUBLISHED-TTL:PT6H
REFRESH-INTERVAL;VALUE=DURATION:PT6H
CALSCALE:GREGORIAN
X-WR-CALNAME:YGAMETIME CALENDAR
BEGIN:VTIMEZONE
TZID:America/Chicago
X-LIC-LOCATION:America/Chicago
BEGIN:DAYLIGHT
TZOFFSETFROM:-0600
TZOFFSETTO:-0500
TZNAME:CDT
DTSTART:19700308T020000
RRULE:FREQ=YEARLY;BYMONTH=3;BYDAY=2SU
END:DAYLIGHT
BEGIN:STANDARD
TZOFFSETFROM:-0500
TZOFFSETTO:-0600
TZNAME:CST
DTSTART:19701101T020000
RRULE:FREQ=YEARLY;BYMONTH=11;BYDAY=1SU
END:STANDARD
END:VTIMEZONE
BEGIN:VEVENT
UID:moody-264998@ygametime.com
DTSTAMP:20211210T021500Z
DTSTART;TZID=America/Chicago:20211209T201500
DURATION:PT0H60M0S
SUMMARY:6G MIS-Duvall vs 6G Hockaday-Teinert
DESCRIPTION:6th Grade Girls | Basketball\nMoody Family YMCA\n
URL;VALUE=URI:https://ygametime.com/branch/moody/sports/2021-winter-basketball/11378/?utm_medium=calendar&utm_source=team_cal&utm_content=league_url#game-264998
LOCATION:Hyer Elementary
BEGIN:VALARM
TRIGGER:-P2H
ACTION:DISPLAY
DESCRIPTION:6G MIS-Duvall vs 6G Hockaday-Teinert
END:VALARM
END:VEVENT
BEGIN:VEVENT
UID:moody-265000@ygametime.com
DTSTAMP:20211217T001500Z
DTSTART;TZID=America/Chicago:20211216T181500
DURATION:PT0H60M0S
SUMMARY:6G ESD-Ivy vs 6G MIS-Duvall
DESCRIPTION:6th Grade Girls | Basketball\nMoody Family YMCA\n
URL;VALUE=URI:https://ygametime.com/branch/moody/sports/2021-winter-basketball/11378/?utm_medium=calendar&utm_source=team_cal&utm_content=league_url#game-265000
LOCATION:Hyer Elementary
BEGIN:VALARM
TRIGGER:-P2H
ACTION:DISPLAY
DESCRIPTION:6G ESD-Ivy vs 6G MIS-Duvall
END:VALARM
END:VEVENT
BEGIN:VEVENT
UID:moody-265004@ygametime.com
DTSTAMP:20220107T021500Z
DTSTART;TZID=America/Chicago:20220106T201500
DURATION:PT0H60M0S
SUMMARY:6G MIS-Duvall vs 6G MIS-Callahan 
DESCRIPTION:6th Grade Girls | Basketball\nMoody Family YMCA\n
URL;VALUE=URI:https://ygametime.com/branch/moody/sports/2021-winter-basketball/11378/?utm_medium=calendar&utm_source=team_cal&utm_content=league_url#game-265004
LOCATION:Hyer Elementary
BEGIN:VALARM
TRIGGER:-P2H
ACTION:DISPLAY
DESCRIPTION:6G MIS-Duvall vs 6G MIS-Callahan 
END:VALARM
END:VEVENT
BEGIN:VEVENT
UID:moody-265005@ygametime.com
DTSTAMP:20220114T001500Z
DTSTART;TZID=America/Chicago:20220113T181500
DURATION:PT0H60M0S
SUMMARY:6G Hockaday-Hammer vs 6G MIS-Duvall
DESCRIPTION:6th Grade Girls | Basketball\nMoody Family YMCA\n
URL;VALUE=URI:https://ygametime.com/branch/moody/sports/2021-winter-basketball/11378/?utm_medium=calendar&utm_source=team_cal&utm_content=league_url#game-265005
LOCATION:Hyer Elementary
BEGIN:VALARM
TRIGGER:-P2H
ACTION:DISPLAY
DESCRIPTION:6G Hockaday-Hammer vs 6G MIS-Duvall
END:VALARM
END:VEVENT
BEGIN:VEVENT
UID:moody-265008@ygametime.com
DTSTAMP:20220121T001500Z
DTSTART;TZID=America/Chicago:20220120T181500
DURATION:PT0H60M0S
SUMMARY:6G MIS-Groth vs 6G MIS-Duvall
DESCRIPTION:6th Grade Girls | Basketball\nMoody Family YMCA\n
URL;VALUE=URI:https://ygametime.com/branch/moody/sports/2021-winter-basketball/11378/?utm_medium=calendar&utm_source=team_cal&utm_content=league_url#game-265008
LOCATION:Hyer Elementary
BEGIN:VALARM
TRIGGER:-P2H
ACTION:DISPLAY
DESCRIPTION:6G MIS-Groth vs 6G MIS-Duvall
END:VALARM
END:VEVENT
BEGIN:VEVENT
UID:moody-265011@ygametime.com
DTSTAMP:20220128T001500Z
DTSTART;TZID=America/Chicago:20220127T181500
DURATION:PT0H60M0S
SUMMARY:6G MIS-Duvall vs 6G Hockaday-Teinert
DESCRIPTION:6th Grade Girls | Basketball\nMoody Family YMCA\n
URL;VALUE=URI:https://ygametime.com/branch/moody/sports/2021-winter-basketball/11378/?utm_medium=calendar&utm_source=team_cal&utm_content=league_url#game-265011
LOCATION:Hyer Elementary
BEGIN:VALARM
TRIGGER:-P2H
ACTION:DISPLAY
DESCRIPTION:6G MIS-Duvall vs 6G Hockaday-Teinert
END:VALARM
END:VEVENT
BEGIN:VEVENT
UID:moody-284084@ygametime.com
DTSTAMP:20220209T011500Z
DTSTART;TZID=America/Chicago:20220208T191500
DURATION:PT0H60M0S
SUMMARY:6G MIS-Duvall vs 6G ESD-Ivy
DESCRIPTION:6th Grade Girls | Basketball\nMoody Family YMCA\n
URL;VALUE=URI:https://ygametime.com/branch/moody/sports/2021-winter-basketball/11378/?utm_medium=calendar&utm_source=team_cal&utm_content=league_url#game-284084
LOCATION:Hyer Elementary
BEGIN:VALARM
TRIGGER:-P2H
ACTION:DISPLAY
DESCRIPTION:6G MIS-Duvall vs 6G ESD-Ivy
END:VALARM
END:VEVENT
BEGIN:VEVENT
UID:moody-284086@ygametime.com
DTSTAMP:20220211T011500Z
DTSTART;TZID=America/Chicago:20220210T191500
DURATION:PT0H60M0S
SUMMARY:6G Hockaday-Teinert vs 6G MIS-Duvall
DESCRIPTION:6th Grade Girls | Basketball\nMoody Family YMCA\n
URL;VALUE=URI:https://ygametime.com/branch/moody/sports/2021-winter-basketball/11378/?utm_medium=calendar&utm_source=team_cal&utm_content=league_url#game-284086
LOCATION:UP Elementary
BEGIN:VALARM
TRIGGER:-P2H
ACTION:DISPLAY
DESCRIPTION:6G Hockaday-Teinert vs 6G MIS-Duvall
END:VALARM
END:VEVENT
BEGIN:VEVENT
UID:moody-284087@ygametime.com
DTSTAMP:20220218T011500Z
DTSTART;TZID=America/Chicago:20220217T191500
DURATION:PT0H60M0S
SUMMARY:6G MIS-Groth vs 6G MIS-Duvall
DESCRIPTION:6th Grade Girls | Basketball\nMoody Family YMCA\n
URL;VALUE=URI:https://ygametime.com/branch/moody/sports/2021-winter-basketball/11378/?utm_medium=calendar&utm_source=team_cal&utm_content=league_url#game-284087
LOCATION:Hyer Elementary
BEGIN:VALARM
TRIGGER:-P2H
ACTION:DISPLAY
DESCRIPTION:6G MIS-Groth vs 6G MIS-Duvall
END:VALARM
END:VEVENT
END:VCALENDAR

