BEGIN:VCALENDAR
VERSION:2.0
PRODID:-//YGAMETIME.com//YGT iCal Creator//EN
METHOD:PUBLISH
X-PUBLISHED-TTL:PT6H
REFRESH-INTERVAL;VALUE=DURATION:PT6H
CALSCALE:GREGORIAN
X-WR-CALNAME:YGAMETIME CALENDAR
BEGIN:VTIMEZONE
TZID:America/Chicago
X-LIC-LOCATION:America/Chicago
BEGIN:DAYLIGHT
TZOFFSETFROM:-0600
TZOFFSETTO:-0500
TZNAME:CDT
DTSTART:19700308T020000
RRULE:FREQ=YEARLY;BYMONTH=3;BYDAY=2SU
END:DAYLIGHT
BEGIN:STANDARD
TZOFFSETFROM:-0500
TZOFFSETTO:-0600
TZNAME:CST
DTSTART:19701101T020000
RRULE:FREQ=YEARLY;BYMONTH=11;BYDAY=1SU
END:STANDARD
END:VTIMEZONE
BEGIN:VEVENT
UID:moody-262879@ygametime.com
DTSTAMP:20211204T190000Z
DTSTART;TZID=America/Chicago:20211204T130000
DURATION:PT0H75M0S
SUMMARY:KB Cardinals-Stark vs KB Providence-Pitts
DESCRIPTION:Kindergarten Boys | Basketball\nMoody Family YMCA\n
URL;VALUE=URI:https://ygametime.com/branch/moody/sports/2021-winter-basketball/11317/?utm_medium=calendar&utm_source=team_cal&utm_content=league_url#game-262879
LOCATION:Armstrong Small Gym
BEGIN:VALARM
TRIGGER:-P2H
ACTION:DISPLAY
DESCRIPTION:KB Cardinals-Stark vs KB Providence-Pitts
END:VALARM
END:VEVENT
BEGIN:VEVENT
UID:moody-262886@ygametime.com
DTSTAMP:20211211T190000Z
DTSTART;TZID=America/Chicago:20211211T130000
DURATION:PT0H75M0S
SUMMARY:KB Providence-Pitts vs KB UP-Cole
DESCRIPTION:Kindergarten Boys | Basketball\nMoody Family YMCA\n
URL;VALUE=URI:https://ygametime.com/branch/moody/sports/2021-winter-basketball/11317/?utm_medium=calendar&utm_source=team_cal&utm_content=league_url#game-262886
LOCATION:Armstrong Big Gym
BEGIN:VALARM
TRIGGER:-P2H
ACTION:DISPLAY
DESCRIPTION:KB Providence-Pitts vs KB UP-Cole
END:VALARM
END:VEVENT
BEGIN:VEVENT
UID:moody-262892@ygametime.com
DTSTAMP:20220108T163000Z
DTSTART;TZID=America/Chicago:20220108T103000
DURATION:PT0H75M0S
SUMMARY:KB Providence-Duge vs KB Providence-Pitts
DESCRIPTION:Kindergarten Boys | Basketball\nMoody Family YMCA\n
URL;VALUE=URI:https://ygametime.com/branch/moody/sports/2021-winter-basketball/11317/?utm_medium=calendar&utm_source=team_cal&utm_content=league_url#game-262892
LOCATION:Armstrong Small Gym
BEGIN:VALARM
TRIGGER:-P2H
ACTION:DISPLAY
DESCRIPTION:KB Providence-Duge vs KB Providence-Pitts
END:VALARM
END:VEVENT
BEGIN:VEVENT
UID:moody-262898@ygametime.com
DTSTAMP:20220115T163000Z
DTSTART;TZID=America/Chicago:20220115T103000
DURATION:PT0H75M0S
SUMMARY:KB Providence-Pitts vs KB Boone-Quigley
DESCRIPTION:Kindergarten Boys | Basketball\nMoody Family YMCA\n
URL;VALUE=URI:https://ygametime.com/branch/moody/sports/2021-winter-basketball/11317/?utm_medium=calendar&utm_source=team_cal&utm_content=league_url#game-262898
LOCATION:Armstrong Big Gym
BEGIN:VALARM
TRIGGER:-P2H
ACTION:DISPLAY
DESCRIPTION:KB Providence-Pitts vs KB Boone-Quigley
END:VALARM
END:VEVENT
BEGIN:VEVENT
UID:moody-262904@ygametime.com
DTSTAMP:20220122T140000Z
DTSTART;TZID=America/Chicago:20220122T080000
DURATION:PT0H75M0S
SUMMARY:KB Providence-Long vs KB Providence-Pitts
DESCRIPTION:Kindergarten Boys | Basketball\nMoody Family YMCA\n
URL;VALUE=URI:https://ygametime.com/branch/moody/sports/2021-winter-basketball/11317/?utm_medium=calendar&utm_source=team_cal&utm_content=league_url#game-262904
LOCATION:Armstrong Big Gym
BEGIN:VALARM
TRIGGER:-P2H
ACTION:DISPLAY
DESCRIPTION:KB Providence-Long vs KB Providence-Pitts
END:VALARM
END:VEVENT
BEGIN:VEVENT
UID:moody-262918@ygametime.com
DTSTAMP:20220129T163000Z
DTSTART;TZID=America/Chicago:20220129T103000
DURATION:PT0H75M0S
SUMMARY:KB Providence-Pitts vs KB Arm-Smith
DESCRIPTION:Kindergarten Boys | Basketball\nMoody Family YMCA\n
URL;VALUE=URI:https://ygametime.com/branch/moody/sports/2021-winter-basketball/11317/?utm_medium=calendar&utm_source=team_cal&utm_content=league_url#game-262918
LOCATION:Armstrong Small Gym
BEGIN:VALARM
TRIGGER:-P2H
ACTION:DISPLAY
DESCRIPTION:KB Providence-Pitts vs KB Arm-Smith
END:VALARM
END:VEVENT
BEGIN:VEVENT
UID:moody-262924@ygametime.com
DTSTAMP:20220212T190000Z
DTSTART;TZID=America/Chicago:20220212T130000
DURATION:PT0H75M0S
SUMMARY:KB CKS-Brian Garcia  vs KB Providence-Pitts
DESCRIPTION:Kindergarten Boys | Basketball\nMoody Family YMCA\n
URL;VALUE=URI:https://ygametime.com/branch/moody/sports/2021-winter-basketball/11317/?utm_medium=calendar&utm_source=team_cal&utm_content=league_url#game-262924
LOCATION:Armstrong Big Gym
BEGIN:VALARM
TRIGGER:-P2H
ACTION:DISPLAY
DESCRIPTION:KB CKS-Brian Garcia  vs KB Providence-Pitts
END:VALARM
END:VEVENT
END:VCALENDAR

