BEGIN:VCALENDAR
VERSION:2.0
PRODID:-//YGAMETIME.com//YGT iCal Creator//EN
METHOD:PUBLISH
X-PUBLISHED-TTL:PT6H
REFRESH-INTERVAL;VALUE=DURATION:PT6H
CALSCALE:GREGORIAN
X-WR-CALNAME:YGAMETIME CALENDAR
BEGIN:VTIMEZONE
TZID:America/Chicago
X-LIC-LOCATION:America/Chicago
BEGIN:DAYLIGHT
TZOFFSETFROM:-0600
TZOFFSETTO:-0500
TZNAME:CDT
DTSTART:19700308T020000
RRULE:FREQ=YEARLY;BYMONTH=3;BYDAY=2SU
END:DAYLIGHT
BEGIN:STANDARD
TZOFFSETFROM:-0500
TZOFFSETTO:-0600
TZNAME:CST
DTSTART:19701101T020000
RRULE:FREQ=YEARLY;BYMONTH=11;BYDAY=1SU
END:STANDARD
END:VTIMEZONE
BEGIN:VEVENT
UID:moody-262872@ygametime.com
DTSTAMP:20211204T140000Z
DTSTART;TZID=America/Chicago:20211204T080000
DURATION:PT0H75M0S
SUMMARY:KB Providence-Long vs KB Arm-Tyler
DESCRIPTION:Kindergarten Boys | Basketball\nMoody Family YMCA\n
URL;VALUE=URI:https://ygametime.com/branch/moody/sports/2021-winter-basketball/11317/?utm_medium=calendar&utm_source=team_cal&utm_content=league_url#game-262872
LOCATION:Armstrong Big Gym
BEGIN:VALARM
TRIGGER:-P2H
ACTION:DISPLAY
DESCRIPTION:KB Providence-Long vs KB Arm-Tyler
END:VALARM
END:VEVENT
BEGIN:VEVENT
UID:moody-262880@ygametime.com
DTSTAMP:20211211T140000Z
DTSTART;TZID=America/Chicago:20211211T080000
DURATION:PT0H75M0S
SUMMARY:KB Arm-Smith vs KB Providence-Long
DESCRIPTION:Kindergarten Boys | Basketball\nMoody Family YMCA\n
URL;VALUE=URI:https://ygametime.com/branch/moody/sports/2021-winter-basketball/11317/?utm_medium=calendar&utm_source=team_cal&utm_content=league_url#game-262880
LOCATION:Armstrong Big Gym
BEGIN:VALARM
TRIGGER:-P2H
ACTION:DISPLAY
DESCRIPTION:KB Arm-Smith vs KB Providence-Long
END:VALARM
END:VEVENT
BEGIN:VEVENT
UID:moody-262896@ygametime.com
DTSTAMP:20220115T140000Z
DTSTART;TZID=America/Chicago:20220115T080000
DURATION:PT0H75M0S
SUMMARY:KB Hyer-Louden vs KB Providence-Long
DESCRIPTION:Kindergarten Boys | Basketball\nMoody Family YMCA\n
URL;VALUE=URI:https://ygametime.com/branch/moody/sports/2021-winter-basketball/11317/?utm_medium=calendar&utm_source=team_cal&utm_content=league_url#game-262896
LOCATION:Armstrong Big Gym
BEGIN:VALARM
TRIGGER:-P2H
ACTION:DISPLAY
DESCRIPTION:KB Hyer-Louden vs KB Providence-Long
END:VALARM
END:VEVENT
BEGIN:VEVENT
UID:moody-262904@ygametime.com
DTSTAMP:20220122T140000Z
DTSTART;TZID=America/Chicago:20220122T080000
DURATION:PT0H75M0S
SUMMARY:KB Providence-Long vs KB Providence-Pitts
DESCRIPTION:Kindergarten Boys | Basketball\nMoody Family YMCA\n
URL;VALUE=URI:https://ygametime.com/branch/moody/sports/2021-winter-basketball/11317/?utm_medium=calendar&utm_source=team_cal&utm_content=league_url#game-262904
LOCATION:Armstrong Big Gym
BEGIN:VALARM
TRIGGER:-P2H
ACTION:DISPLAY
DESCRIPTION:KB Providence-Long vs KB Providence-Pitts
END:VALARM
END:VEVENT
BEGIN:VEVENT
UID:moody-272973@ygametime.com
DTSTAMP:20220126T230000Z
DTSTART;TZID=America/Chicago:20220126T170000
DURATION:PT0H75M0S
SUMMARY:KB Providence-Long vs KB UP-Cole
DESCRIPTION:Kindergarten Boys | Basketball\nMoody Family YMCA\n
URL;VALUE=URI:https://ygametime.com/branch/moody/sports/2021-winter-basketball/11317/?utm_medium=calendar&utm_source=team_cal&utm_content=league_url#game-272973
LOCATION:Moody North Gym
BEGIN:VALARM
TRIGGER:-P2H
ACTION:DISPLAY
DESCRIPTION:KB Providence-Long vs KB UP-Cole
END:VALARM
END:VEVENT
BEGIN:VEVENT
UID:moody-262912@ygametime.com
DTSTAMP:20220129T140000Z
DTSTART;TZID=America/Chicago:20220129T080000
DURATION:PT0H75M0S
SUMMARY:KB Hyer-Davis vs KB Providence-Long
DESCRIPTION:Kindergarten Boys | Basketball\nMoody Family YMCA\n
URL;VALUE=URI:https://ygametime.com/branch/moody/sports/2021-winter-basketball/11317/?utm_medium=calendar&utm_source=team_cal&utm_content=league_url#game-262912
LOCATION:Armstrong Big Gym
BEGIN:VALARM
TRIGGER:-P2H
ACTION:DISPLAY
DESCRIPTION:KB Hyer-Davis vs KB Providence-Long
END:VALARM
END:VEVENT
BEGIN:VEVENT
UID:moody-262920@ygametime.com
DTSTAMP:20220212T140000Z
DTSTART;TZID=America/Chicago:20220212T080000
DURATION:PT0H75M0S
SUMMARY:KB Providence-Long vs KB CKS-Carrie Garcia
DESCRIPTION:Kindergarten Boys | Basketball\nMoody Family YMCA\n
URL;VALUE=URI:https://ygametime.com/branch/moody/sports/2021-winter-basketball/11317/?utm_medium=calendar&utm_source=team_cal&utm_content=league_url#game-262920
LOCATION:Armstrong Big Gym
BEGIN:VALARM
TRIGGER:-P2H
ACTION:DISPLAY
DESCRIPTION:KB Providence-Long vs KB CKS-Carrie Garcia
END:VALARM
END:VEVENT
END:VCALENDAR

