BEGIN:VCALENDAR
VERSION:2.0
PRODID:-//YGAMETIME.com//YGT iCal Creator//EN
METHOD:PUBLISH
X-PUBLISHED-TTL:PT6H
REFRESH-INTERVAL;VALUE=DURATION:PT6H
CALSCALE:GREGORIAN
X-WR-CALNAME:YGAMETIME CALENDAR
BEGIN:VTIMEZONE
TZID:America/Chicago
X-LIC-LOCATION:America/Chicago
BEGIN:DAYLIGHT
TZOFFSETFROM:-0600
TZOFFSETTO:-0500
TZNAME:CDT
DTSTART:19700308T020000
RRULE:FREQ=YEARLY;BYMONTH=3;BYDAY=2SU
END:DAYLIGHT
BEGIN:STANDARD
TZOFFSETFROM:-0500
TZOFFSETTO:-0600
TZNAME:CST
DTSTART:19701101T020000
RRULE:FREQ=YEARLY;BYMONTH=11;BYDAY=1SU
END:STANDARD
END:VTIMEZONE
BEGIN:VEVENT
UID:moody-262873@ygametime.com
DTSTAMP:20211204T151500Z
DTSTART;TZID=America/Chicago:20211204T091500
DURATION:PT0H75M0S
SUMMARY:KB Arm-Longo vs KB Brad-Harris
DESCRIPTION:Kindergarten Boys | Basketball\nMoody Family YMCA\n
URL;VALUE=URI:https://ygametime.com/branch/moody/sports/2021-winter-basketball/11317/?utm_medium=calendar&utm_source=team_cal&utm_content=league_url#game-262873
LOCATION:Armstrong Big Gym
BEGIN:VALARM
TRIGGER:-P2H
ACTION:DISPLAY
DESCRIPTION:KB Arm-Longo vs KB Brad-Harris
END:VALARM
END:VEVENT
BEGIN:VEVENT
UID:moody-262887@ygametime.com
DTSTAMP:20211211T174500Z
DTSTART;TZID=America/Chicago:20211211T114500
DURATION:PT0H75M0S
SUMMARY:KB Arm-Tyler vs KB Arm-Longo
DESCRIPTION:Kindergarten Boys | Basketball\nMoody Family YMCA\n
URL;VALUE=URI:https://ygametime.com/branch/moody/sports/2021-winter-basketball/11317/?utm_medium=calendar&utm_source=team_cal&utm_content=league_url#game-262887
LOCATION:Armstrong Small Gym
BEGIN:VALARM
TRIGGER:-P2H
ACTION:DISPLAY
DESCRIPTION:KB Arm-Tyler vs KB Arm-Longo
END:VALARM
END:VEVENT
BEGIN:VEVENT
UID:moody-262895@ygametime.com
DTSTAMP:20220108T190000Z
DTSTART;TZID=America/Chicago:20220108T130000
DURATION:PT0H75M0S
SUMMARY:KB Brad-Patterson  vs KB Arm-Longo
DESCRIPTION:Kindergarten Boys | Basketball\nMoody Family YMCA\n
URL;VALUE=URI:https://ygametime.com/branch/moody/sports/2021-winter-basketball/11317/?utm_medium=calendar&utm_source=team_cal&utm_content=league_url#game-262895
LOCATION:Armstrong Big Gym
BEGIN:VALARM
TRIGGER:-P2H
ACTION:DISPLAY
DESCRIPTION:KB Brad-Patterson  vs KB Arm-Longo
END:VALARM
END:VEVENT
BEGIN:VEVENT
UID:moody-262903@ygametime.com
DTSTAMP:20220115T174500Z
DTSTART;TZID=America/Chicago:20220115T114500
DURATION:PT0H75M0S
SUMMARY:KB Arm-Longo vs KB UP-Phillips
DESCRIPTION:Kindergarten Boys | Basketball\nMoody Family YMCA\n
URL;VALUE=URI:https://ygametime.com/branch/moody/sports/2021-winter-basketball/11317/?utm_medium=calendar&utm_source=team_cal&utm_content=league_url#game-262903
LOCATION:Armstrong Small Gym
BEGIN:VALARM
TRIGGER:-P2H
ACTION:DISPLAY
DESCRIPTION:KB Arm-Longo vs KB UP-Phillips
END:VALARM
END:VEVENT
BEGIN:VEVENT
UID:moody-262911@ygametime.com
DTSTAMP:20220122T163000Z
DTSTART;TZID=America/Chicago:20220122T103000
DURATION:PT0H75M0S
SUMMARY:KB Cardinals-Stark vs KB Arm-Longo
DESCRIPTION:Kindergarten Boys | Basketball\nMoody Family YMCA\n
URL;VALUE=URI:https://ygametime.com/branch/moody/sports/2021-winter-basketball/11317/?utm_medium=calendar&utm_source=team_cal&utm_content=league_url#game-262911
LOCATION:Armstrong Small Gym
BEGIN:VALARM
TRIGGER:-P2H
ACTION:DISPLAY
DESCRIPTION:KB Cardinals-Stark vs KB Arm-Longo
END:VALARM
END:VEVENT
BEGIN:VEVENT
UID:moody-262919@ygametime.com
DTSTAMP:20220129T174500Z
DTSTART;TZID=America/Chicago:20220129T114500
DURATION:PT0H75M0S
SUMMARY:KB Arm-Longo vs KB UP-Cole
DESCRIPTION:Kindergarten Boys | Basketball\nMoody Family YMCA\n
URL;VALUE=URI:https://ygametime.com/branch/moody/sports/2021-winter-basketball/11317/?utm_medium=calendar&utm_source=team_cal&utm_content=league_url#game-262919
LOCATION:Armstrong Small Gym
BEGIN:VALARM
TRIGGER:-P2H
ACTION:DISPLAY
DESCRIPTION:KB Arm-Longo vs KB UP-Cole
END:VALARM
END:VEVENT
BEGIN:VEVENT
UID:moody-262927@ygametime.com
DTSTAMP:20220212T174500Z
DTSTART;TZID=America/Chicago:20220212T114500
DURATION:PT0H75M0S
SUMMARY:KB Providence-Duge vs KB Arm-Longo
DESCRIPTION:Kindergarten Boys | Basketball\nMoody Family YMCA\n
URL;VALUE=URI:https://ygametime.com/branch/moody/sports/2021-winter-basketball/11317/?utm_medium=calendar&utm_source=team_cal&utm_content=league_url#game-262927
LOCATION:Armstrong Small Gym
BEGIN:VALARM
TRIGGER:-P2H
ACTION:DISPLAY
DESCRIPTION:KB Providence-Duge vs KB Arm-Longo
END:VALARM
END:VEVENT
END:VCALENDAR

