BEGIN:VCALENDAR
VERSION:2.0
PRODID:-//YGAMETIME.com//YGT iCal Creator//EN
METHOD:PUBLISH
X-PUBLISHED-TTL:PT6H
REFRESH-INTERVAL;VALUE=DURATION:PT6H
CALSCALE:GREGORIAN
X-WR-CALNAME:YGAMETIME CALENDAR
BEGIN:VTIMEZONE
TZID:America/Chicago
X-LIC-LOCATION:America/Chicago
BEGIN:DAYLIGHT
TZOFFSETFROM:-0600
TZOFFSETTO:-0500
TZNAME:CDT
DTSTART:19700308T020000
RRULE:FREQ=YEARLY;BYMONTH=3;BYDAY=2SU
END:DAYLIGHT
BEGIN:STANDARD
TZOFFSETFROM:-0500
TZOFFSETTO:-0600
TZNAME:CST
DTSTART:19701101T020000
RRULE:FREQ=YEARLY;BYMONTH=11;BYDAY=1SU
END:STANDARD
END:VTIMEZONE
BEGIN:VEVENT
UID:moody-262874@ygametime.com
DTSTAMP:20211204T163000Z
DTSTART;TZID=America/Chicago:20211204T103000
DURATION:PT0H75M0S
SUMMARY:KB Boone-Quigley vs KB Arm-Smith
DESCRIPTION:Kindergarten Boys | Basketball\nMoody Family YMCA\n
URL;VALUE=URI:https://ygametime.com/branch/moody/sports/2021-winter-basketball/11317/?utm_medium=calendar&utm_source=team_cal&utm_content=league_url#game-262874
LOCATION:Armstrong Big Gym
BEGIN:VALARM
TRIGGER:-P2H
ACTION:DISPLAY
DESCRIPTION:KB Boone-Quigley vs KB Arm-Smith
END:VALARM
END:VEVENT
BEGIN:VEVENT
UID:moody-262880@ygametime.com
DTSTAMP:20211211T140000Z
DTSTART;TZID=America/Chicago:20211211T080000
DURATION:PT0H75M0S
SUMMARY:KB Arm-Smith vs KB Providence-Long
DESCRIPTION:Kindergarten Boys | Basketball\nMoody Family YMCA\n
URL;VALUE=URI:https://ygametime.com/branch/moody/sports/2021-winter-basketball/11317/?utm_medium=calendar&utm_source=team_cal&utm_content=league_url#game-262880
LOCATION:Armstrong Big Gym
BEGIN:VALARM
TRIGGER:-P2H
ACTION:DISPLAY
DESCRIPTION:KB Arm-Smith vs KB Providence-Long
END:VALARM
END:VEVENT
BEGIN:VEVENT
UID:moody-262894@ygametime.com
DTSTAMP:20220108T190000Z
DTSTART;TZID=America/Chicago:20220108T130000
DURATION:PT0H75M0S
SUMMARY:KB Arm-Smith vs KB Arm-Tyler
DESCRIPTION:Kindergarten Boys | Basketball\nMoody Family YMCA\n
URL;VALUE=URI:https://ygametime.com/branch/moody/sports/2021-winter-basketball/11317/?utm_medium=calendar&utm_source=team_cal&utm_content=league_url#game-262894
LOCATION:Armstrong Small Gym
BEGIN:VALARM
TRIGGER:-P2H
ACTION:DISPLAY
DESCRIPTION:KB Arm-Smith vs KB Arm-Tyler
END:VALARM
END:VEVENT
BEGIN:VEVENT
UID:moody-262902@ygametime.com
DTSTAMP:20220115T163000Z
DTSTART;TZID=America/Chicago:20220115T103000
DURATION:PT0H75M0S
SUMMARY:KB CKS-Brian Garcia  vs KB Arm-Smith
DESCRIPTION:Kindergarten Boys | Basketball\nMoody Family YMCA\n
URL;VALUE=URI:https://ygametime.com/branch/moody/sports/2021-winter-basketball/11317/?utm_medium=calendar&utm_source=team_cal&utm_content=league_url#game-262902
LOCATION:Armstrong Small Gym
BEGIN:VALARM
TRIGGER:-P2H
ACTION:DISPLAY
DESCRIPTION:KB CKS-Brian Garcia  vs KB Arm-Smith
END:VALARM
END:VEVENT
BEGIN:VEVENT
UID:moody-272974@ygametime.com
DTSTAMP:20220127T000000Z
DTSTART;TZID=America/Chicago:20220126T180000
DURATION:PT0H75M0S
SUMMARY:KB Arm-Smith vs KB Brad-Harris
DESCRIPTION:Kindergarten Boys | Basketball\nMoody Family YMCA\n
URL;VALUE=URI:https://ygametime.com/branch/moody/sports/2021-winter-basketball/11317/?utm_medium=calendar&utm_source=team_cal&utm_content=league_url#game-272974
LOCATION:Moody North Gym
BEGIN:VALARM
TRIGGER:-P2H
ACTION:DISPLAY
DESCRIPTION:KB Arm-Smith vs KB Brad-Harris
END:VALARM
END:VEVENT
BEGIN:VEVENT
UID:moody-262918@ygametime.com
DTSTAMP:20220129T163000Z
DTSTART;TZID=America/Chicago:20220129T103000
DURATION:PT0H75M0S
SUMMARY:KB Providence-Pitts vs KB Arm-Smith
DESCRIPTION:Kindergarten Boys | Basketball\nMoody Family YMCA\n
URL;VALUE=URI:https://ygametime.com/branch/moody/sports/2021-winter-basketball/11317/?utm_medium=calendar&utm_source=team_cal&utm_content=league_url#game-262918
LOCATION:Armstrong Small Gym
BEGIN:VALARM
TRIGGER:-P2H
ACTION:DISPLAY
DESCRIPTION:KB Providence-Pitts vs KB Arm-Smith
END:VALARM
END:VEVENT
BEGIN:VEVENT
UID:moody-262926@ygametime.com
DTSTAMP:20220212T163000Z
DTSTART;TZID=America/Chicago:20220212T103000
DURATION:PT0H75M0S
SUMMARY:KB Arm-Smith vs KB Hyer-Davis
DESCRIPTION:Kindergarten Boys | Basketball\nMoody Family YMCA\n
URL;VALUE=URI:https://ygametime.com/branch/moody/sports/2021-winter-basketball/11317/?utm_medium=calendar&utm_source=team_cal&utm_content=league_url#game-262926
LOCATION:Armstrong Small Gym
BEGIN:VALARM
TRIGGER:-P2H
ACTION:DISPLAY
DESCRIPTION:KB Arm-Smith vs KB Hyer-Davis
END:VALARM
END:VEVENT
END:VCALENDAR

