BEGIN:VCALENDAR
VERSION:2.0
PRODID:-//YGAMETIME.com//YGT iCal Creator//EN
METHOD:PUBLISH
X-PUBLISHED-TTL:PT6H
REFRESH-INTERVAL;VALUE=DURATION:PT6H
CALSCALE:GREGORIAN
X-WR-CALNAME:YGAMETIME CALENDAR
BEGIN:VTIMEZONE
TZID:America/Chicago
X-LIC-LOCATION:America/Chicago
BEGIN:DAYLIGHT
TZOFFSETFROM:-0600
TZOFFSETTO:-0500
TZNAME:CDT
DTSTART:19700308T020000
RRULE:FREQ=YEARLY;BYMONTH=3;BYDAY=2SU
END:DAYLIGHT
BEGIN:STANDARD
TZOFFSETFROM:-0500
TZOFFSETTO:-0600
TZNAME:CST
DTSTART:19701101T020000
RRULE:FREQ=YEARLY;BYMONTH=11;BYDAY=1SU
END:STANDARD
END:VTIMEZONE
BEGIN:VEVENT
UID:moody-265884@ygametime.com
DTSTAMP:20220108T011500Z
DTSTART;TZID=America/Chicago:20220107T191500
DURATION:PT0H60M0S
SUMMARY:5B ESD Fahr GOLD vs 5B Prov-Zugaro
DESCRIPTION:5th Grade Boys | Basketball\nMoody Family YMCA\n
URL;VALUE=URI:https://ygametime.com/branch/moody/sports/2021-winter-basketball/11377/?utm_medium=calendar&utm_source=team_cal&utm_content=league_url#game-265884
LOCATION:Bradfield Elementary
BEGIN:VALARM
TRIGGER:-P2H
ACTION:DISPLAY
DESCRIPTION:5B ESD Fahr GOLD vs 5B Prov-Zugaro
END:VALARM
END:VEVENT
BEGIN:VEVENT
UID:moody-265888@ygametime.com
DTSTAMP:20220115T011500Z
DTSTART;TZID=America/Chicago:20220114T191500
DURATION:PT0H60M0S
SUMMARY:5B ESD O'Neal BLUE vs 5B ESD Fahr GOLD
DESCRIPTION:5th Grade Boys | Basketball\nMoody Family YMCA\n
URL;VALUE=URI:https://ygametime.com/branch/moody/sports/2021-winter-basketball/11377/?utm_medium=calendar&utm_source=team_cal&utm_content=league_url#game-265888
LOCATION:Bradfield Elementary
BEGIN:VALARM
TRIGGER:-P2H
ACTION:DISPLAY
DESCRIPTION:5B ESD O'Neal BLUE vs 5B ESD Fahr GOLD
END:VALARM
END:VEVENT
BEGIN:VEVENT
UID:moody-265889@ygametime.com
DTSTAMP:20220122T001500Z
DTSTART;TZID=America/Chicago:20220121T181500
DURATION:PT0H60M0S
SUMMARY:5B ESD Fahr GOLD vs 5B MIS-Doyle/Brooks
DESCRIPTION:5th Grade Boys | Basketball\nMoody Family YMCA\n
URL;VALUE=URI:https://ygametime.com/branch/moody/sports/2021-winter-basketball/11377/?utm_medium=calendar&utm_source=team_cal&utm_content=league_url#game-265889
LOCATION:Bradfield Elementary
BEGIN:VALARM
TRIGGER:-P2H
ACTION:DISPLAY
DESCRIPTION:5B ESD Fahr GOLD vs 5B MIS-Doyle/Brooks
END:VALARM
END:VEVENT
BEGIN:VEVENT
UID:moody-265894@ygametime.com
DTSTAMP:20220129T001500Z
DTSTART;TZID=America/Chicago:20220128T181500
DURATION:PT0H60M0S
SUMMARY:5B ESD Red vs 5B ESD Fahr GOLD
DESCRIPTION:5th Grade Boys | Basketball\nMoody Family YMCA\n
URL;VALUE=URI:https://ygametime.com/branch/moody/sports/2021-winter-basketball/11377/?utm_medium=calendar&utm_source=team_cal&utm_content=league_url#game-265894
LOCATION:Boone Elementary
BEGIN:VALARM
TRIGGER:-P2H
ACTION:DISPLAY
DESCRIPTION:5B ESD Red vs 5B ESD Fahr GOLD
END:VALARM
END:VEVENT
BEGIN:VEVENT
UID:moody-265897@ygametime.com
DTSTAMP:20220205T001500Z
DTSTART;TZID=America/Chicago:20220204T181500
DURATION:PT0H60M0S
SUMMARY:5B MIS-Lockridge vs 5B ESD Fahr GOLD
DESCRIPTION:5th Grade Boys | Basketball\nMoody Family YMCA\n
URL;VALUE=URI:https://ygametime.com/branch/moody/sports/2021-winter-basketball/11377/?utm_medium=calendar&utm_source=team_cal&utm_content=league_url#game-265897
LOCATION:Boone Elementary
BEGIN:VALARM
TRIGGER:-P2H
ACTION:DISPLAY
DESCRIPTION:5B MIS-Lockridge vs 5B ESD Fahr GOLD
END:VALARM
END:VEVENT
BEGIN:VEVENT
UID:moody-284078@ygametime.com
DTSTAMP:20220209T001500Z
DTSTART;TZID=America/Chicago:20220208T181500
DURATION:PT0H60M0S
SUMMARY:5B ESD Fahr GOLD vs 5B MIS-Lockridge
DESCRIPTION:5th Grade Boys | Basketball\nMoody Family YMCA\n
URL;VALUE=URI:https://ygametime.com/branch/moody/sports/2021-winter-basketball/11377/?utm_medium=calendar&utm_source=team_cal&utm_content=league_url#game-284078
LOCATION:UP Elementary
BEGIN:VALARM
TRIGGER:-P2H
ACTION:DISPLAY
DESCRIPTION:5B ESD Fahr GOLD vs 5B MIS-Lockridge
END:VALARM
END:VEVENT
BEGIN:VEVENT
UID:moody-284081@ygametime.com
DTSTAMP:20220211T011500Z
DTSTART;TZID=America/Chicago:20220210T191500
DURATION:PT0H60M0S
SUMMARY:5B ESD Fahr GOLD vs 5B ESD O'Neal BLUE
DESCRIPTION:5th Grade Boys | Basketball\nMoody Family YMCA\n
URL;VALUE=URI:https://ygametime.com/branch/moody/sports/2021-winter-basketball/11377/?utm_medium=calendar&utm_source=team_cal&utm_content=league_url#game-284081
LOCATION:Boone Elementary
BEGIN:VALARM
TRIGGER:-P2H
ACTION:DISPLAY
DESCRIPTION:5B ESD Fahr GOLD vs 5B ESD O'Neal BLUE
END:VALARM
END:VEVENT
BEGIN:VEVENT
UID:moody-284082@ygametime.com
DTSTAMP:20220212T001500Z
DTSTART;TZID=America/Chicago:20220211T181500
DURATION:PT0H60M0S
SUMMARY:5B ESD Red vs 5B ESD Fahr GOLD
DESCRIPTION:5th Grade Boys | Basketball\nMoody Family YMCA\n
URL;VALUE=URI:https://ygametime.com/branch/moody/sports/2021-winter-basketball/11377/?utm_medium=calendar&utm_source=team_cal&utm_content=league_url#game-284082
LOCATION:Boone Elementary
BEGIN:VALARM
TRIGGER:-P2H
ACTION:DISPLAY
DESCRIPTION:5B ESD Red vs 5B ESD Fahr GOLD
END:VALARM
END:VEVENT
END:VCALENDAR

