BEGIN:VCALENDAR
VERSION:2.0
PRODID:-//YGAMETIME.com//YGT iCal Creator//EN
METHOD:PUBLISH
X-PUBLISHED-TTL:PT6H
REFRESH-INTERVAL;VALUE=DURATION:PT6H
CALSCALE:GREGORIAN
X-WR-CALNAME:YGAMETIME CALENDAR
BEGIN:VTIMEZONE
TZID:America/Chicago
X-LIC-LOCATION:America/Chicago
BEGIN:DAYLIGHT
TZOFFSETFROM:-0600
TZOFFSETTO:-0500
TZNAME:CDT
DTSTART:19700308T020000
RRULE:FREQ=YEARLY;BYMONTH=3;BYDAY=2SU
END:DAYLIGHT
BEGIN:STANDARD
TZOFFSETFROM:-0500
TZOFFSETTO:-0600
TZNAME:CST
DTSTART:19701101T020000
RRULE:FREQ=YEARLY;BYMONTH=11;BYDAY=1SU
END:STANDARD
END:VTIMEZONE
BEGIN:VEVENT
UID:moody-265842@ygametime.com
DTSTAMP:20211218T011500Z
DTSTART;TZID=America/Chicago:20211217T191500
DURATION:PT0H60M0S
SUMMARY:5G MIS Miller vs 5G MIS Gale
DESCRIPTION:5th Grade Girls | Basketball\nMoody Family YMCA\n
URL;VALUE=URI:https://ygametime.com/branch/moody/sports/2021-winter-basketball/11366/?utm_medium=calendar&utm_source=team_cal&utm_content=league_url#game-265842
LOCATION:McCulloch West Gym
BEGIN:VALARM
TRIGGER:-P2H
ACTION:DISPLAY
DESCRIPTION:5G MIS Miller vs 5G MIS Gale
END:VALARM
END:VEVENT
BEGIN:VEVENT
UID:moody-265846@ygametime.com
DTSTAMP:20220108T021500Z
DTSTART;TZID=America/Chicago:20220107T201500
DURATION:PT0H60M0S
SUMMARY:5G MIS Shoffner vs 5G MIS Miller
DESCRIPTION:5th Grade Girls | Basketball\nMoody Family YMCA\n
URL;VALUE=URI:https://ygametime.com/branch/moody/sports/2021-winter-basketball/11366/?utm_medium=calendar&utm_source=team_cal&utm_content=league_url#game-265846
LOCATION:Hyer Elementary
BEGIN:VALARM
TRIGGER:-P2H
ACTION:DISPLAY
DESCRIPTION:5G MIS Shoffner vs 5G MIS Miller
END:VALARM
END:VEVENT
BEGIN:VEVENT
UID:moody-265847@ygametime.com
DTSTAMP:20220115T001500Z
DTSTART;TZID=America/Chicago:20220114T181500
DURATION:PT0H60M0S
SUMMARY:5G MIS Miller vs 5G Providence Navy
DESCRIPTION:5th Grade Girls | Basketball\nMoody Family YMCA\n
URL;VALUE=URI:https://ygametime.com/branch/moody/sports/2021-winter-basketball/11366/?utm_medium=calendar&utm_source=team_cal&utm_content=league_url#game-265847
LOCATION:Hyer Elementary
BEGIN:VALARM
TRIGGER:-P2H
ACTION:DISPLAY
DESCRIPTION:5G MIS Miller vs 5G Providence Navy
END:VALARM
END:VEVENT
BEGIN:VEVENT
UID:moody-265852@ygametime.com
DTSTAMP:20220122T021500Z
DTSTART;TZID=America/Chicago:20220121T201500
DURATION:PT0H60M0S
SUMMARY:5G Providence Gray vs 5G MIS Miller
DESCRIPTION:5th Grade Girls | Basketball\nMoody Family YMCA\n
URL;VALUE=URI:https://ygametime.com/branch/moody/sports/2021-winter-basketball/11366/?utm_medium=calendar&utm_source=team_cal&utm_content=league_url#game-265852
LOCATION:UP Elementary
BEGIN:VALARM
TRIGGER:-P2H
ACTION:DISPLAY
DESCRIPTION:5G Providence Gray vs 5G MIS Miller
END:VALARM
END:VEVENT
BEGIN:VEVENT
UID:moody-265855@ygametime.com
DTSTAMP:20220129T021500Z
DTSTART;TZID=America/Chicago:20220128T201500
DURATION:PT0H60M0S
SUMMARY:5G MIS-Edwards vs 5G MIS Miller
DESCRIPTION:5th Grade Girls | Basketball\nMoody Family YMCA\n
URL;VALUE=URI:https://ygametime.com/branch/moody/sports/2021-winter-basketball/11366/?utm_medium=calendar&utm_source=team_cal&utm_content=league_url#game-265855
LOCATION:UP Elementary
BEGIN:VALARM
TRIGGER:-P2H
ACTION:DISPLAY
DESCRIPTION:5G MIS-Edwards vs 5G MIS Miller
END:VALARM
END:VEVENT
BEGIN:VEVENT
UID:moody-265858@ygametime.com
DTSTAMP:20220205T021500Z
DTSTART;TZID=America/Chicago:20220204T201500
DURATION:PT0H60M0S
SUMMARY:5G MIS Miller vs 5G MIS-Newberry
DESCRIPTION:5th Grade Girls | Basketball\nMoody Family YMCA\n
URL;VALUE=URI:https://ygametime.com/branch/moody/sports/2021-winter-basketball/11366/?utm_medium=calendar&utm_source=team_cal&utm_content=league_url#game-265858
LOCATION:Hyer Elementary
BEGIN:VALARM
TRIGGER:-P2H
ACTION:DISPLAY
DESCRIPTION:5G MIS Miller vs 5G MIS-Newberry
END:VALARM
END:VEVENT
BEGIN:VEVENT
UID:moody-284072@ygametime.com
DTSTAMP:20220209T021500Z
DTSTART;TZID=America/Chicago:20220208T201500
DURATION:PT0H60M0S
SUMMARY:5G MIS Miller vs 5G MIS-Newberry
DESCRIPTION:5th Grade Girls | Basketball\nMoody Family YMCA\n
URL;VALUE=URI:https://ygametime.com/branch/moody/sports/2021-winter-basketball/11366/?utm_medium=calendar&utm_source=team_cal&utm_content=league_url#game-284072
LOCATION:Bradfield Elementary
BEGIN:VALARM
TRIGGER:-P2H
ACTION:DISPLAY
DESCRIPTION:5G MIS Miller vs 5G MIS-Newberry
END:VALARM
END:VEVENT
BEGIN:VEVENT
UID:moody-284074@ygametime.com
DTSTAMP:20220210T001500Z
DTSTART;TZID=America/Chicago:20220209T181500
DURATION:PT0H60M0S
SUMMARY:5G MIS Gale vs 5G MIS Miller
DESCRIPTION:5th Grade Girls | Basketball\nMoody Family YMCA\n
URL;VALUE=URI:https://ygametime.com/branch/moody/sports/2021-winter-basketball/11366/?utm_medium=calendar&utm_source=team_cal&utm_content=league_url#game-284074
LOCATION:Bradfield Elementary
BEGIN:VALARM
TRIGGER:-P2H
ACTION:DISPLAY
DESCRIPTION:5G MIS Gale vs 5G MIS Miller
END:VALARM
END:VEVENT
BEGIN:VEVENT
UID:moody-284075@ygametime.com
DTSTAMP:20220212T011500Z
DTSTART;TZID=America/Chicago:20220211T191500
DURATION:PT0H60M0S
SUMMARY:5G MIS Shoffner vs 5G MIS Miller
DESCRIPTION:5th Grade Girls | Basketball\nMoody Family YMCA\n
URL;VALUE=URI:https://ygametime.com/branch/moody/sports/2021-winter-basketball/11366/?utm_medium=calendar&utm_source=team_cal&utm_content=league_url#game-284075
LOCATION:Boone Elementary
BEGIN:VALARM
TRIGGER:-P2H
ACTION:DISPLAY
DESCRIPTION:5G MIS Shoffner vs 5G MIS Miller
END:VALARM
END:VEVENT
END:VCALENDAR

