BEGIN:VCALENDAR
VERSION:2.0
PRODID:-//YGAMETIME.com//YGT iCal Creator//EN
METHOD:PUBLISH
X-PUBLISHED-TTL:PT6H
REFRESH-INTERVAL;VALUE=DURATION:PT6H
CALSCALE:GREGORIAN
X-WR-CALNAME:YGAMETIME CALENDAR
BEGIN:VTIMEZONE
TZID:America/Chicago
X-LIC-LOCATION:America/Chicago
BEGIN:DAYLIGHT
TZOFFSETFROM:-0600
TZOFFSETTO:-0500
TZNAME:CDT
DTSTART:19700308T020000
RRULE:FREQ=YEARLY;BYMONTH=3;BYDAY=2SU
END:DAYLIGHT
BEGIN:STANDARD
TZOFFSETFROM:-0500
TZOFFSETTO:-0600
TZNAME:CST
DTSTART:19701101T020000
RRULE:FREQ=YEARLY;BYMONTH=11;BYDAY=1SU
END:STANDARD
END:VTIMEZONE
BEGIN:VEVENT
UID:moody-265839@ygametime.com
DTSTAMP:20211211T011500Z
DTSTART;TZID=America/Chicago:20211210T191500
DURATION:PT0H60M0S
SUMMARY:5G MIS-Newberry vs 5G MIS-Edwards
DESCRIPTION:5th Grade Girls | Basketball\nMoody Family YMCA\n
URL;VALUE=URI:https://ygametime.com/branch/moody/sports/2021-winter-basketball/11366/?utm_medium=calendar&utm_source=team_cal&utm_content=league_url#game-265839
LOCATION:Hyer Elementary
BEGIN:VALARM
TRIGGER:-P2H
ACTION:DISPLAY
DESCRIPTION:5G MIS-Newberry vs 5G MIS-Edwards
END:VALARM
END:VEVENT
BEGIN:VEVENT
UID:moody-265843@ygametime.com
DTSTAMP:20211218T021500Z
DTSTART;TZID=America/Chicago:20211217T201500
DURATION:PT0H60M0S
SUMMARY:5G Providence Gray vs 5G MIS-Newberry
DESCRIPTION:5th Grade Girls | Basketball\nMoody Family YMCA\n
URL;VALUE=URI:https://ygametime.com/branch/moody/sports/2021-winter-basketball/11366/?utm_medium=calendar&utm_source=team_cal&utm_content=league_url#game-265843
LOCATION:McCulloch West Gym
BEGIN:VALARM
TRIGGER:-P2H
ACTION:DISPLAY
DESCRIPTION:5G Providence Gray vs 5G MIS-Newberry
END:VALARM
END:VEVENT
BEGIN:VEVENT
UID:moody-265848@ygametime.com
DTSTAMP:20220115T011500Z
DTSTART;TZID=America/Chicago:20220114T191500
DURATION:PT0H60M0S
SUMMARY:5G MIS-Newberry vs 5G MIS Gale
DESCRIPTION:5th Grade Girls | Basketball\nMoody Family YMCA\n
URL;VALUE=URI:https://ygametime.com/branch/moody/sports/2021-winter-basketball/11366/?utm_medium=calendar&utm_source=team_cal&utm_content=league_url#game-265848
LOCATION:Hyer Elementary
BEGIN:VALARM
TRIGGER:-P2H
ACTION:DISPLAY
DESCRIPTION:5G MIS-Newberry vs 5G MIS Gale
END:VALARM
END:VEVENT
BEGIN:VEVENT
UID:moody-265851@ygametime.com
DTSTAMP:20220122T011500Z
DTSTART;TZID=America/Chicago:20220121T191500
DURATION:PT0H60M0S
SUMMARY:5G MIS Shoffner vs 5G MIS-Newberry
DESCRIPTION:5th Grade Girls | Basketball\nMoody Family YMCA\n
URL;VALUE=URI:https://ygametime.com/branch/moody/sports/2021-winter-basketball/11366/?utm_medium=calendar&utm_source=team_cal&utm_content=league_url#game-265851
LOCATION:UP Elementary
BEGIN:VALARM
TRIGGER:-P2H
ACTION:DISPLAY
DESCRIPTION:5G MIS Shoffner vs 5G MIS-Newberry
END:VALARM
END:VEVENT
BEGIN:VEVENT
UID:moody-265853@ygametime.com
DTSTAMP:20220129T001500Z
DTSTART;TZID=America/Chicago:20220128T181500
DURATION:PT0H60M0S
SUMMARY:5G MIS-Newberry vs 5G Providence Navy
DESCRIPTION:5th Grade Girls | Basketball\nMoody Family YMCA\n
URL;VALUE=URI:https://ygametime.com/branch/moody/sports/2021-winter-basketball/11366/?utm_medium=calendar&utm_source=team_cal&utm_content=league_url#game-265853
LOCATION:UP Elementary
BEGIN:VALARM
TRIGGER:-P2H
ACTION:DISPLAY
DESCRIPTION:5G MIS-Newberry vs 5G Providence Navy
END:VALARM
END:VEVENT
BEGIN:VEVENT
UID:moody-265858@ygametime.com
DTSTAMP:20220205T021500Z
DTSTART;TZID=America/Chicago:20220204T201500
DURATION:PT0H60M0S
SUMMARY:5G MIS Miller vs 5G MIS-Newberry
DESCRIPTION:5th Grade Girls | Basketball\nMoody Family YMCA\n
URL;VALUE=URI:https://ygametime.com/branch/moody/sports/2021-winter-basketball/11366/?utm_medium=calendar&utm_source=team_cal&utm_content=league_url#game-265858
LOCATION:Hyer Elementary
BEGIN:VALARM
TRIGGER:-P2H
ACTION:DISPLAY
DESCRIPTION:5G MIS Miller vs 5G MIS-Newberry
END:VALARM
END:VEVENT
BEGIN:VEVENT
UID:moody-284072@ygametime.com
DTSTAMP:20220209T021500Z
DTSTART;TZID=America/Chicago:20220208T201500
DURATION:PT0H60M0S
SUMMARY:5G MIS Miller vs 5G MIS-Newberry
DESCRIPTION:5th Grade Girls | Basketball\nMoody Family YMCA\n
URL;VALUE=URI:https://ygametime.com/branch/moody/sports/2021-winter-basketball/11366/?utm_medium=calendar&utm_source=team_cal&utm_content=league_url#game-284072
LOCATION:Bradfield Elementary
BEGIN:VALARM
TRIGGER:-P2H
ACTION:DISPLAY
DESCRIPTION:5G MIS Miller vs 5G MIS-Newberry
END:VALARM
END:VEVENT
END:VCALENDAR

