BEGIN:VCALENDAR
VERSION:2.0
PRODID:-//YGAMETIME.com//YGT iCal Creator//EN
METHOD:PUBLISH
X-PUBLISHED-TTL:PT6H
REFRESH-INTERVAL;VALUE=DURATION:PT6H
CALSCALE:GREGORIAN
X-WR-CALNAME:YGAMETIME CALENDAR
BEGIN:VTIMEZONE
TZID:America/Chicago
X-LIC-LOCATION:America/Chicago
BEGIN:DAYLIGHT
TZOFFSETFROM:-0600
TZOFFSETTO:-0500
TZNAME:CDT
DTSTART:19700308T020000
RRULE:FREQ=YEARLY;BYMONTH=3;BYDAY=2SU
END:DAYLIGHT
BEGIN:STANDARD
TZOFFSETFROM:-0500
TZOFFSETTO:-0600
TZNAME:CST
DTSTART:19701101T020000
RRULE:FREQ=YEARLY;BYMONTH=11;BYDAY=1SU
END:STANDARD
END:VTIMEZONE
BEGIN:VEVENT
UID:moody-271519@ygametime.com
DTSTAMP:20220108T200000Z
DTSTART;TZID=America/Chicago:20220108T140000
DURATION:PT0H60M0S
SUMMARY:Richardson Bulls vs Moody 7th/8th Grade Boys
DESCRIPTION:7th Grade /8th Grade Metro League | Basketball\nMoody Family YMCA\n
URL;VALUE=URI:https://ygametime.com/branch/moody/sports/2021-winter-basketball/11589/?utm_medium=calendar&utm_source=team_cal&utm_content=league_url#game-271519
LOCATION:Hyer Elementary
BEGIN:VALARM
TRIGGER:-P2H
ACTION:DISPLAY
DESCRIPTION:Richardson Bulls vs Moody 7th/8th Grade Boys
END:VALARM
END:VEVENT
BEGIN:VEVENT
UID:moody-271522@ygametime.com
DTSTAMP:20220115T190000Z
DTSTART;TZID=America/Chicago:20220115T130000
DURATION:PT0H60M0S
SUMMARY:White Rock Scott vs Richardson Bulls
DESCRIPTION:7th Grade /8th Grade Metro League | Basketball\nMoody Family YMCA\n
URL;VALUE=URI:https://ygametime.com/branch/moody/sports/2021-winter-basketball/11589/?utm_medium=calendar&utm_source=team_cal&utm_content=league_url#game-271522
LOCATION:McCulloch SOUTH/SOUTH
BEGIN:VALARM
TRIGGER:-P2H
ACTION:DISPLAY
DESCRIPTION:White Rock Scott vs Richardson Bulls
END:VALARM
END:VEVENT
BEGIN:VEVENT
UID:moody-271525@ygametime.com
DTSTAMP:20220122T190000Z
DTSTART;TZID=America/Chicago:20220122T130000
DURATION:PT0H60M0S
SUMMARY:Richardson Bulls vs Moody Rees
DESCRIPTION:7th Grade /8th Grade Metro League | Basketball\nMoody Family YMCA\n
URL;VALUE=URI:https://ygametime.com/branch/moody/sports/2021-winter-basketball/11589/?utm_medium=calendar&utm_source=team_cal&utm_content=league_url#game-271525
LOCATION:McCulloch SOUTH/SOUTH
BEGIN:VALARM
TRIGGER:-P2H
ACTION:DISPLAY
DESCRIPTION:Richardson Bulls vs Moody Rees
END:VALARM
END:VEVENT
BEGIN:VEVENT
UID:moody-271530@ygametime.com
DTSTAMP:20220129T210000Z
DTSTART;TZID=America/Chicago:20220129T150000
DURATION:PT0H60M0S
SUMMARY:White Rock Burns  vs Richardson Bulls
DESCRIPTION:7th Grade /8th Grade Metro League | Basketball\nMoody Family YMCA\n
URL;VALUE=URI:https://ygametime.com/branch/moody/sports/2021-winter-basketball/11589/?utm_medium=calendar&utm_source=team_cal&utm_content=league_url#game-271530
LOCATION:McCulloch SOUTH/SOUTH
BEGIN:VALARM
TRIGGER:-P2H
ACTION:DISPLAY
DESCRIPTION:White Rock Burns  vs Richardson Bulls
END:VALARM
END:VEVENT
BEGIN:VEVENT
UID:moody-271531@ygametime.com
DTSTAMP:20220205T190000Z
DTSTART;TZID=America/Chicago:20220205T130000
DURATION:PT0H60M0S
SUMMARY:Richardson Bulls vs Parkhill Mustangs 
DESCRIPTION:7th Grade /8th Grade Metro League | Basketball\nMoody Family YMCA\n
URL;VALUE=URI:https://ygametime.com/branch/moody/sports/2021-winter-basketball/11589/?utm_medium=calendar&utm_source=team_cal&utm_content=league_url#game-271531
LOCATION:McCulloch SOUTH/SOUTH
BEGIN:VALARM
TRIGGER:-P2H
ACTION:DISPLAY
DESCRIPTION:Richardson Bulls vs Parkhill Mustangs 
END:VALARM
END:VEVENT
BEGIN:VEVENT
UID:moody-271535@ygametime.com
DTSTAMP:20220212T200000Z
DTSTART;TZID=America/Chicago:20220212T140000
DURATION:PT0H60M0S
SUMMARY:Richardson Bulls vs Moody 7th/8th Grade Boys
DESCRIPTION:7th Grade /8th Grade Metro League | Basketball\nMoody Family YMCA\n
URL;VALUE=URI:https://ygametime.com/branch/moody/sports/2021-winter-basketball/11589/?utm_medium=calendar&utm_source=team_cal&utm_content=league_url#game-271535
LOCATION:Bradfield Elementary
BEGIN:VALARM
TRIGGER:-P2H
ACTION:DISPLAY
DESCRIPTION:Richardson Bulls vs Moody 7th/8th Grade Boys
END:VALARM
END:VEVENT
END:VCALENDAR

