BEGIN:VCALENDAR
VERSION:2.0
PRODID:-//YGAMETIME.com//YGT iCal Creator//EN
METHOD:PUBLISH
X-PUBLISHED-TTL:PT6H
REFRESH-INTERVAL;VALUE=DURATION:PT6H
CALSCALE:GREGORIAN
X-WR-CALNAME:YGAMETIME CALENDAR
BEGIN:VTIMEZONE
TZID:America/Chicago
X-LIC-LOCATION:America/Chicago
BEGIN:DAYLIGHT
TZOFFSETFROM:-0600
TZOFFSETTO:-0500
TZNAME:CDT
DTSTART:19700308T020000
RRULE:FREQ=YEARLY;BYMONTH=3;BYDAY=2SU
END:DAYLIGHT
BEGIN:STANDARD
TZOFFSETFROM:-0500
TZOFFSETTO:-0600
TZNAME:CST
DTSTART:19701101T020000
RRULE:FREQ=YEARLY;BYMONTH=11;BYDAY=1SU
END:STANDARD
END:VTIMEZONE
BEGIN:VEVENT
UID:moody-271520@ygametime.com
DTSTAMP:20220108T210000Z
DTSTART;TZID=America/Chicago:20220108T150000
DURATION:PT0H60M0S
SUMMARY:White Rock Burns  vs Moody Rees
DESCRIPTION:7th Grade /8th Grade Metro League | Basketball\nMoody Family YMCA\n
URL;VALUE=URI:https://ygametime.com/branch/moody/sports/2021-winter-basketball/11589/?utm_medium=calendar&utm_source=team_cal&utm_content=league_url#game-271520
LOCATION:Hyer Elementary
BEGIN:VALARM
TRIGGER:-P2H
ACTION:DISPLAY
DESCRIPTION:White Rock Burns  vs Moody Rees
END:VALARM
END:VEVENT
BEGIN:VEVENT
UID:moody-271524@ygametime.com
DTSTAMP:20220115T210000Z
DTSTART;TZID=America/Chicago:20220115T150000
DURATION:PT0H60M0S
SUMMARY:Moody 7th/8th Grade Boys vs White Rock Burns 
DESCRIPTION:7th Grade /8th Grade Metro League | Basketball\nMoody Family YMCA\n
URL;VALUE=URI:https://ygametime.com/branch/moody/sports/2021-winter-basketball/11589/?utm_medium=calendar&utm_source=team_cal&utm_content=league_url#game-271524
LOCATION:McCulloch SOUTH/SOUTH
BEGIN:VALARM
TRIGGER:-P2H
ACTION:DISPLAY
DESCRIPTION:Moody 7th/8th Grade Boys vs White Rock Burns 
END:VALARM
END:VEVENT
BEGIN:VEVENT
UID:moody-271527@ygametime.com
DTSTAMP:20220122T210000Z
DTSTART;TZID=America/Chicago:20220122T150000
DURATION:PT0H60M0S
SUMMARY:Parkhill Mustangs  vs White Rock Burns 
DESCRIPTION:7th Grade /8th Grade Metro League | Basketball\nMoody Family YMCA\n
URL;VALUE=URI:https://ygametime.com/branch/moody/sports/2021-winter-basketball/11589/?utm_medium=calendar&utm_source=team_cal&utm_content=league_url#game-271527
LOCATION:McCulloch SOUTH/SOUTH
BEGIN:VALARM
TRIGGER:-P2H
ACTION:DISPLAY
DESCRIPTION:Parkhill Mustangs  vs White Rock Burns 
END:VALARM
END:VEVENT
BEGIN:VEVENT
UID:moody-271530@ygametime.com
DTSTAMP:20220129T210000Z
DTSTART;TZID=America/Chicago:20220129T150000
DURATION:PT0H60M0S
SUMMARY:White Rock Burns  vs Richardson Bulls
DESCRIPTION:7th Grade /8th Grade Metro League | Basketball\nMoody Family YMCA\n
URL;VALUE=URI:https://ygametime.com/branch/moody/sports/2021-winter-basketball/11589/?utm_medium=calendar&utm_source=team_cal&utm_content=league_url#game-271530
LOCATION:McCulloch SOUTH/SOUTH
BEGIN:VALARM
TRIGGER:-P2H
ACTION:DISPLAY
DESCRIPTION:White Rock Burns  vs Richardson Bulls
END:VALARM
END:VEVENT
BEGIN:VEVENT
UID:moody-271532@ygametime.com
DTSTAMP:20220205T200000Z
DTSTART;TZID=America/Chicago:20220205T140000
DURATION:PT0H60M0S
SUMMARY:White Rock Scott vs White Rock Burns 
DESCRIPTION:7th Grade /8th Grade Metro League | Basketball\nMoody Family YMCA\n
URL;VALUE=URI:https://ygametime.com/branch/moody/sports/2021-winter-basketball/11589/?utm_medium=calendar&utm_source=team_cal&utm_content=league_url#game-271532
LOCATION:McCulloch SOUTH/SOUTH
BEGIN:VALARM
TRIGGER:-P2H
ACTION:DISPLAY
DESCRIPTION:White Rock Scott vs White Rock Burns 
END:VALARM
END:VEVENT
BEGIN:VEVENT
UID:moody-271536@ygametime.com
DTSTAMP:20220212T210000Z
DTSTART;TZID=America/Chicago:20220212T150000
DURATION:PT0H60M0S
SUMMARY:White Rock Burns  vs Moody 7th/8th Grade Boys
DESCRIPTION:7th Grade /8th Grade Metro League | Basketball\nMoody Family YMCA\n
URL;VALUE=URI:https://ygametime.com/branch/moody/sports/2021-winter-basketball/11589/?utm_medium=calendar&utm_source=team_cal&utm_content=league_url#game-271536
LOCATION:Bradfield Elementary
BEGIN:VALARM
TRIGGER:-P2H
ACTION:DISPLAY
DESCRIPTION:White Rock Burns  vs Moody 7th/8th Grade Boys
END:VALARM
END:VEVENT
BEGIN:VEVENT
UID:moody-284354@ygametime.com
DTSTAMP:20220213T000000Z
DTSTART;TZID=America/Chicago:20220212T180000
DURATION:PT0H60M0S
SUMMARY:Parkhill Mustangs  vs White Rock Burns 
DESCRIPTION:7th Grade /8th Grade Metro League | Basketball\nMoody Family YMCA\nGame will be at 6pm at the Richardson YMCA
URL;VALUE=URI:https://ygametime.com/branch/moody/sports/2021-winter-basketball/11589/?utm_medium=calendar&utm_source=team_cal&utm_content=league_url#game-284354
LOCATION:Richardson YMCA
BEGIN:VALARM
TRIGGER:-P2H
ACTION:DISPLAY
DESCRIPTION:Parkhill Mustangs  vs White Rock Burns 
END:VALARM
END:VEVENT
END:VCALENDAR

