BEGIN:VCALENDAR
VERSION:2.0
PRODID:-//YGAMETIME.com//YGT iCal Creator//EN
METHOD:PUBLISH
X-PUBLISHED-TTL:PT6H
REFRESH-INTERVAL;VALUE=DURATION:PT6H
CALSCALE:GREGORIAN
X-WR-CALNAME:YGAMETIME CALENDAR
BEGIN:VTIMEZONE
TZID:America/Chicago
X-LIC-LOCATION:America/Chicago
BEGIN:DAYLIGHT
TZOFFSETFROM:-0600
TZOFFSETTO:-0500
TZNAME:CDT
DTSTART:19700308T020000
RRULE:FREQ=YEARLY;BYMONTH=3;BYDAY=2SU
END:DAYLIGHT
BEGIN:STANDARD
TZOFFSETFROM:-0500
TZOFFSETTO:-0600
TZNAME:CST
DTSTART:19701101T020000
RRULE:FREQ=YEARLY;BYMONTH=11;BYDAY=1SU
END:STANDARD
END:VTIMEZONE
BEGIN:VEVENT
UID:moody-272318@ygametime.com
DTSTAMP:20220108T160000Z
DTSTART;TZID=America/Chicago:20220108T100000
DURATION:PT0H60M0S
SUMMARY:Hyer-Hamilton vs Arm-Mulroy
DESCRIPTION:2nd Grade Boys Red Division | Basketball\nMoody Family YMCA\n
URL;VALUE=URI:https://ygametime.com/branch/moody/sports/2021-winter-basketball/11748/?utm_medium=calendar&utm_source=team_cal&utm_content=league_url#game-272318
LOCATION:Moody South Gym
BEGIN:VALARM
TRIGGER:-P2H
ACTION:DISPLAY
DESCRIPTION:Hyer-Hamilton vs Arm-Mulroy
END:VALARM
END:VEVENT
BEGIN:VEVENT
UID:moody-272323@ygametime.com
DTSTAMP:20220115T140000Z
DTSTART;TZID=America/Chicago:20220115T080000
DURATION:PT0H60M0S
SUMMARY:Arm-Mulroy vs UP-Cherkassky
DESCRIPTION:2nd Grade Boys Red Division | Basketball\nMoody Family YMCA\n
URL;VALUE=URI:https://ygametime.com/branch/moody/sports/2021-winter-basketball/11748/?utm_medium=calendar&utm_source=team_cal&utm_content=league_url#game-272323
LOCATION:McCulloch SOUTH/SOUTH
BEGIN:VALARM
TRIGGER:-P2H
ACTION:DISPLAY
DESCRIPTION:Arm-Mulroy vs UP-Cherkassky
END:VALARM
END:VEVENT
BEGIN:VEVENT
UID:moody-272325@ygametime.com
DTSTAMP:20220122T150000Z
DTSTART;TZID=America/Chicago:20220122T090000
DURATION:PT0H60M0S
SUMMARY:UP-Phillips vs Arm-Mulroy
DESCRIPTION:2nd Grade Boys Red Division | Basketball\nMoody Family YMCA\n
URL;VALUE=URI:https://ygametime.com/branch/moody/sports/2021-winter-basketball/11748/?utm_medium=calendar&utm_source=team_cal&utm_content=league_url#game-272325
LOCATION:McCulloch SOUTH/SOUTH
BEGIN:VALARM
TRIGGER:-P2H
ACTION:DISPLAY
DESCRIPTION:UP-Phillips vs Arm-Mulroy
END:VALARM
END:VEVENT
BEGIN:VEVENT
UID:moody-272332@ygametime.com
DTSTAMP:20220212T160000Z
DTSTART;TZID=America/Chicago:20220212T100000
DURATION:PT0H60M0S
SUMMARY:Arm-Mulroy vs CKS-Klein
DESCRIPTION:2nd Grade Boys Red Division | Basketball\nMoody Family YMCA\n
URL;VALUE=URI:https://ygametime.com/branch/moody/sports/2021-winter-basketball/11748/?utm_medium=calendar&utm_source=team_cal&utm_content=league_url#game-272332
LOCATION:McCulloch SOUTH/SOUTH
BEGIN:VALARM
TRIGGER:-P2H
ACTION:DISPLAY
DESCRIPTION:Arm-Mulroy vs CKS-Klein
END:VALARM
END:VEVENT
END:VCALENDAR

