BEGIN:VCALENDAR
VERSION:2.0
PRODID:-//YGAMETIME.com//YGT iCal Creator//EN
METHOD:PUBLISH
X-PUBLISHED-TTL:PT6H
REFRESH-INTERVAL;VALUE=DURATION:PT6H
CALSCALE:GREGORIAN
X-WR-CALNAME:YGAMETIME CALENDAR
BEGIN:VTIMEZONE
TZID:America/Chicago
X-LIC-LOCATION:America/Chicago
BEGIN:DAYLIGHT
TZOFFSETFROM:-0600
TZOFFSETTO:-0500
TZNAME:CDT
DTSTART:19700308T020000
RRULE:FREQ=YEARLY;BYMONTH=3;BYDAY=2SU
END:DAYLIGHT
BEGIN:STANDARD
TZOFFSETFROM:-0500
TZOFFSETTO:-0600
TZNAME:CST
DTSTART:19701101T020000
RRULE:FREQ=YEARLY;BYMONTH=11;BYDAY=1SU
END:STANDARD
END:VTIMEZONE
BEGIN:VEVENT
UID:moody-272320@ygametime.com
DTSTAMP:20220108T140000Z
DTSTART;TZID=America/Chicago:20220108T080000
DURATION:PT0H60M0S
SUMMARY:Boone-Turner vs UP-Phillips
DESCRIPTION:2nd Grade Boys Red Division | Basketball\nMoody Family YMCA\n
URL;VALUE=URI:https://ygametime.com/branch/moody/sports/2021-winter-basketball/11748/?utm_medium=calendar&utm_source=team_cal&utm_content=league_url#game-272320
LOCATION:Moody South Gym
BEGIN:VALARM
TRIGGER:-P2H
ACTION:DISPLAY
DESCRIPTION:Boone-Turner vs UP-Phillips
END:VALARM
END:VEVENT
BEGIN:VEVENT
UID:moody-272322@ygametime.com
DTSTAMP:20220115T150000Z
DTSTART;TZID=America/Chicago:20220115T090000
DURATION:PT0H60M0S
SUMMARY:CKS-Klein vs Boone-Turner
DESCRIPTION:2nd Grade Boys Red Division | Basketball\nMoody Family YMCA\n
URL;VALUE=URI:https://ygametime.com/branch/moody/sports/2021-winter-basketball/11748/?utm_medium=calendar&utm_source=team_cal&utm_content=league_url#game-272322
LOCATION:McCulloch SOUTH/SOUTH
BEGIN:VALARM
TRIGGER:-P2H
ACTION:DISPLAY
DESCRIPTION:CKS-Klein vs Boone-Turner
END:VALARM
END:VEVENT
BEGIN:VEVENT
UID:moody-272324@ygametime.com
DTSTAMP:20220122T140000Z
DTSTART;TZID=America/Chicago:20220122T080000
DURATION:PT0H60M0S
SUMMARY:Boone-Turner vs Boone-Quigley
DESCRIPTION:2nd Grade Boys Red Division | Basketball\nMoody Family YMCA\n
URL;VALUE=URI:https://ygametime.com/branch/moody/sports/2021-winter-basketball/11748/?utm_medium=calendar&utm_source=team_cal&utm_content=league_url#game-272324
LOCATION:McCulloch SOUTH/SOUTH
BEGIN:VALARM
TRIGGER:-P2H
ACTION:DISPLAY
DESCRIPTION:Boone-Turner vs Boone-Quigley
END:VALARM
END:VEVENT
BEGIN:VEVENT
UID:moody-272328@ygametime.com
DTSTAMP:20220129T140000Z
DTSTART;TZID=America/Chicago:20220129T080000
DURATION:PT0H60M0S
SUMMARY:UP-Cherkassky vs Boone-Turner
DESCRIPTION:2nd Grade Boys Red Division | Basketball\nMoody Family YMCA\n
URL;VALUE=URI:https://ygametime.com/branch/moody/sports/2021-winter-basketball/11748/?utm_medium=calendar&utm_source=team_cal&utm_content=league_url#game-272328
LOCATION:McCulloch SOUTH/SOUTH
BEGIN:VALARM
TRIGGER:-P2H
ACTION:DISPLAY
DESCRIPTION:UP-Cherkassky vs Boone-Turner
END:VALARM
END:VEVENT
END:VCALENDAR

