BEGIN:VCALENDAR
VERSION:2.0
PRODID:-//YGAMETIME.com//YGT iCal Creator//EN
METHOD:PUBLISH
X-PUBLISHED-TTL:PT6H
REFRESH-INTERVAL;VALUE=DURATION:PT6H
CALSCALE:GREGORIAN
X-WR-CALNAME:YGAMETIME CALENDAR
BEGIN:VTIMEZONE
TZID:America/Chicago
X-LIC-LOCATION:America/Chicago
BEGIN:DAYLIGHT
TZOFFSETFROM:-0600
TZOFFSETTO:-0500
TZNAME:CDT
DTSTART:19700308T020000
RRULE:FREQ=YEARLY;BYMONTH=3;BYDAY=2SU
END:DAYLIGHT
BEGIN:STANDARD
TZOFFSETFROM:-0500
TZOFFSETTO:-0600
TZNAME:CST
DTSTART:19701101T020000
RRULE:FREQ=YEARLY;BYMONTH=11;BYDAY=1SU
END:STANDARD
END:VTIMEZONE
BEGIN:VEVENT
UID:moody-272336@ygametime.com
DTSTAMP:20220106T001500Z
DTSTART;TZID=America/Chicago:20220105T181500
DURATION:PT0H60M0S
SUMMARY:MIS Mauser/Dunn vs MIS Saalfield/Crossland
DESCRIPTION:6th Grade Boys Red Division | Basketball\nMoody Family YMCA\n
URL;VALUE=URI:https://ygametime.com/branch/moody/sports/2021-winter-basketball/11747/?utm_medium=calendar&utm_source=team_cal&utm_content=league_url#game-272336
LOCATION:Hyer Elementary
BEGIN:VALARM
TRIGGER:-P2H
ACTION:DISPLAY
DESCRIPTION:MIS Mauser/Dunn vs MIS Saalfield/Crossland
END:VALARM
END:VEVENT
BEGIN:VEVENT
UID:moody-272343@ygametime.com
DTSTAMP:20220113T011500Z
DTSTART;TZID=America/Chicago:20220112T191500
DURATION:PT0H60M0S
SUMMARY:MIS Saalfield/Crossland vs MIS Byrd
DESCRIPTION:6th Grade Boys Red Division | Basketball\nMoody Family YMCA\n
URL;VALUE=URI:https://ygametime.com/branch/moody/sports/2021-winter-basketball/11747/?utm_medium=calendar&utm_source=team_cal&utm_content=league_url#game-272343
LOCATION:Bradfield Elementary
BEGIN:VALARM
TRIGGER:-P2H
ACTION:DISPLAY
DESCRIPTION:MIS Saalfield/Crossland vs MIS Byrd
END:VALARM
END:VEVENT
BEGIN:VEVENT
UID:moody-272346@ygametime.com
DTSTAMP:20220120T021500Z
DTSTART;TZID=America/Chicago:20220119T201500
DURATION:PT0H60M0S
SUMMARY:MIS Wallingford/McElree vs MIS Saalfield/Crossland
DESCRIPTION:6th Grade Boys Red Division | Basketball\nMoody Family YMCA\n
URL;VALUE=URI:https://ygametime.com/branch/moody/sports/2021-winter-basketball/11747/?utm_medium=calendar&utm_source=team_cal&utm_content=league_url#game-272346
LOCATION:Hyer Elementary
BEGIN:VALARM
TRIGGER:-P2H
ACTION:DISPLAY
DESCRIPTION:MIS Wallingford/McElree vs MIS Saalfield/Crossland
END:VALARM
END:VEVENT
BEGIN:VEVENT
UID:moody-272349@ygametime.com
DTSTAMP:20220127T011500Z
DTSTART;TZID=America/Chicago:20220126T191500
DURATION:PT0H60M0S
SUMMARY:MIS Saalfield/Crossland vs MIS Krantz
DESCRIPTION:6th Grade Boys Red Division | Basketball\nMoody Family YMCA\n
URL;VALUE=URI:https://ygametime.com/branch/moody/sports/2021-winter-basketball/11747/?utm_medium=calendar&utm_source=team_cal&utm_content=league_url#game-272349
LOCATION:Hyer Elementary
BEGIN:VALARM
TRIGGER:-P2H
ACTION:DISPLAY
DESCRIPTION:MIS Saalfield/Crossland vs MIS Krantz
END:VALARM
END:VEVENT
BEGIN:VEVENT
UID:moody-272352@ygametime.com
DTSTAMP:20220203T001500Z
DTSTART;TZID=America/Chicago:20220202T181500
DURATION:PT0H60M0S
SUMMARY:MIS Westcott/Makus vs MIS Saalfield/Crossland
DESCRIPTION:6th Grade Boys Red Division | Basketball\nMoody Family YMCA\n
URL;VALUE=URI:https://ygametime.com/branch/moody/sports/2021-winter-basketball/11747/?utm_medium=calendar&utm_source=team_cal&utm_content=league_url#game-272352
LOCATION:Hyer Elementary
BEGIN:VALARM
TRIGGER:-P2H
ACTION:DISPLAY
DESCRIPTION:MIS Westcott/Makus vs MIS Saalfield/Crossland
END:VALARM
END:VEVENT
END:VCALENDAR

