BEGIN:VCALENDAR
VERSION:2.0
PRODID:-//YGAMETIME.com//YGT iCal Creator//EN
METHOD:PUBLISH
X-PUBLISHED-TTL:PT6H
REFRESH-INTERVAL;VALUE=DURATION:PT6H
CALSCALE:GREGORIAN
X-WR-CALNAME:YGAMETIME CALENDAR
BEGIN:VTIMEZONE
TZID:America/Chicago
X-LIC-LOCATION:America/Chicago
BEGIN:DAYLIGHT
TZOFFSETFROM:-0600
TZOFFSETTO:-0500
TZNAME:CDT
DTSTART:19700308T020000
RRULE:FREQ=YEARLY;BYMONTH=3;BYDAY=2SU
END:DAYLIGHT
BEGIN:STANDARD
TZOFFSETFROM:-0500
TZOFFSETTO:-0600
TZNAME:CST
DTSTART:19701101T020000
RRULE:FREQ=YEARLY;BYMONTH=11;BYDAY=1SU
END:STANDARD
END:VTIMEZONE
BEGIN:VEVENT
UID:moody-272299@ygametime.com
DTSTAMP:20220106T011500Z
DTSTART;TZID=America/Chicago:20220105T191500
DURATION:PT0H60M0S
SUMMARY:MIS Sino vs MIS Williams
DESCRIPTION:6th Grade Boys Blue Division | Basketball\nMoody Family YMCA\n
URL;VALUE=URI:https://ygametime.com/branch/moody/sports/2021-winter-basketball/11746/?utm_medium=calendar&utm_source=team_cal&utm_content=league_url#game-272299
LOCATION:Boone Elementary
BEGIN:VALARM
TRIGGER:-P2H
ACTION:DISPLAY
DESCRIPTION:MIS Sino vs MIS Williams
END:VALARM
END:VEVENT
BEGIN:VEVENT
UID:moody-272303@ygametime.com
DTSTAMP:20220113T011500Z
DTSTART;TZID=America/Chicago:20220112T191500
DURATION:PT0H60M0S
SUMMARY:MIS Williams vs MIS Gaither
DESCRIPTION:6th Grade Boys Blue Division | Basketball\nMoody Family YMCA\n
URL;VALUE=URI:https://ygametime.com/branch/moody/sports/2021-winter-basketball/11746/?utm_medium=calendar&utm_source=team_cal&utm_content=league_url#game-272303
LOCATION:Boone Elementary
BEGIN:VALARM
TRIGGER:-P2H
ACTION:DISPLAY
DESCRIPTION:MIS Williams vs MIS Gaither
END:VALARM
END:VEVENT
BEGIN:VEVENT
UID:moody-272307@ygametime.com
DTSTAMP:20220120T011500Z
DTSTART;TZID=America/Chicago:20220119T191500
DURATION:PT0H60M0S
SUMMARY:MIS Gunnerson/Park vs MIS Williams
DESCRIPTION:6th Grade Boys Blue Division | Basketball\nMoody Family YMCA\n
URL;VALUE=URI:https://ygametime.com/branch/moody/sports/2021-winter-basketball/11746/?utm_medium=calendar&utm_source=team_cal&utm_content=league_url#game-272307
LOCATION:Boone Elementary
BEGIN:VALARM
TRIGGER:-P2H
ACTION:DISPLAY
DESCRIPTION:MIS Gunnerson/Park vs MIS Williams
END:VALARM
END:VEVENT
BEGIN:VEVENT
UID:moody-272310@ygametime.com
DTSTAMP:20220127T001500Z
DTSTART;TZID=America/Chicago:20220126T181500
DURATION:PT0H60M0S
SUMMARY:MIS Williams vs ESD McKnight
DESCRIPTION:6th Grade Boys Blue Division | Basketball\nMoody Family YMCA\n
URL;VALUE=URI:https://ygametime.com/branch/moody/sports/2021-winter-basketball/11746/?utm_medium=calendar&utm_source=team_cal&utm_content=league_url#game-272310
LOCATION:Boone Elementary
BEGIN:VALARM
TRIGGER:-P2H
ACTION:DISPLAY
DESCRIPTION:MIS Williams vs ESD McKnight
END:VALARM
END:VEVENT
BEGIN:VEVENT
UID:moody-272316@ygametime.com
DTSTAMP:20220203T021500Z
DTSTART;TZID=America/Chicago:20220202T201500
DURATION:PT0H60M0S
SUMMARY:MIS OBrien vs MIS Williams
DESCRIPTION:6th Grade Boys Blue Division | Basketball\nMoody Family YMCA\n
URL;VALUE=URI:https://ygametime.com/branch/moody/sports/2021-winter-basketball/11746/?utm_medium=calendar&utm_source=team_cal&utm_content=league_url#game-272316
LOCATION:Boone Elementary
BEGIN:VALARM
TRIGGER:-P2H
ACTION:DISPLAY
DESCRIPTION:MIS OBrien vs MIS Williams
END:VALARM
END:VEVENT
END:VCALENDAR

