BEGIN:VCALENDAR
VERSION:2.0
PRODID:-//YGAMETIME.com//YGT iCal Creator//EN
METHOD:PUBLISH
X-PUBLISHED-TTL:PT6H
REFRESH-INTERVAL;VALUE=DURATION:PT6H
CALSCALE:GREGORIAN
X-WR-CALNAME:YGAMETIME CALENDAR
BEGIN:VTIMEZONE
TZID:America/Chicago
X-LIC-LOCATION:America/Chicago
BEGIN:DAYLIGHT
TZOFFSETFROM:-0600
TZOFFSETTO:-0500
TZNAME:CDT
DTSTART:19700308T020000
RRULE:FREQ=YEARLY;BYMONTH=3;BYDAY=2SU
END:DAYLIGHT
BEGIN:STANDARD
TZOFFSETFROM:-0500
TZOFFSETTO:-0600
TZNAME:CST
DTSTART:19701101T020000
RRULE:FREQ=YEARLY;BYMONTH=11;BYDAY=1SU
END:STANDARD
END:VTIMEZONE
BEGIN:VEVENT
UID:moody-272571@ygametime.com
DTSTAMP:20220108T190000Z
DTSTART;TZID=America/Chicago:20220108T130000
DURATION:PT0H60M0S
SUMMARY:ESD-Murphy vs Boone-Gaebe
DESCRIPTION:2nd Grade Boys Blue Division | Basketball\nMoody Family YMCA\n
URL;VALUE=URI:https://ygametime.com/branch/moody/sports/2021-winter-basketball/11749/?utm_medium=calendar&utm_source=team_cal&utm_content=league_url#game-272571
LOCATION:UP Elementary
BEGIN:VALARM
TRIGGER:-P2H
ACTION:DISPLAY
DESCRIPTION:ESD-Murphy vs Boone-Gaebe
END:VALARM
END:VEVENT
BEGIN:VEVENT
UID:moody-272577@ygametime.com
DTSTAMP:20220115T200000Z
DTSTART;TZID=America/Chicago:20220115T140000
DURATION:PT0H60M0S
SUMMARY:Arm-Smith vs ESD-Murphy
DESCRIPTION:2nd Grade Boys Blue Division | Basketball\nMoody Family YMCA\n
URL;VALUE=URI:https://ygametime.com/branch/moody/sports/2021-winter-basketball/11749/?utm_medium=calendar&utm_source=team_cal&utm_content=league_url#game-272577
LOCATION:UP Elementary
BEGIN:VALARM
TRIGGER:-P2H
ACTION:DISPLAY
DESCRIPTION:Arm-Smith vs ESD-Murphy
END:VALARM
END:VEVENT
BEGIN:VEVENT
UID:moody-272581@ygametime.com
DTSTAMP:20220122T200000Z
DTSTART;TZID=America/Chicago:20220122T140000
DURATION:PT0H60M0S
SUMMARY:Prov-Schoelkopf vs ESD-Murphy
DESCRIPTION:2nd Grade Boys Blue Division | Basketball\nMoody Family YMCA\n
URL;VALUE=URI:https://ygametime.com/branch/moody/sports/2021-winter-basketball/11749/?utm_medium=calendar&utm_source=team_cal&utm_content=league_url#game-272581
LOCATION:UP Elementary
BEGIN:VALARM
TRIGGER:-P2H
ACTION:DISPLAY
DESCRIPTION:Prov-Schoelkopf vs ESD-Murphy
END:VALARM
END:VEVENT
BEGIN:VEVENT
UID:moody-272585@ygametime.com
DTSTAMP:20220129T200000Z
DTSTART;TZID=America/Chicago:20220129T140000
DURATION:PT0H60M0S
SUMMARY:ESD-Murphy vs Brad-Dayalji
DESCRIPTION:2nd Grade Boys Blue Division | Basketball\nMoody Family YMCA\n
URL;VALUE=URI:https://ygametime.com/branch/moody/sports/2021-winter-basketball/11749/?utm_medium=calendar&utm_source=team_cal&utm_content=league_url#game-272585
LOCATION:UP Elementary
BEGIN:VALARM
TRIGGER:-P2H
ACTION:DISPLAY
DESCRIPTION:ESD-Murphy vs Brad-Dayalji
END:VALARM
END:VEVENT
BEGIN:VEVENT
UID:moody-272589@ygametime.com
DTSTAMP:20220212T200000Z
DTSTART;TZID=America/Chicago:20220212T140000
DURATION:PT0H60M0S
SUMMARY:CKS-Browne vs ESD-Murphy
DESCRIPTION:2nd Grade Boys Blue Division | Basketball\nMoody Family YMCA\n
URL;VALUE=URI:https://ygametime.com/branch/moody/sports/2021-winter-basketball/11749/?utm_medium=calendar&utm_source=team_cal&utm_content=league_url#game-272589
LOCATION:UP Elementary
BEGIN:VALARM
TRIGGER:-P2H
ACTION:DISPLAY
DESCRIPTION:CKS-Browne vs ESD-Murphy
END:VALARM
END:VEVENT
END:VCALENDAR

