BEGIN:VCALENDAR
VERSION:2.0
PRODID:-//YGAMETIME.com//YGT iCal Creator//EN
METHOD:PUBLISH
X-PUBLISHED-TTL:PT6H
REFRESH-INTERVAL;VALUE=DURATION:PT6H
CALSCALE:GREGORIAN
X-WR-CALNAME:YGAMETIME CALENDAR
BEGIN:VTIMEZONE
TZID:America/Chicago
X-LIC-LOCATION:America/Chicago
BEGIN:DAYLIGHT
TZOFFSETFROM:-0600
TZOFFSETTO:-0500
TZNAME:CDT
DTSTART:19700308T020000
RRULE:FREQ=YEARLY;BYMONTH=3;BYDAY=2SU
END:DAYLIGHT
BEGIN:STANDARD
TZOFFSETFROM:-0500
TZOFFSETTO:-0600
TZNAME:CST
DTSTART:19701101T020000
RRULE:FREQ=YEARLY;BYMONTH=11;BYDAY=1SU
END:STANDARD
END:VTIMEZONE
BEGIN:VEVENT
UID:moody-272646@ygametime.com
DTSTAMP:20220115T000000Z
DTSTART;TZID=America/Chicago:20220114T180000
DURATION:PT0H60M0S
SUMMARY:Boone Gilmore  vs Blue Cheetahs 
DESCRIPTION:4th Grade Girls Blue Division | Basketball\nMoody Family YMCA\n
URL;VALUE=URI:https://ygametime.com/branch/moody/sports/2021-winter-basketball/11744/?utm_medium=calendar&utm_source=team_cal&utm_content=league_url#game-272646
LOCATION:Moody North Gym
BEGIN:VALARM
TRIGGER:-P2H
ACTION:DISPLAY
DESCRIPTION:Boone Gilmore  vs Blue Cheetahs 
END:VALARM
END:VEVENT
BEGIN:VEVENT
UID:moody-272655@ygametime.com
DTSTAMP:20220115T200000Z
DTSTART;TZID=America/Chicago:20220115T140000
DURATION:PT0H60M0S
SUMMARY:Blue Cheetahs  vs ESD Buser
DESCRIPTION:4th Grade Girls Blue Division | Basketball\nMoody Family YMCA\n
URL;VALUE=URI:https://ygametime.com/branch/moody/sports/2021-winter-basketball/11744/?utm_medium=calendar&utm_source=team_cal&utm_content=league_url#game-272655
LOCATION:Bradfield Elementary
BEGIN:VALARM
TRIGGER:-P2H
ACTION:DISPLAY
DESCRIPTION:Blue Cheetahs  vs ESD Buser
END:VALARM
END:VEVENT
BEGIN:VEVENT
UID:moody-272659@ygametime.com
DTSTAMP:20220122T190000Z
DTSTART;TZID=America/Chicago:20220122T130000
DURATION:PT0H60M0S
SUMMARY:Hyer Scovell vs Blue Cheetahs 
DESCRIPTION:4th Grade Girls Blue Division | Basketball\nMoody Family YMCA\n
URL;VALUE=URI:https://ygametime.com/branch/moody/sports/2021-winter-basketball/11744/?utm_medium=calendar&utm_source=team_cal&utm_content=league_url#game-272659
LOCATION:Bradfield Elementary
BEGIN:VALARM
TRIGGER:-P2H
ACTION:DISPLAY
DESCRIPTION:Hyer Scovell vs Blue Cheetahs 
END:VALARM
END:VEVENT
BEGIN:VEVENT
UID:moody-272663@ygametime.com
DTSTAMP:20220129T200000Z
DTSTART;TZID=America/Chicago:20220129T140000
DURATION:PT0H60M0S
SUMMARY:Blue Cheetahs  vs BHA Stars
DESCRIPTION:4th Grade Girls Blue Division | Basketball\nMoody Family YMCA\n
URL;VALUE=URI:https://ygametime.com/branch/moody/sports/2021-winter-basketball/11744/?utm_medium=calendar&utm_source=team_cal&utm_content=league_url#game-272663
LOCATION:McCulloch East Gym
BEGIN:VALARM
TRIGGER:-P2H
ACTION:DISPLAY
DESCRIPTION:Blue Cheetahs  vs BHA Stars
END:VALARM
END:VEVENT
END:VCALENDAR

