BEGIN:VCALENDAR
VERSION:2.0
PRODID:-//YGAMETIME.com//YGT iCal Creator//EN
METHOD:PUBLISH
X-PUBLISHED-TTL:PT6H
REFRESH-INTERVAL;VALUE=DURATION:PT6H
CALSCALE:GREGORIAN
X-WR-CALNAME:YGAMETIME CALENDAR
BEGIN:VTIMEZONE
TZID:America/Chicago
X-LIC-LOCATION:America/Chicago
BEGIN:DAYLIGHT
TZOFFSETFROM:-0600
TZOFFSETTO:-0500
TZNAME:CDT
DTSTART:19700308T020000
RRULE:FREQ=YEARLY;BYMONTH=3;BYDAY=2SU
END:DAYLIGHT
BEGIN:STANDARD
TZOFFSETFROM:-0500
TZOFFSETTO:-0600
TZNAME:CST
DTSTART:19701101T020000
RRULE:FREQ=YEARLY;BYMONTH=11;BYDAY=1SU
END:STANDARD
END:VTIMEZONE
BEGIN:VEVENT
UID:moody-272591@ygametime.com
DTSTAMP:20220108T140000Z
DTSTART;TZID=America/Chicago:20220108T080000
DURATION:PT0H60M0S
SUMMARY:Bradfield Miller vs Boone Coady
DESCRIPTION:3rd Grade Girls Blue Division | Basketball\nMoody Family YMCA\n
URL;VALUE=URI:https://ygametime.com/branch/moody/sports/2021-winter-basketball/11740/?utm_medium=calendar&utm_source=team_cal&utm_content=league_url#game-272591
LOCATION:Boone Elementary
BEGIN:VALARM
TRIGGER:-P2H
ACTION:DISPLAY
DESCRIPTION:Bradfield Miller vs Boone Coady
END:VALARM
END:VEVENT
BEGIN:VEVENT
UID:moody-272595@ygametime.com
DTSTAMP:20220115T160000Z
DTSTART;TZID=America/Chicago:20220115T100000
DURATION:PT0H60M0S
SUMMARY:Boone Gold  vs Bradfield Miller
DESCRIPTION:3rd Grade Girls Blue Division | Basketball\nMoody Family YMCA\n
URL;VALUE=URI:https://ygametime.com/branch/moody/sports/2021-winter-basketball/11740/?utm_medium=calendar&utm_source=team_cal&utm_content=league_url#game-272595
LOCATION:Boone Elementary
BEGIN:VALARM
TRIGGER:-P2H
ACTION:DISPLAY
DESCRIPTION:Boone Gold  vs Bradfield Miller
END:VALARM
END:VEVENT
BEGIN:VEVENT
UID:moody-272598@ygametime.com
DTSTAMP:20220122T150000Z
DTSTART;TZID=America/Chicago:20220122T090000
DURATION:PT0H60M0S
SUMMARY:Armstrong Scully vs Bradfield Miller
DESCRIPTION:3rd Grade Girls Blue Division | Basketball\nMoody Family YMCA\n
URL;VALUE=URI:https://ygametime.com/branch/moody/sports/2021-winter-basketball/11740/?utm_medium=calendar&utm_source=team_cal&utm_content=league_url#game-272598
LOCATION:Boone Elementary
BEGIN:VALARM
TRIGGER:-P2H
ACTION:DISPLAY
DESCRIPTION:Armstrong Scully vs Bradfield Miller
END:VALARM
END:VEVENT
BEGIN:VEVENT
UID:moody-272601@ygametime.com
DTSTAMP:20220129T150000Z
DTSTART;TZID=America/Chicago:20220129T090000
DURATION:PT0H60M0S
SUMMARY:Bradfield Miller vs Boone Mitchell
DESCRIPTION:3rd Grade Girls Blue Division | Basketball\nMoody Family YMCA\n
URL;VALUE=URI:https://ygametime.com/branch/moody/sports/2021-winter-basketball/11740/?utm_medium=calendar&utm_source=team_cal&utm_content=league_url#game-272601
LOCATION:Boone Elementary
BEGIN:VALARM
TRIGGER:-P2H
ACTION:DISPLAY
DESCRIPTION:Bradfield Miller vs Boone Mitchell
END:VALARM
END:VEVENT
BEGIN:VEVENT
UID:moody-272603@ygametime.com
DTSTAMP:20220212T150000Z
DTSTART;TZID=America/Chicago:20220212T090000
DURATION:PT0H60M0S
SUMMARY:UP-Waldron vs Bradfield Miller
DESCRIPTION:3rd Grade Girls Blue Division | Basketball\nMoody Family YMCA\n
URL;VALUE=URI:https://ygametime.com/branch/moody/sports/2021-winter-basketball/11740/?utm_medium=calendar&utm_source=team_cal&utm_content=league_url#game-272603
LOCATION:Boone Elementary
BEGIN:VALARM
TRIGGER:-P2H
ACTION:DISPLAY
DESCRIPTION:UP-Waldron vs Bradfield Miller
END:VALARM
END:VEVENT
END:VCALENDAR

