BEGIN:VCALENDAR
VERSION:2.0
PRODID:-//YGAMETIME.com//YGT iCal Creator//EN
METHOD:PUBLISH
X-PUBLISHED-TTL:PT6H
REFRESH-INTERVAL;VALUE=DURATION:PT6H
CALSCALE:GREGORIAN
X-WR-CALNAME:YGAMETIME CALENDAR
BEGIN:VTIMEZONE
TZID:America/Chicago
X-LIC-LOCATION:America/Chicago
BEGIN:DAYLIGHT
TZOFFSETFROM:-0600
TZOFFSETTO:-0500
TZNAME:CDT
DTSTART:19700308T020000
RRULE:FREQ=YEARLY;BYMONTH=3;BYDAY=2SU
END:DAYLIGHT
BEGIN:STANDARD
TZOFFSETFROM:-0500
TZOFFSETTO:-0600
TZNAME:CST
DTSTART:19701101T020000
RRULE:FREQ=YEARLY;BYMONTH=11;BYDAY=1SU
END:STANDARD
END:VTIMEZONE
BEGIN:VEVENT
UID:moody-272605@ygametime.com
DTSTAMP:20220108T180000Z
DTSTART;TZID=America/Chicago:20220108T120000
DURATION:PT0H60M0S
SUMMARY:Providence Bozman vs Hyer Pacholski
DESCRIPTION:3rd Grade Girls Red Division | Basketball\nMoody Family YMCA\n
URL;VALUE=URI:https://ygametime.com/branch/moody/sports/2021-winter-basketball/11741/?utm_medium=calendar&utm_source=team_cal&utm_content=league_url#game-272605
LOCATION:Boone Elementary
BEGIN:VALARM
TRIGGER:-P2H
ACTION:DISPLAY
DESCRIPTION:Providence Bozman vs Hyer Pacholski
END:VALARM
END:VEVENT
BEGIN:VEVENT
UID:moody-272615@ygametime.com
DTSTAMP:20220122T190000Z
DTSTART;TZID=America/Chicago:20220122T130000
DURATION:PT0H60M0S
SUMMARY:Bradfield Petet vs Hyer Pacholski
DESCRIPTION:3rd Grade Girls Red Division | Basketball\nMoody Family YMCA\n
URL;VALUE=URI:https://ygametime.com/branch/moody/sports/2021-winter-basketball/11741/?utm_medium=calendar&utm_source=team_cal&utm_content=league_url#game-272615
LOCATION:Boone Elementary
BEGIN:VALARM
TRIGGER:-P2H
ACTION:DISPLAY
DESCRIPTION:Bradfield Petet vs Hyer Pacholski
END:VALARM
END:VEVENT
BEGIN:VEVENT
UID:moody-272612@ygametime.com
DTSTAMP:20220129T000000Z
DTSTART;TZID=America/Chicago:20220128T180000
DURATION:PT0H60M0S
SUMMARY:Hyer Pacholski vs Providence Adams
DESCRIPTION:3rd Grade Girls Red Division | Basketball\nMoody Family YMCA\n
URL;VALUE=URI:https://ygametime.com/branch/moody/sports/2021-winter-basketball/11741/?utm_medium=calendar&utm_source=team_cal&utm_content=league_url#game-272612
LOCATION:Moody North Gym
BEGIN:VALARM
TRIGGER:-P2H
ACTION:DISPLAY
DESCRIPTION:Hyer Pacholski vs Providence Adams
END:VALARM
END:VEVENT
BEGIN:VEVENT
UID:moody-272618@ygametime.com
DTSTAMP:20220129T180000Z
DTSTART;TZID=America/Chicago:20220129T120000
DURATION:PT0H60M0S
SUMMARY:Hyer Pacholski vs Hyer Lackowski
DESCRIPTION:3rd Grade Girls Red Division | Basketball\nMoody Family YMCA\n
URL;VALUE=URI:https://ygametime.com/branch/moody/sports/2021-winter-basketball/11741/?utm_medium=calendar&utm_source=team_cal&utm_content=league_url#game-272618
LOCATION:Boone Elementary
BEGIN:VALARM
TRIGGER:-P2H
ACTION:DISPLAY
DESCRIPTION:Hyer Pacholski vs Hyer Lackowski
END:VALARM
END:VEVENT
BEGIN:VEVENT
UID:moody-272621@ygametime.com
DTSTAMP:20220212T190000Z
DTSTART;TZID=America/Chicago:20220212T130000
DURATION:PT0H60M0S
SUMMARY:Hyer-Schulte vs Hyer Pacholski
DESCRIPTION:3rd Grade Girls Red Division | Basketball\nMoody Family YMCA\n
URL;VALUE=URI:https://ygametime.com/branch/moody/sports/2021-winter-basketball/11741/?utm_medium=calendar&utm_source=team_cal&utm_content=league_url#game-272621
LOCATION:Boone Elementary
BEGIN:VALARM
TRIGGER:-P2H
ACTION:DISPLAY
DESCRIPTION:Hyer-Schulte vs Hyer Pacholski
END:VALARM
END:VEVENT
END:VCALENDAR

